{"text_format":"1","workbook":"xlsx","n_sheets":17,"sheets":["Version History","Instructions","Set UP","Wet Incident","Dry Incident","Extra Event","RopeThrow","Swim&Tow","Medley","Manikin Carry","Obstacle","Competition Places","A Places","B Places","Freshers Places","Competition Results","League Results"],"not_rendered":{"charts":0,"images":0,"macros":1,"external_links":0,"defined_names":10,"comments":0,"pivot_tables":0},"unopened":[],"bounds":{"document_bytes":16777216,"sheet_cells":100000,"rows_first":2000,"rows_last":500,"rows_between":2000,"halvings":0,"cell_chars":16384,"cell_head_chars":4096},"cells_cut":0,"cells_raw":0,"read":"whole","date_system":"1900"}

{"sheet":"Version History","index":0,"n_rows":63,"n_cols":3,"rows_kept":63,"cut":false,"hidden":false,"merged":[]}
[]
[]
[null,null,"Version History"]
[]
[null,null,"Version 6"]
[null,null,"\nDate: January 2006"]
[null,null,"Status: First released to British Universities Lifesaving Association to be downloadable from the website."]
[null,null,"Written By: Simon Harrison"]
[]
[null,null,"Version 7"]
[null,null,"\nDate: 25th February 2006"]
[null,null,"\nChange Requested By: Steven Tedds (Birmingham)"]
[null,null,"Problem / Change Request: Stu Richardson has come across something with regard to the competition scoresheet. \nApparently at the moment it places any team that has been disqualified into last place.  So, if there is only one team has been disqualified then this is fine. \nHowever, if more than one team is disqualified they are all awarded last place - for example at Nottingham, 3 teams were disqualified for one of the events and were all awarded 27th place - but these 3 should all have been given joint 25th (rather than having no team come 25th or 26th and then 3 teams with 27th) - does this makes sense? "]
[null,null,"\nStatus: This problem has been fixed in Version 7."]
[null,null,"Ammended By: Simon Harrison"]
[]
[null,null,"Version 8"]
[null,null,"\nDate: 27th February 2006"]
[null,null,"\nChange Requested By: Steven Tedds (Birmingham)"]
[null,null,"Problem / Change Request: There is a problem with the swim event scoresheets and the rope throw scoresheet.  The problem is concerning the allocation of DQ places and DNF places.  If there is more than one team occupying a place just before the DNF/DQ places, then the DNF/DQ places are allocated wrong.  For example, if the final three teams that finished an event have the same time (after allocation of any penalties) and occupied joint 10th place, then one would expect the next DQ/DNF team(s) to be in 13th place.  However, the scoresheet is placing the next DQ/DNF team in 11th place, which is incorrect.  "]
[null,null,"\nStatus: This problem has been fixed in Version 8."]
[null,null,"Ammended By: Simon Harrison"]
[]
[null,null,"Version 9"]
[null,null,"\nDate: 12th October 2008"]
[null,null,"\nChange Requested By: Dom Roberton (Southampton) and Oliver Coleman (Birmingham)"]
[null,null,"Changes: The \"Teams\" worksheet has been updated to allow users to enter a website number (for the database) and a team class i.e. student, fresher or old boys.  These are copied onto every other sheet automatically.\nThe incident sheets have been completely overhauled to allow more information to be entered from the judges sheet.  The method in which the places for the incidents are calculated has been simplified.  Macros are no longer used on these sheets and instead built in excel functions are used.\nSwim&Tow, SpeedEvent1 and SpeedEvent2 sheets have been updated to make the place calculation more simple.  Macros are no longer used.\nProvision for old boys and freshers teams has been included.  Several new results and places spreadsheets have been created for this purpose.\n"]
[null,null,"\nAmmended By: Simon Harrison"]
[]
[null,null,"Version 9.1"]
[null,null,"\nDate: 2nd February 2009"]
[null,null,"\nChange Requested By: Laura Thompson (Birmingham)"]
[null,null,"Changes: To allow for 3 speed to be run in the same competition. The sorting and place calculation method calls were altered to accommodate this."]
[null,null,"\nAmended By: Oliver Coleman"]
[]
[null,null,"Version 9.2"]
[null,null,"\nDate: 2nd February 2009"]
[null,null,"\nChange Requested By: Oliver Coleman (Birmingham, Web Officer 2008/2009)"]
[null,null,"Changes: Provision for Non-Student and Non-Counting Student Teams has now been allowed for, Changed from anusing if's to using vlookup instead"]
[null,null,"\nAmended By: Oliver Coleman"]
[]
[null,null,"Version 9.3"]
[null,null,"\nDate: 1st April 2009"]
[null,null,"\nChange Requested By: Helen Killingley (Championships Co-Ordinator 2008/2009)"]
[null,null,"Changes: To amend the dry weighting calculation as it was linked ot the wet weighting not the dry. Discovered at the 2009 BULSCA championships."]
[null,null,"\nAmended By: Oliver Coleman"]
[]
[null,null,"Version 10.0"]
[null,null,"\nDate: 3rd May 2009 "]
[null,null,"\nChange Requested By: BULSCA General Committee"]
[null,null,"Changes: Change Scoring to reflect the new League Scoring System as of the 2009/2010 Season.\nAlso to incorporate the Swim and tow time Penalties for out side of the percentage errors"]
[null,null,"\nAmended By: Oliver Coleman"]
[]
[null,null,"\nChange Requested By: Oliver Coleman (Birmingham, Web Officer 2009/2010)"]
[null,null,"Changes: Have a Set up sheet with the details of weightings for different Event included on it"]
[null,null,"\nAmended By: Oliver Coleman"]
[]
[null,null,"\nChange Requested By: Oliver Coleman (Birmingham, Web Officer 2009/2010)"]
[null,null,"Changes: Remove the need to click sheet to run nessessary macros all now built in"]
[null,null,"\nAmended By: Oliver Coleman"]
[null,null,"\nChange Requested By: Oliver Coleman (Birmingham, Web Officer 2009/2010)"]
[null,null,"Changes: Prevent Accidental Deletion by Locking sheet as they are Opened"]
[null,null,"\nAmended By: Oliver Coleman"]

{"sheet":"Instructions","index":1,"n_rows":66,"n_cols":3,"rows_kept":66,"cut":false,"hidden":false,"merged":[]}
[]
[]
[null,null,"British Universities Competition Scoresheet Instructions"]
[]
[null,null,"When opening this spreadsheet ensure you select the 'ENABLE MACRO'S' option."]
[]
[null,null,"General"]
[null,null,"Enter data in white cells only.  All coloured cells (yellow or green) are updated automatically."]
[null,null,"During a competition remember to save this file regularly to both your hard disk and a floppy disk/USB pejn."]
[null,null,"Never Copy and Paste opn any sheets."]
[]
[null,null,"Set Up  Sheet"]
[null,null,"Enter the Club Name,Team Letter, website number, Swim Tow Time and the class of the teams in this sheet.  These are automatically copied from here onto every other sheet."]
[null,null,"In all of the sheets, any scores or times that are entered in cells that do not the above are ignored."]
[null,null,"Enter the weighting for each of the events at the side of the sheet. These are copied to the relevent palces automatically."]
[]
[null,null,"Incident Sheets"]
[null,null,"For each judge, enter a description of what they are marking, their mark categories and the associated weightings in the white boxes provided. "]
[null,null,"Enter each of the judges scores into this sheet.  "]
[null,null,"A blank cell is treated as a zero.  However, for a team to be given a score and a position, one of the judges score cells must contain a number, even if it is a zero."]
[null,null,"The judges scores are added up automatically to give the total score."]
[]
[null,null,"RopeThrow Sheet"]
[null,null,"Assuming a team has finished, the seconds and the 1/100 second cells under the stopwatch time must be filled in.  The minutes cell is optional."]
[null,null,"If a team did not finish or were disqualified, leave the stopwatch time empty."]
[null,null,"Next select the finish status from the pull down list:"]
[null,null,"          Finished - All persons successfully pulled in"]
[null,null,"          DNF3 Persons In - Did not finish in time, 3 persons pulled in"]
[null,null,"          DNF2 Persons In - Did not finish in time, 2 persons pulled in"]
[null,null,"          DNF1 Persons In - Did not finish in time, 1 person pulled in"]
[null,null,"          DNF0 Persons In - Did not finish in time, no one pulled in"]
[null,null,"          Disqualified - The team was completely disqualified and will be placed last in this event."]
[null,null,"Finally enter the number of penalties the team received in the penalties cell.  A blank cell is treated as zero.  "]
[null,null,"Each penalty will result in the team being penalised by discounting one of  the “casualties” successfully pulled in."]
[null,null,"Penalties are not taken into consideration for teams who were disqualified. "]
[null,null,"If a team fails to finish within the allotted time, they will be ranked according to the median position of all teams that had successfully pulled in the same number of competitors, after the application of any penalties."]
[null,null,"The positions are calculated automatically when opening the sheet i.e. clicking on the tab at the bottom or by entering the Places or Results Sheets"]
[]
[null,null,"Swim & Tow, Meldey,Manikin Carry and Obstacle Sheets"]
[null,null,"Enter the penalty size and The Swim and Tow margin Allowed into the top of the sheet."]
[null,null,"Agree with the judges the number of seconds per penalty and insert this into the penalty time cell at the top of the sheet."]
[null,null,"The seconds and the 1/100 second cells under the stopwatch time must be filled in.  The minutes cell is optional."]
[null,null,"Select the finish status from the pull down list.  This must be filled in."]
[null,null,"Finally enter the number of penalties the team received in the penalties cell.  A blank cell is treated as zero.  "]
[null,null,"The number of penalties is multiplied by the penalty time and added onto the stopwatch time to give the total time."]
[null,null,"Penalties are not taken into consideration for teams who were disqualified. "]
[]
[null,null,"Competition Results and League Results Sheets"]
[null,null,"Competition Results = The results are based on all classes of team i.e. Student, Fresher and Old Boys."]
[null,null,"League Results = This sheet is only for Calculations"]
[]
[null,null,"Enter the weighting for each of the events at the top of the sheet.  The weightings must be decided before the start of the competition and declared to all competing teams."]
[null,null,"All other information is automatically copied from the other sheets.  Therefore it is imperative to ensure all the other sheets are up to date."]
[null,null,"The final positions are calculated automatically when opening the sheet i.e. clicking on the tab at the bottom."]
[null,null,"If teams have an equal sum of total positions, then the wet incident score is taken into account to determine the final results."]
[]
[null,null,"Places Sheet"]
[null,null,"This sheet automatically sorts the teams into final place order from the information contained in the results sheet.  "]
[]
[]
[null,null,"Competition Places = Students, Freshers and Old Boys and Non-Counting Teams"]
[null,null,"A League Places = A Team that are also Students or Freshers"]
[null,null,"B League Places = Non-A Team that are also Students or Freshers"]
[null,null,"Freshers Places = Freshers Only who where also not A Teams"]
[]
[null,null,"Copyright Simon Harrison 2008, Oliver Coleman 2009"]

{"sheet":"Set UP","index":2,"n_rows":46,"n_cols":19,"rows_kept":46,"cut":false,"hidden":false,"merged":[[4,6,4,7]]}
[]
[]
[null,null,"Teams",null,null,null,null,null,null,null,null,null,null,null,null,null,"Scoring"]
[]
[null,null,"Website \nNumber","Club","Team","Class (F, S, OB,NS,NC)","Swim and Tow",null,"Time in Seconds",null,null,"Class",null,"must be in aphabetically order",null,null,"Event","League \nWeighting","Compettion \nWeighting"]
[null,null,null,null,null,null,"mins","secs",null,null,null,null,null,null,null,null,"Wet Incident",2,2]
[null,1,537,"Heanor","A","NS",0,0,{"$f":"G7*60+H7","v":0},null,{"$f":"IF(OR(F7=0,E7=0,D7=0,C7=0),-1,VLOOKUP(F7,N$7:O$11,2)+IF(OR(E7=\"A\",E7=\"a\",VLOOKUP(F7,N$7:O$11,2)=0),0,1))","v":0},"F = Fresher",null,"F",1,null,"Dry Incident",2,2]
[null,2,483,"University of Cambridge","C","S",9,0,{"$f":"G8*60+H8","v":540},null,{"$f":"IF(OR(F8=0,E8=0,D8=0,C8=0),-1,VLOOKUP(F8,N$7:O$11,2)+IF(OR(E8=\"A\",E8=\"a\",VLOOKUP(F8,N$7:O$11,2)=0),0,1))","v":2},"S = Student",null,"NC",0,null,"Rope Throw",1,1]
[null,3,474,"University of Cambridge","B","S",8,40,520,null,2,"OB = Old Boys",null,"NS",0,null,"Swim and Tow",1,1]
[null,4,513,"University of Warwick","D","S",8,30,510,null,2,"NS=Non Student Team",null,"OB",0,null,"Medley",1,1]
[null,5,499,"University of St Andrews","B","NC",8,30,510,null,0,"NC=Non -Counting Student Team",null,"S",1,null,"Manikin Carry",0,0]
[null,6,507,"University of Plymouth","C","S",8,30,510,null,2,null,null,null,null,null,"Obstacle",0,0]
[null,7,519,"University of Aberdeen","B","NC",8,30,510,null,0,null,null,null,null,null,"Extra Event",0,1]
[null,8,532,"University of London Union","E","S",8,10,490,null,2]
[null,9,530,"University of London Union","C","S",8,10,490,null,2]
[null,10,506,"University of Plymouth","B","S",8,0,480,null,2]
[null,11,518,"University of Aberdeen","A","S",7,55,475,null,1]
[null,12,538,"University of Southampton","C","S",7,45,465,null,2]
[null,13,515,"Loughborough University","C","S",7,50,470,null,2]
[null,14,520,"Loughborough University","D","NS",8,0,480,null,0]
[null,15,512,"University of Warwick","C","NC",8,10,490,null,0]
[null,16,531,"University of London Union","D","NC",8,10,490,null,0]
[null,17,471,"University of Cambridge","A","S",7,40,460,null,1]
[null,18,522,"University of Birmingham","B","S",7,24,444,null,2]
[null,19,498,"University of St Andrews","A","S",7,20,440,null,1]
[null,20,535,"University of Birmingham","A","S",7,5,425,null,1]
[null,21,508,"University of Nottingham","A","S",7,10,430,null,1]
[null,22,528,"University of London Union","B","S",7,20,440,null,2]
[null,23,511,"University of Warwick","B","S",7,30,450,null,2]
[null,24,509,"University of Nottingham","B","S",7,45,465,null,2]
[null,25,517,"Loughborough University","B","S",6,50,410,null,2]
[null,26,534,"University of Southampton","B","S",6,50,410,null,2]
[null,27,479,"Loughborough University","A","S",6,10,370,null,1]
[null,28,545,"Colwick Park","A","NS",5,59,359,null,0]
[null,29,533,"University of Southampton","A","S",6,0,360,null,1]
[null,30,523,"University of London Union","A","S",6,50,410,null,1]
[null,31,505,"University of Plymouth","A","S",6,50,410,null,1]
[null,32,510,"University of Warwick","A","S",7,0,420,null,1]
[null,33,null,null,null,null,null,null,0,null,-1]
[null,34,null,null,null,null,null,null,0,null,-1]
[null,35,null,null,null,null,null,null,0,null,-1]
[null,36,null,null,null,null,null,null,0,null,-1]
[null,37,null,null,null,null,null,null,0,null,-1]
[null,38,null,null,null,null,null,null,0,null,-1]
[null,39,null,null,null,null,null,null,0,null,-1]
[null,40,null,null,null,null,null,null,0,null,-1]

{"sheet":"Wet Incident","index":3,"n_rows":48,"n_cols":81,"rows_kept":48,"cut":false,"hidden":false,"merged":[[3,38,3,48],[4,27,4,37],[4,38,4,48],[5,15,7,15],[5,26,7,26],[3,5,3,15],[4,5,4,15],[3,16,3,26],[4,16,4,26],[5,37,7,37],[3,27,3,37],[5,48,7,48],[5,71,7,71],[5,59,7,59],[4,60,4,71],[3,80,7,80],[3,78,7,78],[3,77,7,77],[3,76,7,76],[3,79,7,79],[3,75,7,75],[3,60,3,71],[3,49,3,59],[4,49,4,59]]}
[]
[]
[null,null,null,{"$f":"'Set UP'!Q6","v":"Wet Incident"}]
[null,null,null,null,null,"JUDGE 1",null,null,null,null,null,null,null,null,null,null,"JUDGE 2",null,null,null,null,null,null,null,null,null,null,"JUDGE 3",null,null,null,null,null,null,null,null,null,null,"JUDGE 4",null,null,null,null,null,null,null,null,null,null,"JUDGE 5",null,null,null,null,null,null,null,null,null,null,"JUDGE 6",null,null,null,null,null,null,null,null,null,null,null,null,null,null,"¬ OVERALL TOTAL","¬ POSITION (COMPETITION)","¬ OVERALL (A LEAGUE RANK)","¬ POSITION ( A LEAGUE)","¬ OVERALL (B LEAGUE RANK)","POSITION ( BLEAGUE)"]
[null,null,null,null,null,"Captaincy & Overall",null,null,null,null,null,null,null,null,null,null,"Casualty No. 1 (hand injury) & Casualty No. 2 (hyperventilation)",null,null,null,null,null,null,null,null,null,null,"Casualty No. 3 (heart attack) & Casualty No. 4 (unconscious non breathing child)",null,null,null,null,null,null,null,null,null,null,"Casualty No. 6 (weak swimmer) , Casualty No. 9 (non-swimmer) & Casualty No. 5 (lifeguard)",null,null,null,null,null,null,null,null,null,null,"Casualty No. 7 (head injury) & Casualty No. 8 (arm injury)",null,null,null,null,null,null,null,null,null,null,"Phone"]
[null,null,null,null,null,"Effective control of the scenario","Effective communication","Effective prioritisation of the casualties","Effective captaincy","Effective teamwork",null,null,null,null,null,"¬ JUDGE 1  TOTAL","Identification & assessment of casualty No.1","Early Treatment (pressure/elevate)","Use of gloves (one glove or two gloves, completely on, etc.)","Quality of treatment (including use of bandages/sling)","Aftercare ","Initial assessment & reassessment of casualty No. 2","Effective Treatment","Aftercare",null,null,"¬ JUDGE 2  TOTAL","Information gathered from casualty No. 3","Reassurance of casualty No. 3","Fast and effective treatment of heart attack (time to treatment after chest pains occur)","Relaying requirement for an ambulance (phone) Yes (10) or no(0)?","Heart attack triggered? Yes (0) or no(10)? (Award zero marks (0) if casualty No. 3 was ignored","Identification & effective rescue of casualty No.4","Assessment of casualty No.4","Early CPR (time to first breath)","Effective of CPR of casualty No.4 (including rescue breaths, continued CPR and use of pocket mask)",null,"¬ JUDGE 3  TOTAL","Identification & speed of rescue of casualty No.6","Safe and effective rescue (including use of aids)","Aftercare","Identification & speed of rescue of casualty No.9","Safe and effective rescue (including use of aids)","Aftercare","Recognition of lifeguard (No. 5) (including communication with the lifeguard)","Averting danger to competitor through use of lifeguard in a rescue (e.g. non-swimmer (high danger), phone (low danger))",null,null,"¬ JUDGE 4  TOTAL","Identification & speed of rescue of casualty No.7","Safe and effective rescue (including use of aids)","Treatment","Aftercare","Identification & speed of rescue of casualty No.8","Safe and effective rescue (including use of aids)","Treatment","Aftercare",null,null,"¬ JUDGE 5  TOTAL","Sending for a phone? (10 if Yes, 0 if No)","What is the service you require?","What is the exact location of the incident?","What has happened? ","How many people are involved? ","What is the condition of the casualties?","How many trained rescuer’s are there?","What work has been undertaken to help the casualties?","Are the any dangers or hazards present? ","What is your name?","Any other useful info? ","¬ JUDGE 6  TOTAL"]
[null,null,null,null,"MARK WEIGHTING →",1,2.5,3,1,1,null,null,null,null,null,null,1,1,1,2,0.5,1.5,2,0.5,null,null,null,1,2,2.5,0.5,0.5,1,1,1,3,null,null,2,2.5,0.5,2.5,3,0.5,0.5,1,null,null,null,1,2,1,1,0.5,1.5,0.5,0.5,null,null,null,1,0.5,1,1,1,3,0.5,1,0.5,null,0.5]
[null,null,"WEB","TEAM","CLASS"]
[null,1,{"$f":"IF(OR('Set UP'!$C7=0,'Set UP'!$D7=0,'Set UP'!$E7=0,'Set UP'!F7=0),\"  --\",'Set UP'!C7)","v":537},{"$f":"IF(OR('Set UP'!$C7=0,'Set UP'!$D7=0,'Set UP'!$E7=0,'Set UP'!F7=0),\"  --\",'Set UP'!D7&\" \"&'Set UP'!E7)","v":"Heanor A"},{"$f":"IF(OR('Set UP'!$C7=0,'Set UP'!$D7=0,'Set UP'!$E7=0,'Set UP'!F7=0),\"  --\",'Set UP'!F7)","v":"NS"},4,4,4,5,3,null,null,null,null,null,{"$f":"IF(OR('Set UP'!$C7=0,'Set UP'!$D7=0,'Set UP'!$E7=0),\"\",(F$7*F9)+(G$7*G9)+(H$7*H9)+(I$7*I9)+(J$7*J9)+(K$7*K9)+(L$7*L9)+(M$7*M9)+(N$7*N9)+(O$7*O9))","v":34},5,6,0,2,0,4,6,3,null,null,{"$f":"IF(OR('Set UP'!$C7=0,'Set UP'!$D7=0,'Set UP'!$E7=0),\"\",(Q$7*Q9)+(R$7*R9)+(S$7*S9)+(T$7*T9)+(U$7*U9)+(V$7*V9)+(W$7*W9)+(X$7*X9)+(Y$7*Y9)+(Z$7*Z9))","v":34.5},4,2,4,0,0,8,6,0,0,null,{"$f":"IF(OR('Set UP'!$C7=0,'Set UP'!$D7=0,'Set UP'!$E7=0),\"\",(AB$7*AB9)+(AC$7*AC9)+(AD$7*AD9)+(AE$7*AE9)+(AF$7*AF9)+(AG$7*AG9)+(AH$7*AH9)+(AI$7*AI9)+(AJ$7*AJ9)+(AK$7*AK9))","v":32},5,6,0,5,6,0,0,0,null,null,{"$f":"IF(OR('Set UP'!$C7=0,'Set UP'!$D7=0,'Set UP'!$E7=0),\"\",(AM$7*AM9)+(AN$7*AN9)+(AO$7*AO9)+(AP$7*AP9)+(AQ$7*AQ9)+(AR$7*AR9)+(AS$7*AS9)+(AT$7*AT9)+(AU$7*AU9)+(AV$7*AV9))","v":55.5},9,8,4,0,8,8,6,0,null,null,{"$f":"IF(OR('Set UP'!$C7=0,'Set UP'!$D7=0,'Set UP'!$E7=0),\"\",(AX$7*AX9)+(AY$7*AY9)+(AZ$7*AZ9)+(BA$7*BA9)+(BB$7*BB9)+(BC$7*BC9)+(BD$7*BD9)+(BE$7*BE9)+(BF$7*BF9)+(BG$7*BG9))","v":48},0,null,null,null,null,null,null,null,null,null,null,{"$f":"IF(OR('Set UP'!$C7=0,'Set UP'!$D7=0,'Set UP'!$E7=0),\"\",(BI$7*BI9)+(BJ$7*BJ9)+(BK$7*BK9)+(BL$7*BL9)+(BM$7*BM9)+(BN$7*BN9)+(BO$7*BO9)+(BP$7*BP9)+(BQ$7*BQ9)+(BR$7*BR9)+(BS$7*BS9))","v":0},null,null,null,{"$f":"IF(OR('Set UP'!$C7=0,'Set UP'!$D7=0,'Set UP'!$E7=0),\"\",(P9+AA9+AL9+AW9+BH9+BT9))","v":204},{"$f":"IF(OR('Set UP'!$C7=0,'Set UP'!$D7=0,'Set UP'!$E7=0),\"\",RANK(BX9,$BX$9:$BX$48,0))","v":10},{"$f":"IF(OR('Set UP'!K7<>1,'Set UP'!C7=0,'Set UP'!D7=0,'Set UP'!E7=0,'Set UP'!F7=0),\"\",$BX9)","v":""},{"$f":"IF(OR('Set UP'!K7<>1,'Set UP'!C7=0,'Set UP'!D7=0,'Set UP'!E7=0,'Set UP'!F7=0),\"\",RANK(BZ9,$BZ$9:$BZ$48,0))","v":""},{"$f":"IF(OR('Set UP'!K7<>2,'Set UP'!C7=0,'Set UP'!D7=0,'Set UP'!E7=0,'Set UP'!F7=0),\"\",$BX9)","v":""},{"$f":"IF(OR('Set UP'!K7<>2,'Set UP'!C7=0,'Set UP'!D7=0,'Set UP'!E7=0,'Set UP'!F7=0),\"\",RANK(CB9,$CB$9:$CB$48,0))","v":""}]
[null,2,{"$f":"IF(OR('Set UP'!$C8=0,'Set UP'!$D8=0,'Set UP'!$E8=0,'Set UP'!F8=0),\"  --\",'Set UP'!C8)","v":483},{"$f":"IF(OR('Set UP'!$C8=0,'Set UP'!$D8=0,'Set UP'!$E8=0,'Set UP'!F8=0),\"  --\",'Set UP'!D8&\" \"&'Set UP'!E8)","v":"University of Cambridge C"},{"$f":"IF(OR('Set UP'!$C8=0,'Set UP'!$D8=0,'Set UP'!$E8=0,'Set UP'!F8=0),\"  --\",'Set UP'!F8)","v":"S"},5,1,2,1,4,null,null,null,null,null,{"$f":"IF(OR('Set UP'!$C8=0,'Set UP'!$D8=0,'Set UP'!$E8=0),\"\",(F$7*F10)+(G$7*G10)+(H$7*H10)+(I$7*I10)+(J$7*J10)+(K$7*K10)+(L$7*L10)+(M$7*M10)+(N$7*N10)+(O$7*O10))","v":18.5},3,2,0,1,0,4,5,0,null,null,{"$f":"IF(OR('Set UP'!$C8=0,'Set UP'!$D8=0,'Set UP'!$E8=0),\"\",(Q$7*Q10)+(R$7*R10)+(S$7*S10)+(T$7*T10)+(U$7*U10)+(V$7*V10)+(W$7*W10)+(X$7*X10)+(Y$7*Y10)+(Z$7*Z10))","v":23},0,0,0,0,0,0,0,0,0,null,{"$f":"IF(OR('Set UP'!$C8=0,'Set UP'!$D8=0,'Set UP'!$E8=0),\"\",(AB$7*AB10)+(AC$7*AC10)+(AD$7*AD10)+(AE$7*AE10)+(AF$7*AF10)+(AG$7*AG10)+(AH$7*AH10)+(AI$7*AI10)+(AJ$7*AJ10)+(AK$7*AK10))","v":0},5,5,2,5,6,3,3,6,null,null,{"$f":"IF(OR('Set UP'!$C8=0,'Set UP'!$D8=0,'Set UP'!$E8=0),\"\",(AM$7*AM10)+(AN$7*AN10)+(AO$7*AO10)+(AP$7*AP10)+(AQ$7*AQ10)+(AR$7*AR10)+(AS$7*AS10)+(AT$7*AT10)+(AU$7*AU10)+(AV$7*AV10))","v":63},5,4,8,5,5,6,0,0,null,null,{"$f":"IF(OR('Set UP'!$C8=0,'Set UP'!$D8=0,'Set UP'!$E8=0),\"\",(AX$7*AX10)+(AY$7*AY10)+(AZ$7*AZ10)+(BA$7*BA10)+(BB$7*BB10)+(BC$7*BC10)+(BD$7*BD10)+(BE$7*BE10)+(BF$7*BF10)+(BG$7*BG10))","v":37.5},0,null,null,null,null,null,null,null,null,null,null,{"$f":"IF(OR('Set UP'!$C8=0,'Set UP'!$D8=0,'Set UP'!$E8=0),\"\",(BI$7*BI10)+(BJ$7*BJ10)+(BK$7*BK10)+(BL$7*BL10)+(BM$7*BM10)+(BN$7*BN10)+(BO$7*BO10)+(BP$7*BP10)+(BQ$7*BQ10)+(BR$7*BR10)+(BS$7*BS10))","v":0},null,null,null,{"$f":"IF(OR('Set UP'!$C8=0,'Set UP'!$D8=0,'Set UP'!$E8=0),\"\",(P10+AA10+AL10+AW10+BH10+BT10))","v":142},{"$f":"IF(OR('Set UP'!$C8=0,'Set UP'!$D8=0,'Set UP'!$E8=0),\"\",RANK(BX10,$BX$9:$BX$48,0))","v":29},{"$f":"IF(OR('Set UP'!K8<>1,'Set UP'!C8=0,'Set UP'!D8=0,'Set UP'!E8=0,'Set UP'!F8=0),\"\",$BX10)","v":""},{"$f":"IF(OR('Set UP'!K8<>1,'Set UP'!C8=0,'Set UP'!D8=0,'Set UP'!E8=0,'Set UP'!F8=0),\"\",RANK(BZ10,$BZ$9:$BZ$48,0))","v":""},{"$f":"IF(OR('Set UP'!K8<>2,'Set UP'!C8=0,'Set UP'!D8=0,'Set UP'!E8=0,'Set UP'!F8=0),\"\",$BX10)","v":142},{"$f":"IF(OR('Set UP'!K8<>2,'Set UP'!C8=0,'Set UP'!D8=0,'Set UP'!E8=0,'Set UP'!F8=0),\"\",RANK(CB10,$CB$9:$CB$48,0))","v":14}]
[null,3,{"$f":"IF(OR('Set UP'!$C9=0,'Set UP'!$D9=0,'Set UP'!$E9=0,'Set UP'!F9=0),\"  --\",'Set UP'!C9)","v":474},{"$f":"IF(OR('Set UP'!$C9=0,'Set UP'!$D9=0,'Set UP'!$E9=0,'Set UP'!F9=0),\"  --\",'Set UP'!D9&\" \"&'Set UP'!E9)","v":"University of Cambridge B"},{"$f":"IF(OR('Set UP'!$C9=0,'Set UP'!$D9=0,'Set UP'!$E9=0,'Set UP'!F9=0),\"  --\",'Set UP'!F9)","v":"S"},3,1,1,2,1,null,null,null,null,null,{"$f":"IF(OR('Set UP'!$C9=0,'Set UP'!$D9=0,'Set UP'!$E9=0),\"\",(F$7*F11)+(G$7*G11)+(H$7*H11)+(I$7*I11)+(J$7*J11)+(K$7*K11)+(L$7*L11)+(M$7*M11)+(N$7*N11)+(O$7*O11))","v":11.5},4,4,0,1,0,4,2,0,null,null,{"$f":"IF(OR('Set UP'!$C9=0,'Set UP'!$D9=0,'Set UP'!$E9=0),\"\",(Q$7*Q11)+(R$7*R11)+(S$7*S11)+(T$7*T11)+(U$7*U11)+(V$7*V11)+(W$7*W11)+(X$7*X11)+(Y$7*Y11)+(Z$7*Z11))","v":20},2,1,0,0,0,0,0,0,0,null,{"$f":"IF(OR('Set UP'!$C9=0,'Set UP'!$D9=0,'Set UP'!$E9=0),\"\",(AB$7*AB11)+(AC$7*AC11)+(AD$7*AD11)+(AE$7*AE11)+(AF$7*AF11)+(AG$7*AG11)+(AH$7*AH11)+(AI$7*AI11)+(AJ$7*AJ11)+(AK$7*AK11))","v":4},7,5,0,6,5,0,5,7,null,null,{"$f":"IF(OR('Set UP'!$C9=0,'Set UP'!$D9=0,'Set UP'!$E9=0),\"\",(AM$7*AM11)+(AN$7*AN11)+(AO$7*AO11)+(AP$7*AP11)+(AQ$7*AQ11)+(AR$7*AR11)+(AS$7*AS11)+(AT$7*AT11)+(AU$7*AU11)+(AV$7*AV11))","v":66},5,8,4,3,5,6,8,3,null,null,{"$f":"IF(OR('Set UP'!$C9=0,'Set UP'!$D9=0,'Set UP'!$E9=0),\"\",(AX$7*AX11)+(AY$7*AY11)+(AZ$7*AZ11)+(BA$7*BA11)+(BB$7*BB11)+(BC$7*BC11)+(BD$7*BD11)+(BE$7*BE11)+(BF$7*BF11)+(BG$7*BG11))","v":45},0,null,null,null,null,null,null,null,null,null,null,{"$f":"IF(OR('Set UP'!$C9=0,'Set UP'!$D9=0,'Set UP'!$E9=0),\"\",(BI$7*BI11)+(BJ$7*BJ11)+(BK$7*BK11)+(BL$7*BL11)+(BM$7*BM11)+(BN$7*BN11)+(BO$7*BO11)+(BP$7*BP11)+(BQ$7*BQ11)+(BR$7*BR11)+(BS$7*BS11))","v":0},null,null,null,{"$f":"IF(OR('Set UP'!$C9=0,'Set UP'!$D9=0,'Set UP'!$E9=0),\"\",(P11+AA11+AL11+AW11+BH11+BT11))","v":146.5},{"$f":"IF(OR('Set UP'!$C9=0,'Set UP'!$D9=0,'Set UP'!$E9=0),\"\",RANK(BX11,$BX$9:$BX$48,0))","v":27},{"$f":"IF(OR('Set UP'!K9<>1,'Set UP'!C9=0,'Set UP'!D9=0,'Set UP'!E9=0,'Set UP'!F9=0),\"\",$BX11)","v":""},{"$f":"IF(OR('Set UP'!K9<>1,'Set UP'!C9=0,'Set UP'!D9=0,'Set UP'!E9=0,'Set UP'!F9=0),\"\",RANK(BZ11,$BZ$9:$BZ$48,0))","v":""},{"$f":"IF(OR('Set UP'!K9<>2,'Set UP'!C9=0,'Set UP'!D9=0,'Set UP'!E9=0,'Set UP'!F9=0),\"\",$BX11)","v":146.5},{"$f":"IF(OR('Set UP'!K9<>2,'Set UP'!C9=0,'Set UP'!D9=0,'Set UP'!E9=0,'Set UP'!F9=0),\"\",RANK(CB11,$CB$9:$CB$48,0))","v":13}]
[null,4,{"$f":"IF(OR('Set UP'!$C10=0,'Set UP'!$D10=0,'Set UP'!$E10=0,'Set UP'!F10=0),\"  --\",'Set UP'!C10)","v":513},{"$f":"IF(OR('Set UP'!$C10=0,'Set UP'!$D10=0,'Set UP'!$E10=0,'Set UP'!F10=0),\"  --\",'Set UP'!D10&\" \"&'Set UP'!E10)","v":"University of Warwick D"},{"$f":"IF(OR('Set UP'!$C10=0,'Set UP'!$D10=0,'Set UP'!$E10=0,'Set UP'!F10=0),\"  --\",'Set UP'!F10)","v":"S"},null,null,null,null,null,null,null,null,null,null,{"$f":"IF(OR('Set UP'!$C10=0,'Set UP'!$D10=0,'Set UP'!$E10=0),\"\",(F$7*F12)+(G$7*G12)+(H$7*H12)+(I$7*I12)+(J$7*J12)+(K$7*K12)+(L$7*L12)+(M$7*M12)+(N$7*N12)+(O$7*O12))","v":0},null,null,null,null,null,null,null,null,null,null,{"$f":"IF(OR('Set UP'!$C10=0,'Set UP'!$D10=0,'Set UP'!$E10=0),\"\",(Q$7*Q12)+(R$7*R12)+(S$7*S12)+(T$7*T12)+(U$7*U12)+(V$7*V12)+(W$7*W12)+(X$7*X12)+(Y$7*Y12)+(Z$7*Z12))","v":0},null,null,null,null,null,null,null,null,null,null,{"$f":"IF(OR('Set UP'!$C10=0,'Set UP'!$D10=0,'Set UP'!$E10=0),\"\",(AB$7*AB12)+(AC$7*AC12)+(AD$7*AD12)+(AE$7*AE12)+(AF$7*AF12)+(AG$7*AG12)+(AH$7*AH12)+(AI$7*AI12)+(AJ$7*AJ12)+(AK$7*AK12))","v":0},null,null,null,null,null,null,null,null,null,null,{"$f":"IF(OR('Set UP'!$C10=0,'Set UP'!$D10=0,'Set UP'!$E10=0),\"\",(AM$7*AM12)+(AN$7*AN12)+(AO$7*AO12)+(AP$7*AP12)+(AQ$7*AQ12)+(AR$7*AR12)+(AS$7*AS12)+(AT$7*AT12)+(AU$7*AU12)+(AV$7*AV12))","v":0},null,null,null,null,null,null,null,null,null,null,{"$f":"IF(OR('Set UP'!$C10=0,'Set UP'!$D10=0,'Set UP'!$E10=0),\"\",(AX$7*AX12)+(AY$7*AY12)+(AZ$7*AZ12)+(BA$7*BA12)+(BB$7*BB12)+(BC$7*BC12)+(BD$7*BD12)+(BE$7*BE12)+(BF$7*BF12)+(BG$7*BG12))","v":0},null,null,null,null,null,null,null,null,null,null,null,{"$f":"IF(OR('Set UP'!$C10=0,'Set UP'!$D10=0,'Set UP'!$E10=0),\"\",(BI$7*BI12)+(BJ$7*BJ12)+(BK$7*BK12)+(BL$7*BL12)+(BM$7*BM12)+(BN$7*BN12)+(BO$7*BO12)+(BP$7*BP12)+(BQ$7*BQ12)+(BR$7*BR12)+(BS$7*BS12))","v":0},null,null,null,{"$f":"IF(OR('Set UP'!$C10=0,'Set UP'!$D10=0,'Set UP'!$E10=0),\"\",(P12+AA12+AL12+AW12+BH12+BT12))","v":0},{"$f":"IF(OR('Set UP'!$C10=0,'Set UP'!$D10=0,'Set UP'!$E10=0),\"\",RANK(BX12,$BX$9:$BX$48,0))","v":31},{"$f":"IF(OR('Set UP'!K10<>1,'Set UP'!C10=0,'Set UP'!D10=0,'Set UP'!E10=0,'Set UP'!F10=0),\"\",$BX12)","v":""},{"$f":"IF(OR('Set UP'!K10<>1,'Set UP'!C10=0,'Set UP'!D10=0,'Set UP'!E10=0,'Set UP'!F10=0),\"\",RANK(BZ12,$BZ$9:$BZ$48,0))","v":""},{"$f":"IF(OR('Set UP'!K10<>2,'Set UP'!C10=0,'Set UP'!D10=0,'Set UP'!E10=0,'Set UP'!F10=0),\"\",$BX12)","v":0},{"$f":"IF(OR('Set UP'!K10<>2,'Set UP'!C10=0,'Set UP'!D10=0,'Set UP'!E10=0,'Set UP'!F10=0),\"\",RANK(CB12,$CB$9:$CB$48,0))","v":15}]
[null,5,{"$f":"IF(OR('Set UP'!$C11=0,'Set UP'!$D11=0,'Set UP'!$E11=0,'Set UP'!F11=0),\"  --\",'Set UP'!C11)","v":499},{"$f":"IF(OR('Set UP'!$C11=0,'Set UP'!$D11=0,'Set UP'!$E11=0,'Set UP'!F11=0),\"  --\",'Set UP'!D11&\" \"&'Set UP'!E11)","v":"University of St Andrews B"},{"$f":"IF(OR('Set UP'!$C11=0,'Set UP'!$D11=0,'Set UP'!$E11=0,'Set UP'!F11=0),\"  --\",'Set UP'!F11)","v":"NC"},null,null,null,null,null,null,null,null,null,null,{"$f":"IF(OR('Set UP'!$C11=0,'Set UP'!$D11=0,'Set UP'!$E11=0),\"\",(F$7*F13)+(G$7*G13)+(H$7*H13)+(I$7*I13)+(J$7*J13)+(K$7*K13)+(L$7*L13)+(M$7*M13)+(N$7*N13)+(O$7*O13))","v":0},null,null,null,null,null,null,null,null,null,null,{"$f":"IF(OR('Set UP'!$C11=0,'Set UP'!$D11=0,'Set UP'!$E11=0),\"\",(Q$7*Q13)+(R$7*R13)+(S$7*S13)+(T$7*T13)+(U$7*U13)+(V$7*V13)+(W$7*W13)+(X$7*X13)+(Y$7*Y13)+(Z$7*Z13))","v":0},null,null,null,null,null,null,null,null,null,null,{"$f":"IF(OR('Set UP'!$C11=0,'Set UP'!$D11=0,'Set UP'!$E11=0),\"\",(AB$7*AB13)+(AC$7*AC13)+(AD$7*AD13)+(AE$7*AE13)+(AF$7*AF13)+(AG$7*AG13)+(AH$7*AH13)+(AI$7*AI13)+(AJ$7*AJ13)+(AK$7*AK13))","v":0},null,null,null,null,null,null,null,null,null,null,{"$f":"IF(OR('Set UP'!$C11=0,'Set UP'!$D11=0,'Set UP'!$E11=0),\"\",(AM$7*AM13)+(AN$7*AN13)+(AO$7*AO13)+(AP$7*AP13)+(AQ$7*AQ13)+(AR$7*AR13)+(AS$7*AS13)+(AT$7*AT13)+(AU$7*AU13)+(AV$7*AV13))","v":0},null,null,null,null,null,null,null,null,null,null,{"$f":"IF(OR('Set UP'!$C11=0,'Set UP'!$D11=0,'Set UP'!$E11=0),\"\",(AX$7*AX13)+(AY$7*AY13)+(AZ$7*AZ13)+(BA$7*BA13)+(BB$7*BB13)+(BC$7*BC13)+(BD$7*BD13)+(BE$7*BE13)+(BF$7*BF13)+(BG$7*BG13))","v":0},null,null,null,null,null,null,null,null,null,null,null,{"$f":"IF(OR('Set UP'!$C11=0,'Set UP'!$D11=0,'Set UP'!$E11=0),\"\",(BI$7*BI13)+(BJ$7*BJ13)+(BK$7*BK13)+(BL$7*BL13)+(BM$7*BM13)+(BN$7*BN13)+(BO$7*BO13)+(BP$7*BP13)+(BQ$7*BQ13)+(BR$7*BR13)+(BS$7*BS13))","v":0},null,null,null,{"$f":"IF(OR('Set UP'!$C11=0,'Set UP'!$D11=0,'Set UP'!$E11=0),\"\",(P13+AA13+AL13+AW13+BH13+BT13))","v":0},{"$f":"IF(OR('Set UP'!$C11=0,'Set UP'!$D11=0,'Set UP'!$E11=0),\"\",RANK(BX13,$BX$9:$BX$48,0))","v":31},{"$f":"IF(OR('Set UP'!K11<>1,'Set UP'!C11=0,'Set UP'!D11=0,'Set UP'!E11=0,'Set UP'!F11=0),\"\",$BX13)","v":""},{"$f":"IF(OR('Set UP'!K11<>1,'Set UP'!C11=0,'Set UP'!D11=0,'Set UP'!E11=0,'Set UP'!F11=0),\"\",RANK(BZ13,$BZ$9:$BZ$48,0))","v":""},{"$f":"IF(OR('Set UP'!K11<>2,'Set UP'!C11=0,'Set UP'!D11=0,'Set UP'!E11=0,'Set UP'!F11=0),\"\",$BX13)","v":""},{"$f":"IF(OR('Set UP'!K11<>2,'Set UP'!C11=0,'Set UP'!D11=0,'Set UP'!E11=0,'Set UP'!F11=0),\"\",RANK(CB13,$CB$9:$CB$48,0))","v":""}]
[null,6,{"$f":"IF(OR('Set UP'!$C12=0,'Set UP'!$D12=0,'Set UP'!$E12=0,'Set UP'!F12=0),\"  --\",'Set UP'!C12)","v":507},{"$f":"IF(OR('Set UP'!$C12=0,'Set UP'!$D12=0,'Set UP'!$E12=0,'Set UP'!F12=0),\"  --\",'Set UP'!D12&\" \"&'Set UP'!E12)","v":"University of Plymouth C"},{"$f":"IF(OR('Set UP'!$C12=0,'Set UP'!$D12=0,'Set UP'!$E12=0,'Set UP'!F12=0),\"  --\",'Set UP'!F12)","v":"S"},6,1,5,1,1,null,null,null,null,null,{"$f":"IF(OR('Set UP'!$C12=0,'Set UP'!$D12=0,'Set UP'!$E12=0),\"\",(F$7*F14)+(G$7*G14)+(H$7*H14)+(I$7*I14)+(J$7*J14)+(K$7*K14)+(L$7*L14)+(M$7*M14)+(N$7*N14)+(O$7*O14))","v":25.5},4,6,0,1,0,0,0,0,null,null,{"$f":"IF(OR('Set UP'!$C12=0,'Set UP'!$D12=0,'Set UP'!$E12=0),\"\",(Q$7*Q14)+(R$7*R14)+(S$7*S14)+(T$7*T14)+(U$7*U14)+(V$7*V14)+(W$7*W14)+(X$7*X14)+(Y$7*Y14)+(Z$7*Z14))","v":12},3,2,4,0,0,0,0,0,0,null,{"$f":"IF(OR('Set UP'!$C12=0,'Set UP'!$D12=0,'Set UP'!$E12=0),\"\",(AB$7*AB14)+(AC$7*AC14)+(AD$7*AD14)+(AE$7*AE14)+(AF$7*AF14)+(AG$7*AG14)+(AH$7*AH14)+(AI$7*AI14)+(AJ$7*AJ14)+(AK$7*AK14))","v":17},4,5,0,5,4,0,4,5,null,null,{"$f":"IF(OR('Set UP'!$C12=0,'Set UP'!$D12=0,'Set UP'!$E12=0),\"\",(AM$7*AM14)+(AN$7*AN14)+(AO$7*AO14)+(AP$7*AP14)+(AQ$7*AQ14)+(AR$7*AR14)+(AS$7*AS14)+(AT$7*AT14)+(AU$7*AU14)+(AV$7*AV14))","v":52},4,4,0,0,4,8,0,0,null,null,{"$f":"IF(OR('Set UP'!$C12=0,'Set UP'!$D12=0,'Set UP'!$E12=0),\"\",(AX$7*AX14)+(AY$7*AY14)+(AZ$7*AZ14)+(BA$7*BA14)+(BB$7*BB14)+(BC$7*BC14)+(BD$7*BD14)+(BE$7*BE14)+(BF$7*BF14)+(BG$7*BG14))","v":26},10,10,0,7,3,null,null,null,null,null,null,{"$f":"IF(OR('Set UP'!$C12=0,'Set UP'!$D12=0,'Set UP'!$E12=0),\"\",(BI$7*BI14)+(BJ$7*BJ14)+(BK$7*BK14)+(BL$7*BL14)+(BM$7*BM14)+(BN$7*BN14)+(BO$7*BO14)+(BP$7*BP14)+(BQ$7*BQ14)+(BR$7*BR14)+(BS$7*BS14))","v":25},null,null,null,{"$f":"IF(OR('Set UP'!$C12=0,'Set UP'!$D12=0,'Set UP'!$E12=0),\"\",(P14+AA14+AL14+AW14+BH14+BT14))","v":157.5},{"$f":"IF(OR('Set UP'!$C12=0,'Set UP'!$D12=0,'Set UP'!$E12=0),\"\",RANK(BX14,$BX$9:$BX$48,0))","v":24},{"$f":"IF(OR('Set UP'!K12<>1,'Set UP'!C12=0,'Set UP'!D12=0,'Set UP'!E12=0,'Set UP'!F12=0),\"\",$BX14)","v":""},{"$f":"IF(OR('Set UP'!K12<>1,'Set UP'!C12=0,'Set UP'!D12=0,'Set UP'!E12=0,'Set UP'!F12=0),\"\",RANK(BZ14,$BZ$9:$BZ$48,0))","v":""},{"$f":"IF(OR('Set UP'!K12<>2,'Set UP'!C12=0,'Set UP'!D12=0,'Set UP'!E12=0,'Set UP'!F12=0),\"\",$BX14)","v":157.5},{"$f":"IF(OR('Set UP'!K12<>2,'Set UP'!C12=0,'Set UP'!D12=0,'Set UP'!E12=0,'Set UP'!F12=0),\"\",RANK(CB14,$CB$9:$CB$48,0))","v":11}]
[null,7,{"$f":"IF(OR('Set UP'!$C13=0,'Set UP'!$D13=0,'Set UP'!$E13=0,'Set UP'!F13=0),\"  --\",'Set UP'!C13)","v":519},{"$f":"IF(OR('Set UP'!$C13=0,'Set UP'!$D13=0,'Set UP'!$E13=0,'Set UP'!F13=0),\"  --\",'Set UP'!D13&\" \"&'Set UP'!E13)","v":"University of Aberdeen B"},{"$f":"IF(OR('Set UP'!$C13=0,'Set UP'!$D13=0,'Set UP'!$E13=0,'Set UP'!F13=0),\"  --\",'Set UP'!F13)","v":"NC"},6,8,1,8,6,null,null,null,null,null,{"$f":"IF(OR('Set UP'!$C13=0,'Set UP'!$D13=0,'Set UP'!$E13=0),\"\",(F$7*F15)+(G$7*G15)+(H$7*H15)+(I$7*I15)+(J$7*J15)+(K$7*K15)+(L$7*L15)+(M$7*M15)+(N$7*N15)+(O$7*O15))","v":43},1,0,0,0,0,1,0,0,null,null,{"$f":"IF(OR('Set UP'!$C13=0,'Set UP'!$D13=0,'Set UP'!$E13=0),\"\",(Q$7*Q15)+(R$7*R15)+(S$7*S15)+(T$7*T15)+(U$7*U15)+(V$7*V15)+(W$7*W15)+(X$7*X15)+(Y$7*Y15)+(Z$7*Z15))","v":2.5},2,2,0,0,0,0,0,0,0,null,{"$f":"IF(OR('Set UP'!$C13=0,'Set UP'!$D13=0,'Set UP'!$E13=0),\"\",(AB$7*AB15)+(AC$7*AC15)+(AD$7*AD15)+(AE$7*AE15)+(AF$7*AF15)+(AG$7*AG15)+(AH$7*AH15)+(AI$7*AI15)+(AJ$7*AJ15)+(AK$7*AK15))","v":6},5,3,0,5,3,0,1,0,null,null,{"$f":"IF(OR('Set UP'!$C13=0,'Set UP'!$D13=0,'Set UP'!$E13=0),\"\",(AM$7*AM15)+(AN$7*AN15)+(AO$7*AO15)+(AP$7*AP15)+(AQ$7*AQ15)+(AR$7*AR15)+(AS$7*AS15)+(AT$7*AT15)+(AU$7*AU15)+(AV$7*AV15))","v":39.5},4,5,0,0,5,5,0,0,null,null,{"$f":"IF(OR('Set UP'!$C13=0,'Set UP'!$D13=0,'Set UP'!$E13=0),\"\",(AX$7*AX15)+(AY$7*AY15)+(AZ$7*AZ15)+(BA$7*BA15)+(BB$7*BB15)+(BC$7*BC15)+(BD$7*BD15)+(BE$7*BE15)+(BF$7*BF15)+(BG$7*BG15))","v":24},0,null,null,null,null,null,null,null,null,null,5,{"$f":"IF(OR('Set UP'!$C13=0,'Set UP'!$D13=0,'Set UP'!$E13=0),\"\",(BI$7*BI15)+(BJ$7*BJ15)+(BK$7*BK15)+(BL$7*BL15)+(BM$7*BM15)+(BN$7*BN15)+(BO$7*BO15)+(BP$7*BP15)+(BQ$7*BQ15)+(BR$7*BR15)+(BS$7*BS15))","v":2.5},null,null,null,{"$f":"IF(OR('Set UP'!$C13=0,'Set UP'!$D13=0,'Set UP'!$E13=0),\"\",(P15+AA15+AL15+AW15+BH15+BT15))","v":117.5},{"$f":"IF(OR('Set UP'!$C13=0,'Set UP'!$D13=0,'Set UP'!$E13=0),\"\",RANK(BX15,$BX$9:$BX$48,0))","v":30},{"$f":"IF(OR('Set UP'!K13<>1,'Set UP'!C13=0,'Set UP'!D13=0,'Set UP'!E13=0,'Set UP'!F13=0),\"\",$BX15)","v":""},{"$f":"IF(OR('Set UP'!K13<>1,'Set UP'!C13=0,'Set UP'!D13=0,'Set UP'!E13=0,'Set UP'!F13=0),\"\",RANK(BZ15,$BZ$9:$BZ$48,0))","v":""},{"$f":"IF(OR('Set UP'!K13<>2,'Set UP'!C13=0,'Set UP'!D13=0,'Set UP'!E13=0,'Set UP'!F13=0),\"\",$BX15)","v":""},{"$f":"IF(OR('Set UP'!K13<>2,'Set UP'!C13=0,'Set UP'!D13=0,'Set UP'!E13=0,'Set UP'!F13=0),\"\",RANK(CB15,$CB$9:$CB$48,0))","v":""}]
[null,8,{"$f":"IF(OR('Set UP'!$C14=0,'Set UP'!$D14=0,'Set UP'!$E14=0,'Set UP'!F14=0),\"  --\",'Set UP'!C14)","v":532},{"$f":"IF(OR('Set UP'!$C14=0,'Set UP'!$D14=0,'Set UP'!$E14=0,'Set UP'!F14=0),\"  --\",'Set UP'!D14&\" \"&'Set UP'!E14)","v":"University of London Union E"},{"$f":"IF(OR('Set UP'!$C14=0,'Set UP'!$D14=0,'Set UP'!$E14=0,'Set UP'!F14=0),\"  --\",'Set UP'!F14)","v":"S"},4,3,1,4,4,null,null,null,null,null,{"$f":"IF(OR('Set UP'!$C14=0,'Set UP'!$D14=0,'Set UP'!$E14=0),\"\",(F$7*F16)+(G$7*G16)+(H$7*H16)+(I$7*I16)+(J$7*J16)+(K$7*K16)+(L$7*L16)+(M$7*M16)+(N$7*N16)+(O$7*O16))","v":22.5},5,5,0,2,0,3,2,0,null,null,{"$f":"IF(OR('Set UP'!$C14=0,'Set UP'!$D14=0,'Set UP'!$E14=0),\"\",(Q$7*Q16)+(R$7*R16)+(S$7*S16)+(T$7*T16)+(U$7*U16)+(V$7*V16)+(W$7*W16)+(X$7*X16)+(Y$7*Y16)+(Z$7*Z16))","v":22.5},1,0,0,0,0,0,0,0,0,null,{"$f":"IF(OR('Set UP'!$C14=0,'Set UP'!$D14=0,'Set UP'!$E14=0),\"\",(AB$7*AB16)+(AC$7*AC16)+(AD$7*AD16)+(AE$7*AE16)+(AF$7*AF16)+(AG$7*AG16)+(AH$7*AH16)+(AI$7*AI16)+(AJ$7*AJ16)+(AK$7*AK16))","v":1},6,7,2,8,7,3,3,7,null,null,{"$f":"IF(OR('Set UP'!$C14=0,'Set UP'!$D14=0,'Set UP'!$E14=0),\"\",(AM$7*AM16)+(AN$7*AN16)+(AO$7*AO16)+(AP$7*AP16)+(AQ$7*AQ16)+(AR$7*AR16)+(AS$7*AS16)+(AT$7*AT16)+(AU$7*AU16)+(AV$7*AV16))","v":81.5},5,8,6,0,5,8,6,0,null,null,{"$f":"IF(OR('Set UP'!$C14=0,'Set UP'!$D14=0,'Set UP'!$E14=0),\"\",(AX$7*AX16)+(AY$7*AY16)+(AZ$7*AZ16)+(BA$7*BA16)+(BB$7*BB16)+(BC$7*BC16)+(BD$7*BD16)+(BE$7*BE16)+(BF$7*BF16)+(BG$7*BG16))","v":44.5},0,null,null,null,null,null,null,null,null,null,null,{"$f":"IF(OR('Set UP'!$C14=0,'Set UP'!$D14=0,'Set UP'!$E14=0),\"\",(BI$7*BI16)+(BJ$7*BJ16)+(BK$7*BK16)+(BL$7*BL16)+(BM$7*BM16)+(BN$7*BN16)+(BO$7*BO16)+(BP$7*BP16)+(BQ$7*BQ16)+(BR$7*BR16)+(BS$7*BS16))","v":0},null,null,null,{"$f":"IF(OR('Set UP'!$C14=0,'Set UP'!$D14=0,'Set UP'!$E14=0),\"\",(P16+AA16+AL16+AW16+BH16+BT16))","v":172},{"$f":"IF(OR('Set UP'!$C14=0,'Set UP'!$D14=0,'Set UP'!$E14=0),\"\",RANK(BX16,$BX$9:$BX$48,0))","v":19},{"$f":"IF(OR('Set UP'!K14<>1,'Set UP'!C14=0,'Set UP'!D14=0,'Set UP'!E14=0,'Set UP'!F14=0),\"\",$BX16)","v":""},{"$f":"IF(OR('Set UP'!K14<>1,'Set UP'!C14=0,'Set UP'!D14=0,'Set UP'!E14=0,'Set UP'!F14=0),\"\",RANK(BZ16,$BZ$9:$BZ$48,0))","v":""},{"$f":"IF(OR('Set UP'!K14<>2,'Set UP'!C14=0,'Set UP'!D14=0,'Set UP'!E14=0,'Set UP'!F14=0),\"\",$BX16)","v":172},{"$f":"IF(OR('Set UP'!K14<>2,'Set UP'!C14=0,'Set UP'!D14=0,'Set UP'!E14=0,'Set UP'!F14=0),\"\",RANK(CB16,$CB$9:$CB$48,0))","v":8}]
[null,9,{"$f":"IF(OR('Set UP'!$C15=0,'Set UP'!$D15=0,'Set UP'!$E15=0,'Set UP'!F15=0),\"  --\",'Set UP'!C15)","v":530},{"$f":"IF(OR('Set UP'!$C15=0,'Set UP'!$D15=0,'Set UP'!$E15=0,'Set UP'!F15=0),\"  --\",'Set UP'!D15&\" \"&'Set UP'!E15)","v":"University of London Union C"},{"$f":"IF(OR('Set UP'!$C15=0,'Set UP'!$D15=0,'Set UP'!$E15=0,'Set UP'!F15=0),\"  --\",'Set UP'!F15)","v":"S"},8,8,9,7,6,null,null,null,null,null,{"$f":"IF(OR('Set UP'!$C15=0,'Set UP'!$D15=0,'Set UP'!$E15=0),\"\",(F$7*F17)+(G$7*G17)+(H$7*H17)+(I$7*I17)+(J$7*J17)+(K$7*K17)+(L$7*L17)+(M$7*M17)+(N$7*N17)+(O$7*O17))","v":68},6,6,0,4,0,6,7,4,null,null,{"$f":"IF(OR('Set UP'!$C15=0,'Set UP'!$D15=0,'Set UP'!$E15=0),\"\",(Q$7*Q17)+(R$7*R17)+(S$7*S17)+(T$7*T17)+(U$7*U17)+(V$7*V17)+(W$7*W17)+(X$7*X17)+(Y$7*Y17)+(Z$7*Z17))","v":45},4,2,0,0,0,0,0,0,0,null,{"$f":"IF(OR('Set UP'!$C15=0,'Set UP'!$D15=0,'Set UP'!$E15=0),\"\",(AB$7*AB17)+(AC$7*AC17)+(AD$7*AD17)+(AE$7*AE17)+(AF$7*AF17)+(AG$7*AG17)+(AH$7*AH17)+(AI$7*AI17)+(AJ$7*AJ17)+(AK$7*AK17))","v":8},8,7,2,6,5,2,1,0,null,null,{"$f":"IF(OR('Set UP'!$C15=0,'Set UP'!$D15=0,'Set UP'!$E15=0),\"\",(AM$7*AM17)+(AN$7*AN17)+(AO$7*AO17)+(AP$7*AP17)+(AQ$7*AQ17)+(AR$7*AR17)+(AS$7*AS17)+(AT$7*AT17)+(AU$7*AU17)+(AV$7*AV17))","v":66},7,7,3,0,6,7,3,0,null,null,{"$f":"IF(OR('Set UP'!$C15=0,'Set UP'!$D15=0,'Set UP'!$E15=0),\"\",(AX$7*AX17)+(AY$7*AY17)+(AZ$7*AZ17)+(BA$7*BA17)+(BB$7*BB17)+(BC$7*BC17)+(BD$7*BD17)+(BE$7*BE17)+(BF$7*BF17)+(BG$7*BG17))","v":39},0,null,null,null,null,null,null,null,null,null,null,{"$f":"IF(OR('Set UP'!$C15=0,'Set UP'!$D15=0,'Set UP'!$E15=0),\"\",(BI$7*BI17)+(BJ$7*BJ17)+(BK$7*BK17)+(BL$7*BL17)+(BM$7*BM17)+(BN$7*BN17)+(BO$7*BO17)+(BP$7*BP17)+(BQ$7*BQ17)+(BR$7*BR17)+(BS$7*BS17))","v":0},null,null,null,{"$f":"IF(OR('Set UP'!$C15=0,'Set UP'!$D15=0,'Set UP'!$E15=0),\"\",(P17+AA17+AL17+AW17+BH17+BT17))","v":226},{"$f":"IF(OR('Set UP'!$C15=0,'Set UP'!$D15=0,'Set UP'!$E15=0),\"\",RANK(BX17,$BX$9:$BX$48,0))","v":4},{"$f":"IF(OR('Set UP'!K15<>1,'Set UP'!C15=0,'Set UP'!D15=0,'Set UP'!E15=0,'Set UP'!F15=0),\"\",$BX17)","v":""},{"$f":"IF(OR('Set UP'!K15<>1,'Set UP'!C15=0,'Set UP'!D15=0,'Set UP'!E15=0,'Set UP'!F15=0),\"\",RANK(BZ17,$BZ$9:$BZ$48,0))","v":""},{"$f":"IF(OR('Set UP'!K15<>2,'Set UP'!C15=0,'Set UP'!D15=0,'Set UP'!E15=0,'Set UP'!F15=0),\"\",$BX17)","v":226},{"$f":"IF(OR('Set UP'!K15<>2,'Set UP'!C15=0,'Set UP'!D15=0,'Set UP'!E15=0,'Set UP'!F15=0),\"\",RANK(CB17,$CB$9:$CB$48,0))","v":1}]
[null,10,{"$f":"IF(OR('Set UP'!$C16=0,'Set UP'!$D16=0,'Set UP'!$E16=0,'Set UP'!F16=0),\"  --\",'Set UP'!C16)","v":506},{"$f":"IF(OR('Set UP'!$C16=0,'Set UP'!$D16=0,'Set UP'!$E16=0,'Set UP'!F16=0),\"  --\",'Set UP'!D16&\" \"&'Set UP'!E16)","v":"University of Plymouth B"},{"$f":"IF(OR('Set UP'!$C16=0,'Set UP'!$D16=0,'Set UP'!$E16=0,'Set UP'!F16=0),\"  --\",'Set UP'!F16)","v":"S"},5,2,6,1,0,null,null,null,null,null,{"$f":"IF(OR('Set UP'!$C16=0,'Set UP'!$D16=0,'Set UP'!$E16=0),\"\",(F$7*F18)+(G$7*G18)+(H$7*H18)+(I$7*I18)+(J$7*J18)+(K$7*K18)+(L$7*L18)+(M$7*M18)+(N$7*N18)+(O$7*O18))","v":29},5,6,0,2,0,7,6,0,null,null,{"$f":"IF(OR('Set UP'!$C16=0,'Set UP'!$D16=0,'Set UP'!$E16=0),\"\",(Q$7*Q18)+(R$7*R18)+(S$7*S18)+(T$7*T18)+(U$7*U18)+(V$7*V18)+(W$7*W18)+(X$7*X18)+(Y$7*Y18)+(Z$7*Z18))","v":37.5},2,4,0,0,0,3,0,0,0,null,{"$f":"IF(OR('Set UP'!$C16=0,'Set UP'!$D16=0,'Set UP'!$E16=0),\"\",(AB$7*AB18)+(AC$7*AC18)+(AD$7*AD18)+(AE$7*AE18)+(AF$7*AF18)+(AG$7*AG18)+(AH$7*AH18)+(AI$7*AI18)+(AJ$7*AJ18)+(AK$7*AK18))","v":13},5,4,2,7,5,2,4,0,null,null,{"$f":"IF(OR('Set UP'!$C16=0,'Set UP'!$D16=0,'Set UP'!$E16=0),\"\",(AM$7*AM18)+(AN$7*AN18)+(AO$7*AO18)+(AP$7*AP18)+(AQ$7*AQ18)+(AR$7*AR18)+(AS$7*AS18)+(AT$7*AT18)+(AU$7*AU18)+(AV$7*AV18))","v":56.5},1,3,0,0,5,7,5,0,null,null,{"$f":"IF(OR('Set UP'!$C16=0,'Set UP'!$D16=0,'Set UP'!$E16=0),\"\",(AX$7*AX18)+(AY$7*AY18)+(AZ$7*AZ18)+(BA$7*BA18)+(BB$7*BB18)+(BC$7*BC18)+(BD$7*BD18)+(BE$7*BE18)+(BF$7*BF18)+(BG$7*BG18))","v":22.5},10,0,0,0,0,null,null,null,null,null,null,{"$f":"IF(OR('Set UP'!$C16=0,'Set UP'!$D16=0,'Set UP'!$E16=0),\"\",(BI$7*BI18)+(BJ$7*BJ18)+(BK$7*BK18)+(BL$7*BL18)+(BM$7*BM18)+(BN$7*BN18)+(BO$7*BO18)+(BP$7*BP18)+(BQ$7*BQ18)+(BR$7*BR18)+(BS$7*BS18))","v":10},null,null,null,{"$f":"IF(OR('Set UP'!$C16=0,'Set UP'!$D16=0,'Set UP'!$E16=0),\"\",(P18+AA18+AL18+AW18+BH18+BT18))","v":168.5},{"$f":"IF(OR('Set UP'!$C16=0,'Set UP'!$D16=0,'Set UP'!$E16=0),\"\",RANK(BX18,$BX$9:$BX$48,0))","v":22},{"$f":"IF(OR('Set UP'!K16<>1,'Set UP'!C16=0,'Set UP'!D16=0,'Set UP'!E16=0,'Set UP'!F16=0),\"\",$BX18)","v":""},{"$f":"IF(OR('Set UP'!K16<>1,'Set UP'!C16=0,'Set UP'!D16=0,'Set UP'!E16=0,'Set UP'!F16=0),\"\",RANK(BZ18,$BZ$9:$BZ$48,0))","v":""},{"$f":"IF(OR('Set UP'!K16<>2,'Set UP'!C16=0,'Set UP'!D16=0,'Set UP'!E16=0,'Set UP'!F16=0),\"\",$BX18)","v":168.5},{"$f":"IF(OR('Set UP'!K16<>2,'Set UP'!C16=0,'Set UP'!D16=0,'Set UP'!E16=0,'Set UP'!F16=0),\"\",RANK(CB18,$CB$9:$CB$48,0))","v":10}]
[null,11,{"$f":"IF(OR('Set UP'!$C17=0,'Set UP'!$D17=0,'Set UP'!$E17=0,'Set UP'!F17=0),\"  --\",'Set UP'!C17)","v":518},{"$f":"IF(OR('Set UP'!$C17=0,'Set UP'!$D17=0,'Set UP'!$E17=0,'Set UP'!F17=0),\"  --\",'Set UP'!D17&\" \"&'Set UP'!E17)","v":"University of Aberdeen A"},{"$f":"IF(OR('Set UP'!$C17=0,'Set UP'!$D17=0,'Set UP'!$E17=0,'Set UP'!F17=0),\"  --\",'Set UP'!F17)","v":"S"},7,3,3,2,5,null,null,null,null,null,{"$f":"IF(OR('Set UP'!$C17=0,'Set UP'!$D17=0,'Set UP'!$E17=0),\"\",(F$7*F19)+(G$7*G19)+(H$7*H19)+(I$7*I19)+(J$7*J19)+(K$7*K19)+(L$7*L19)+(M$7*M19)+(N$7*N19)+(O$7*O19))","v":30.5},5,4,6,5,5,5,5,0,null,null,{"$f":"IF(OR('Set UP'!$C17=0,'Set UP'!$D17=0,'Set UP'!$E17=0),\"\",(Q$7*Q19)+(R$7*R19)+(S$7*S19)+(T$7*T19)+(U$7*U19)+(V$7*V19)+(W$7*W19)+(X$7*X19)+(Y$7*Y19)+(Z$7*Z19))","v":45},5,4,8,0,0,10,4,0,0,null,{"$f":"IF(OR('Set UP'!$C17=0,'Set UP'!$D17=0,'Set UP'!$E17=0),\"\",(AB$7*AB19)+(AC$7*AC19)+(AD$7*AD19)+(AE$7*AE19)+(AF$7*AF19)+(AG$7*AG19)+(AH$7*AH19)+(AI$7*AI19)+(AJ$7*AJ19)+(AK$7*AK19))","v":47},6,5,0,5,4,0,3,3,null,null,{"$f":"IF(OR('Set UP'!$C17=0,'Set UP'!$D17=0,'Set UP'!$E17=0),\"\",(AM$7*AM19)+(AN$7*AN19)+(AO$7*AO19)+(AP$7*AP19)+(AQ$7*AQ19)+(AR$7*AR19)+(AS$7*AS19)+(AT$7*AT19)+(AU$7*AU19)+(AV$7*AV19))","v":53.5},3,6,0,0,3,6,0,0,null,null,{"$f":"IF(OR('Set UP'!$C17=0,'Set UP'!$D17=0,'Set UP'!$E17=0),\"\",(AX$7*AX19)+(AY$7*AY19)+(AZ$7*AZ19)+(BA$7*BA19)+(BB$7*BB19)+(BC$7*BC19)+(BD$7*BD19)+(BE$7*BE19)+(BF$7*BF19)+(BG$7*BG19))","v":25.5},0,null,null,null,null,null,null,null,null,null,null,{"$f":"IF(OR('Set UP'!$C17=0,'Set UP'!$D17=0,'Set UP'!$E17=0),\"\",(BI$7*BI19)+(BJ$7*BJ19)+(BK$7*BK19)+(BL$7*BL19)+(BM$7*BM19)+(BN$7*BN19)+(BO$7*BO19)+(BP$7*BP19)+(BQ$7*BQ19)+(BR$7*BR19)+(BS$7*BS19))","v":0},null,null,null,{"$f":"IF(OR('Set UP'!$C17=0,'Set UP'!$D17=0,'Set UP'!$E17=0),\"\",(P19+AA19+AL19+AW19+BH19+BT19))","v":201.5},{"$f":"IF(OR('Set UP'!$C17=0,'Set UP'!$D17=0,'Set UP'!$E17=0),\"\",RANK(BX19,$BX$9:$BX$48,0))","v":12},{"$f":"IF(OR('Set UP'!K17<>1,'Set UP'!C17=0,'Set UP'!D17=0,'Set UP'!E17=0,'Set UP'!F17=0),\"\",$BX19)","v":201.5},{"$f":"IF(OR('Set UP'!K17<>1,'Set UP'!C17=0,'Set UP'!D17=0,'Set UP'!E17=0,'Set UP'!F17=0),\"\",RANK(BZ19,$BZ$9:$BZ$48,0))","v":7},{"$f":"IF(OR('Set UP'!K17<>2,'Set UP'!C17=0,'Set UP'!D17=0,'Set UP'!E17=0,'Set UP'!F17=0),\"\",$BX19)","v":""},{"$f":"IF(OR('Set UP'!K17<>2,'Set UP'!C17=0,'Set UP'!D17=0,'Set UP'!E17=0,'Set UP'!F17=0),\"\",RANK(CB19,$CB$9:$CB$48,0))","v":""}]
[null,12,{"$f":"IF(OR('Set UP'!$C18=0,'Set UP'!$D18=0,'Set UP'!$E18=0,'Set UP'!F18=0),\"  --\",'Set UP'!C18)","v":538},{"$f":"IF(OR('Set UP'!$C18=0,'Set UP'!$D18=0,'Set UP'!$E18=0,'Set UP'!F18=0),\"  --\",'Set UP'!D18&\" \"&'Set UP'!E18)","v":"University of Southampton C"},{"$f":"IF(OR('Set UP'!$C18=0,'Set UP'!$D18=0,'Set UP'!$E18=0,'Set UP'!F18=0),\"  --\",'Set UP'!F18)","v":"S"},5,3,5,2,0,null,null,null,null,null,{"$f":"IF(OR('Set UP'!$C18=0,'Set UP'!$D18=0,'Set UP'!$E18=0),\"\",(F$7*F20)+(G$7*G20)+(H$7*H20)+(I$7*I20)+(J$7*J20)+(K$7*K20)+(L$7*L20)+(M$7*M20)+(N$7*N20)+(O$7*O20))","v":29.5},5,2,0,1,0,5,5,0,null,null,{"$f":"IF(OR('Set UP'!$C18=0,'Set UP'!$D18=0,'Set UP'!$E18=0),\"\",(Q$7*Q20)+(R$7*R20)+(S$7*S20)+(T$7*T20)+(U$7*U20)+(V$7*V20)+(W$7*W20)+(X$7*X20)+(Y$7*Y20)+(Z$7*Z20))","v":26.5},8,8,7,0,0,2,0,0,0,null,{"$f":"IF(OR('Set UP'!$C18=0,'Set UP'!$D18=0,'Set UP'!$E18=0),\"\",(AB$7*AB20)+(AC$7*AC20)+(AD$7*AD20)+(AE$7*AE20)+(AF$7*AF20)+(AG$7*AG20)+(AH$7*AH20)+(AI$7*AI20)+(AJ$7*AJ20)+(AK$7*AK20))","v":43.5},6,4,0,8,2,0,0,0,null,null,{"$f":"IF(OR('Set UP'!$C18=0,'Set UP'!$D18=0,'Set UP'!$E18=0),\"\",(AM$7*AM20)+(AN$7*AN20)+(AO$7*AO20)+(AP$7*AP20)+(AQ$7*AQ20)+(AR$7*AR20)+(AS$7*AS20)+(AT$7*AT20)+(AU$7*AU20)+(AV$7*AV20))","v":48},5,4,0,0,5,4,0,0,null,null,{"$f":"IF(OR('Set UP'!$C18=0,'Set UP'!$D18=0,'Set UP'!$E18=0),\"\",(AX$7*AX20)+(AY$7*AY20)+(AZ$7*AZ20)+(BA$7*BA20)+(BB$7*BB20)+(BC$7*BC20)+(BD$7*BD20)+(BE$7*BE20)+(BF$7*BF20)+(BG$7*BG20))","v":21.5},0,null,null,null,null,null,null,null,null,null,null,{"$f":"IF(OR('Set UP'!$C18=0,'Set UP'!$D18=0,'Set UP'!$E18=0),\"\",(BI$7*BI20)+(BJ$7*BJ20)+(BK$7*BK20)+(BL$7*BL20)+(BM$7*BM20)+(BN$7*BN20)+(BO$7*BO20)+(BP$7*BP20)+(BQ$7*BQ20)+(BR$7*BR20)+(BS$7*BS20))","v":0},null,null,null,{"$f":"IF(OR('Set UP'!$C18=0,'Set UP'!$D18=0,'Set UP'!$E18=0),\"\",(P20+AA20+AL20+AW20+BH20+BT20))","v":169},{"$f":"IF(OR('Set UP'!$C18=0,'Set UP'!$D18=0,'Set UP'!$E18=0),\"\",RANK(BX20,$BX$9:$BX$48,0))","v":21},{"$f":"IF(OR('Set UP'!K18<>1,'Set UP'!C18=0,'Set UP'!D18=0,'Set UP'!E18=0,'Set UP'!F18=0),\"\",$BX20)","v":""},{"$f":"IF(OR('Set UP'!K18<>1,'Set UP'!C18=0,'Set UP'!D18=0,'Set UP'!E18=0,'Set UP'!F18=0),\"\",RANK(BZ20,$BZ$9:$BZ$48,0))","v":""},{"$f":"IF(OR('Set UP'!K18<>2,'Set UP'!C18=0,'Set UP'!D18=0,'Set UP'!E18=0,'Set UP'!F18=0),\"\",$BX20)","v":169},{"$f":"IF(OR('Set UP'!K18<>2,'Set UP'!C18=0,'Set UP'!D18=0,'Set UP'!E18=0,'Set UP'!F18=0),\"\",RANK(CB20,$CB$9:$CB$48,0))","v":9}]
[null,13,{"$f":"IF(OR('Set UP'!$C19=0,'Set UP'!$D19=0,'Set UP'!$E19=0,'Set UP'!F19=0),\"  --\",'Set UP'!C19)","v":515},{"$f":"IF(OR('Set UP'!$C19=0,'Set UP'!$D19=0,'Set UP'!$E19=0,'Set UP'!F19=0),\"  --\",'Set UP'!D19&\" \"&'Set UP'!E19)","v":"Loughborough University C"},{"$f":"IF(OR('Set UP'!$C19=0,'Set UP'!$D19=0,'Set UP'!$E19=0,'Set UP'!F19=0),\"  --\",'Set UP'!F19)","v":"S"},6,6,6,6,5,null,null,null,null,null,{"$f":"IF(OR('Set UP'!$C19=0,'Set UP'!$D19=0,'Set UP'!$E19=0),\"\",(F$7*F21)+(G$7*G21)+(H$7*H21)+(I$7*I21)+(J$7*J21)+(K$7*K21)+(L$7*L21)+(M$7*M21)+(N$7*N21)+(O$7*O21))","v":50},6,2,0,1,0,4,4,0,null,null,{"$f":"IF(OR('Set UP'!$C19=0,'Set UP'!$D19=0,'Set UP'!$E19=0),\"\",(Q$7*Q21)+(R$7*R21)+(S$7*S21)+(T$7*T21)+(U$7*U21)+(V$7*V21)+(W$7*W21)+(X$7*X21)+(Y$7*Y21)+(Z$7*Z21))","v":24},0,0,0,0,0,0,0,0,0,null,{"$f":"IF(OR('Set UP'!$C19=0,'Set UP'!$D19=0,'Set UP'!$E19=0),\"\",(AB$7*AB21)+(AC$7*AC21)+(AD$7*AD21)+(AE$7*AE21)+(AF$7*AF21)+(AG$7*AG21)+(AH$7*AH21)+(AI$7*AI21)+(AJ$7*AJ21)+(AK$7*AK21))","v":0},6,6,4,6,6,4,3,3,null,null,{"$f":"IF(OR('Set UP'!$C19=0,'Set UP'!$D19=0,'Set UP'!$E19=0),\"\",(AM$7*AM21)+(AN$7*AN21)+(AO$7*AO21)+(AP$7*AP21)+(AQ$7*AQ21)+(AR$7*AR21)+(AS$7*AS21)+(AT$7*AT21)+(AU$7*AU21)+(AV$7*AV21))","v":68.5},5,6,2,0,4,7,0,0,null,null,{"$f":"IF(OR('Set UP'!$C19=0,'Set UP'!$D19=0,'Set UP'!$E19=0),\"\",(AX$7*AX21)+(AY$7*AY21)+(AZ$7*AZ21)+(BA$7*BA21)+(BB$7*BB21)+(BC$7*BC21)+(BD$7*BD21)+(BE$7*BE21)+(BF$7*BF21)+(BG$7*BG21))","v":31.5},0,null,null,null,null,null,null,null,null,null,null,{"$f":"IF(OR('Set UP'!$C19=0,'Set UP'!$D19=0,'Set UP'!$E19=0),\"\",(BI$7*BI21)+(BJ$7*BJ21)+(BK$7*BK21)+(BL$7*BL21)+(BM$7*BM21)+(BN$7*BN21)+(BO$7*BO21)+(BP$7*BP21)+(BQ$7*BQ21)+(BR$7*BR21)+(BS$7*BS21))","v":0},null,null,null,{"$f":"IF(OR('Set UP'!$C19=0,'Set UP'!$D19=0,'Set UP'!$E19=0),\"\",(P21+AA21+AL21+AW21+BH21+BT21))","v":174},{"$f":"IF(OR('Set UP'!$C19=0,'Set UP'!$D19=0,'Set UP'!$E19=0),\"\",RANK(BX21,$BX$9:$BX$48,0))","v":17},{"$f":"IF(OR('Set UP'!K19<>1,'Set UP'!C19=0,'Set UP'!D19=0,'Set UP'!E19=0,'Set UP'!F19=0),\"\",$BX21)","v":""},{"$f":"IF(OR('Set UP'!K19<>1,'Set UP'!C19=0,'Set UP'!D19=0,'Set UP'!E19=0,'Set UP'!F19=0),\"\",RANK(BZ21,$BZ$9:$BZ$48,0))","v":""},{"$f":"IF(OR('Set UP'!K19<>2,'Set UP'!C19=0,'Set UP'!D19=0,'Set UP'!E19=0,'Set UP'!F19=0),\"\",$BX21)","v":174},{"$f":"IF(OR('Set UP'!K19<>2,'Set UP'!C19=0,'Set UP'!D19=0,'Set UP'!E19=0,'Set UP'!F19=0),\"\",RANK(CB21,$CB$9:$CB$48,0))","v":7}]
[null,14,{"$f":"IF(OR('Set UP'!$C20=0,'Set UP'!$D20=0,'Set UP'!$E20=0,'Set UP'!F20=0),\"  --\",'Set UP'!C20)","v":520},{"$f":"IF(OR('Set UP'!$C20=0,'Set UP'!$D20=0,'Set UP'!$E20=0,'Set UP'!F20=0),\"  --\",'Set UP'!D20&\" \"&'Set UP'!E20)","v":"Loughborough University D"},{"$f":"IF(OR('Set UP'!$C20=0,'Set UP'!$D20=0,'Set UP'!$E20=0,'Set UP'!F20=0),\"  --\",'Set UP'!F20)","v":"NS"},6,3,0,2,3,null,null,null,null,null,{"$f":"IF(OR('Set UP'!$C20=0,'Set UP'!$D20=0,'Set UP'!$E20=0),\"\",(F$7*F22)+(G$7*G22)+(H$7*H22)+(I$7*I22)+(J$7*J22)+(K$7*K22)+(L$7*L22)+(M$7*M22)+(N$7*N22)+(O$7*O22))","v":18.5},2,0,6,3,0,2,1,0,null,null,{"$f":"IF(OR('Set UP'!$C20=0,'Set UP'!$D20=0,'Set UP'!$E20=0),\"\",(Q$7*Q22)+(R$7*R22)+(S$7*S22)+(T$7*T22)+(U$7*U22)+(V$7*V22)+(W$7*W22)+(X$7*X22)+(Y$7*Y22)+(Z$7*Z22))","v":19},8,7,3,0,0,6,0,0,0,null,{"$f":"IF(OR('Set UP'!$C20=0,'Set UP'!$D20=0,'Set UP'!$E20=0),\"\",(AB$7*AB22)+(AC$7*AC22)+(AD$7*AD22)+(AE$7*AE22)+(AF$7*AF22)+(AG$7*AG22)+(AH$7*AH22)+(AI$7*AI22)+(AJ$7*AJ22)+(AK$7*AK22))","v":35.5},5,6,5,6,6,4,3,0,null,null,{"$f":"IF(OR('Set UP'!$C20=0,'Set UP'!$D20=0,'Set UP'!$E20=0),\"\",(AM$7*AM22)+(AN$7*AN22)+(AO$7*AO22)+(AP$7*AP22)+(AQ$7*AQ22)+(AR$7*AR22)+(AS$7*AS22)+(AT$7*AT22)+(AU$7*AU22)+(AV$7*AV22))","v":64},3,6,2,0,4,7,0,0,null,null,{"$f":"IF(OR('Set UP'!$C20=0,'Set UP'!$D20=0,'Set UP'!$E20=0),\"\",(AX$7*AX22)+(AY$7*AY22)+(AZ$7*AZ22)+(BA$7*BA22)+(BB$7*BB22)+(BC$7*BC22)+(BD$7*BD22)+(BE$7*BE22)+(BF$7*BF22)+(BG$7*BG22))","v":29.5},0,null,null,null,null,null,null,null,null,null,null,{"$f":"IF(OR('Set UP'!$C20=0,'Set UP'!$D20=0,'Set UP'!$E20=0),\"\",(BI$7*BI22)+(BJ$7*BJ22)+(BK$7*BK22)+(BL$7*BL22)+(BM$7*BM22)+(BN$7*BN22)+(BO$7*BO22)+(BP$7*BP22)+(BQ$7*BQ22)+(BR$7*BR22)+(BS$7*BS22))","v":0},null,null,null,{"$f":"IF(OR('Set UP'!$C20=0,'Set UP'!$D20=0,'Set UP'!$E20=0),\"\",(P22+AA22+AL22+AW22+BH22+BT22))","v":166.5},{"$f":"IF(OR('Set UP'!$C20=0,'Set UP'!$D20=0,'Set UP'!$E20=0),\"\",RANK(BX22,$BX$9:$BX$48,0))","v":23},{"$f":"IF(OR('Set UP'!K20<>1,'Set UP'!C20=0,'Set UP'!D20=0,'Set UP'!E20=0,'Set UP'!F20=0),\"\",$BX22)","v":""},{"$f":"IF(OR('Set UP'!K20<>1,'Set UP'!C20=0,'Set UP'!D20=0,'Set UP'!E20=0,'Set UP'!F20=0),\"\",RANK(BZ22,$BZ$9:$BZ$48,0))","v":""},{"$f":"IF(OR('Set UP'!K20<>2,'Set UP'!C20=0,'Set UP'!D20=0,'Set UP'!E20=0,'Set UP'!F20=0),\"\",$BX22)","v":""},{"$f":"IF(OR('Set UP'!K20<>2,'Set UP'!C20=0,'Set UP'!D20=0,'Set UP'!E20=0,'Set UP'!F20=0),\"\",RANK(CB22,$CB$9:$CB$48,0))","v":""}]
[null,15,{"$f":"IF(OR('Set UP'!$C21=0,'Set UP'!$D21=0,'Set UP'!$E21=0,'Set UP'!F21=0),\"  --\",'Set UP'!C21)","v":512},{"$f":"IF(OR('Set UP'!$C21=0,'Set UP'!$D21=0,'Set UP'!$E21=0,'Set UP'!F21=0),\"  --\",'Set UP'!D21&\" \"&'Set UP'!E21)","v":"University of Warwick C"},{"$f":"IF(OR('Set UP'!$C21=0,'Set UP'!$D21=0,'Set UP'!$E21=0,'Set UP'!F21=0),\"  --\",'Set UP'!F21)","v":"NC"},2,3,2,4,2,null,null,null,null,null,{"$f":"IF(OR('Set UP'!$C21=0,'Set UP'!$D21=0,'Set UP'!$E21=0),\"\",(F$7*F23)+(G$7*G23)+(H$7*H23)+(I$7*I23)+(J$7*J23)+(K$7*K23)+(L$7*L23)+(M$7*M23)+(N$7*N23)+(O$7*O23))","v":21.5},6,6,6,6,5,4,4,0,null,null,{"$f":"IF(OR('Set UP'!$C21=0,'Set UP'!$D21=0,'Set UP'!$E21=0),\"\",(Q$7*Q23)+(R$7*R23)+(S$7*S23)+(T$7*T23)+(U$7*U23)+(V$7*V23)+(W$7*W23)+(X$7*X23)+(Y$7*Y23)+(Z$7*Z23))","v":46.5},2,1,0,0,0,0,0,0,0,null,{"$f":"IF(OR('Set UP'!$C21=0,'Set UP'!$D21=0,'Set UP'!$E21=0),\"\",(AB$7*AB23)+(AC$7*AC23)+(AD$7*AD23)+(AE$7*AE23)+(AF$7*AF23)+(AG$7*AG23)+(AH$7*AH23)+(AI$7*AI23)+(AJ$7*AJ23)+(AK$7*AK23))","v":4},6,5,4,4,4,0,0,0,null,null,{"$f":"IF(OR('Set UP'!$C21=0,'Set UP'!$D21=0,'Set UP'!$E21=0),\"\",(AM$7*AM23)+(AN$7*AN23)+(AO$7*AO23)+(AP$7*AP23)+(AQ$7*AQ23)+(AR$7*AR23)+(AS$7*AS23)+(AT$7*AT23)+(AU$7*AU23)+(AV$7*AV23))","v":48.5},9,7,9,4,5,7,6,2,null,null,{"$f":"IF(OR('Set UP'!$C21=0,'Set UP'!$D21=0,'Set UP'!$E21=0),\"\",(AX$7*AX23)+(AY$7*AY23)+(AZ$7*AZ23)+(BA$7*BA23)+(BB$7*BB23)+(BC$7*BC23)+(BD$7*BD23)+(BE$7*BE23)+(BF$7*BF23)+(BG$7*BG23))","v":53},0,null,null,null,null,null,null,null,null,null,null,{"$f":"IF(OR('Set UP'!$C21=0,'Set UP'!$D21=0,'Set UP'!$E21=0),\"\",(BI$7*BI23)+(BJ$7*BJ23)+(BK$7*BK23)+(BL$7*BL23)+(BM$7*BM23)+(BN$7*BN23)+(BO$7*BO23)+(BP$7*BP23)+(BQ$7*BQ23)+(BR$7*BR23)+(BS$7*BS23))","v":0},null,null,null,{"$f":"IF(OR('Set UP'!$C21=0,'Set UP'!$D21=0,'Set UP'!$E21=0),\"\",(P23+AA23+AL23+AW23+BH23+BT23))","v":173.5},{"$f":"IF(OR('Set UP'!$C21=0,'Set UP'!$D21=0,'Set UP'!$E21=0),\"\",RANK(BX23,$BX$9:$BX$48,0))","v":18},{"$f":"IF(OR('Set UP'!K21<>1,'Set UP'!C21=0,'Set UP'!D21=0,'Set UP'!E21=0,'Set UP'!F21=0),\"\",$BX23)","v":""},{"$f":"IF(OR('Set UP'!K21<>1,'Set UP'!C21=0,'Set UP'!D21=0,'Set UP'!E21=0,'Set UP'!F21=0),\"\",RANK(BZ23,$BZ$9:$BZ$48,0))","v":""},{"$f":"IF(OR('Set UP'!K21<>2,'Set UP'!C21=0,'Set UP'!D21=0,'Set UP'!E21=0,'Set UP'!F21=0),\"\",$BX23)","v":""},{"$f":"IF(OR('Set UP'!K21<>2,'Set UP'!C21=0,'Set UP'!D21=0,'Set UP'!E21=0,'Set UP'!F21=0),\"\",RANK(CB23,$CB$9:$CB$48,0))","v":""}]
[null,16,{"$f":"IF(OR('Set UP'!$C22=0,'Set UP'!$D22=0,'Set UP'!$E22=0,'Set UP'!F22=0),\"  --\",'Set UP'!C22)","v":531},{"$f":"IF(OR('Set UP'!$C22=0,'Set UP'!$D22=0,'Set UP'!$E22=0,'Set UP'!F22=0),\"  --\",'Set UP'!D22&\" \"&'Set UP'!E22)","v":"University of London Union D"},{"$f":"IF(OR('Set UP'!$C22=0,'Set UP'!$D22=0,'Set UP'!$E22=0,'Set UP'!F22=0),\"  --\",'Set UP'!F22)","v":"NC"},5,4,6,5,5,null,null,null,null,null,{"$f":"IF(OR('Set UP'!$C22=0,'Set UP'!$D22=0,'Set UP'!$E22=0),\"\",(F$7*F24)+(G$7*G24)+(H$7*H24)+(I$7*I24)+(J$7*J24)+(K$7*K24)+(L$7*L24)+(M$7*M24)+(N$7*N24)+(O$7*O24))","v":43},6,6,0,2,0,6,5,0,null,null,{"$f":"IF(OR('Set UP'!$C22=0,'Set UP'!$D22=0,'Set UP'!$E22=0),\"\",(Q$7*Q24)+(R$7*R24)+(S$7*S24)+(T$7*T24)+(U$7*U24)+(V$7*V24)+(W$7*W24)+(X$7*X24)+(Y$7*Y24)+(Z$7*Z24))","v":35},1,1,0,0,0,4,0,0,0,null,{"$f":"IF(OR('Set UP'!$C22=0,'Set UP'!$D22=0,'Set UP'!$E22=0),\"\",(AB$7*AB24)+(AC$7*AC24)+(AD$7*AD24)+(AE$7*AE24)+(AF$7*AF24)+(AG$7*AG24)+(AH$7*AH24)+(AI$7*AI24)+(AJ$7*AJ24)+(AK$7*AK24))","v":7},7,6,1,8,6,1,3,8,null,null,{"$f":"IF(OR('Set UP'!$C22=0,'Set UP'!$D22=0,'Set UP'!$E22=0),\"\",(AM$7*AM24)+(AN$7*AN24)+(AO$7*AO24)+(AP$7*AP24)+(AQ$7*AQ24)+(AR$7*AR24)+(AS$7*AS24)+(AT$7*AT24)+(AU$7*AU24)+(AV$7*AV24))","v":77.5},7,8,9,0,7,8,4,0,null,null,{"$f":"IF(OR('Set UP'!$C22=0,'Set UP'!$D22=0,'Set UP'!$E22=0),\"\",(AX$7*AX24)+(AY$7*AY24)+(AZ$7*AZ24)+(BA$7*BA24)+(BB$7*BB24)+(BC$7*BC24)+(BD$7*BD24)+(BE$7*BE24)+(BF$7*BF24)+(BG$7*BG24))","v":49.5},0,null,null,null,null,null,null,null,null,null,null,{"$f":"IF(OR('Set UP'!$C22=0,'Set UP'!$D22=0,'Set UP'!$E22=0),\"\",(BI$7*BI24)+(BJ$7*BJ24)+(BK$7*BK24)+(BL$7*BL24)+(BM$7*BM24)+(BN$7*BN24)+(BO$7*BO24)+(BP$7*BP24)+(BQ$7*BQ24)+(BR$7*BR24)+(BS$7*BS24))","v":0},null,null,null,{"$f":"IF(OR('Set UP'!$C22=0,'Set UP'!$D22=0,'Set UP'!$E22=0),\"\",(P24+AA24+AL24+AW24+BH24+BT24))","v":212},{"$f":"IF(OR('Set UP'!$C22=0,'Set UP'!$D22=0,'Set UP'!$E22=0),\"\",RANK(BX24,$BX$9:$BX$48,0))","v":8},{"$f":"IF(OR('Set UP'!K22<>1,'Set UP'!C22=0,'Set UP'!D22=0,'Set UP'!E22=0,'Set UP'!F22=0),\"\",$BX24)","v":""},{"$f":"IF(OR('Set UP'!K22<>1,'Set UP'!C22=0,'Set UP'!D22=0,'Set UP'!E22=0,'Set UP'!F22=0),\"\",RANK(BZ24,$BZ$9:$BZ$48,0))","v":""},{"$f":"IF(OR('Set UP'!K22<>2,'Set UP'!C22=0,'Set UP'!D22=0,'Set UP'!E22=0,'Set UP'!F22=0),\"\",$BX24)","v":""},{"$f":"IF(OR('Set UP'!K22<>2,'Set UP'!C22=0,'Set UP'!D22=0,'Set UP'!E22=0,'Set UP'!F22=0),\"\",RANK(CB24,$CB$9:$CB$48,0))","v":""}]
[null,17,{"$f":"IF(OR('Set UP'!$C23=0,'Set UP'!$D23=0,'Set UP'!$E23=0,'Set UP'!F23=0),\"  --\",'Set UP'!C23)","v":471},{"$f":"IF(OR('Set UP'!$C23=0,'Set UP'!$D23=0,'Set UP'!$E23=0,'Set UP'!F23=0),\"  --\",'Set UP'!D23&\" \"&'Set UP'!E23)","v":"University of Cambridge A"},{"$f":"IF(OR('Set UP'!$C23=0,'Set UP'!$D23=0,'Set UP'!$E23=0,'Set UP'!F23=0),\"  --\",'Set UP'!F23)","v":"S"},5,7,5,4,5,null,null,null,null,null,{"$f":"IF(OR('Set UP'!$C23=0,'Set UP'!$D23=0,'Set UP'!$E23=0),\"\",(F$7*F25)+(G$7*G25)+(H$7*H25)+(I$7*I25)+(J$7*J25)+(K$7*K25)+(L$7*L25)+(M$7*M25)+(N$7*N25)+(O$7*O25))","v":46.5},4,2,0,2,0,4,5,0,null,null,{"$f":"IF(OR('Set UP'!$C23=0,'Set UP'!$D23=0,'Set UP'!$E23=0),\"\",(Q$7*Q25)+(R$7*R25)+(S$7*S25)+(T$7*T25)+(U$7*U25)+(V$7*V25)+(W$7*W25)+(X$7*X25)+(Y$7*Y25)+(Z$7*Z25))","v":26},7,7,5,0,0,0,0,0,0,null,{"$f":"IF(OR('Set UP'!$C23=0,'Set UP'!$D23=0,'Set UP'!$E23=0),\"\",(AB$7*AB25)+(AC$7*AC25)+(AD$7*AD25)+(AE$7*AE25)+(AF$7*AF25)+(AG$7*AG25)+(AH$7*AH25)+(AI$7*AI25)+(AJ$7*AJ25)+(AK$7*AK25))","v":33.5},6,7,0,7,6,0,3,8,null,null,{"$f":"IF(OR('Set UP'!$C23=0,'Set UP'!$D23=0,'Set UP'!$E23=0),\"\",(AM$7*AM25)+(AN$7*AN25)+(AO$7*AO25)+(AP$7*AP25)+(AQ$7*AQ25)+(AR$7*AR25)+(AS$7*AS25)+(AT$7*AT25)+(AU$7*AU25)+(AV$7*AV25))","v":74.5},7,5,0,0,6,6,0,0,null,null,{"$f":"IF(OR('Set UP'!$C23=0,'Set UP'!$D23=0,'Set UP'!$E23=0),\"\",(AX$7*AX25)+(AY$7*AY25)+(AZ$7*AZ25)+(BA$7*BA25)+(BB$7*BB25)+(BC$7*BC25)+(BD$7*BD25)+(BE$7*BE25)+(BF$7*BF25)+(BG$7*BG25))","v":29},10,10,0,10,0,7,null,null,null,null,null,{"$f":"IF(OR('Set UP'!$C23=0,'Set UP'!$D23=0,'Set UP'!$E23=0),\"\",(BI$7*BI25)+(BJ$7*BJ25)+(BK$7*BK25)+(BL$7*BL25)+(BM$7*BM25)+(BN$7*BN25)+(BO$7*BO25)+(BP$7*BP25)+(BQ$7*BQ25)+(BR$7*BR25)+(BS$7*BS25))","v":46},null,null,null,{"$f":"IF(OR('Set UP'!$C23=0,'Set UP'!$D23=0,'Set UP'!$E23=0),\"\",(P25+AA25+AL25+AW25+BH25+BT25))","v":255.5},{"$f":"IF(OR('Set UP'!$C23=0,'Set UP'!$D23=0,'Set UP'!$E23=0),\"\",RANK(BX25,$BX$9:$BX$48,0))","v":2},{"$f":"IF(OR('Set UP'!K23<>1,'Set UP'!C23=0,'Set UP'!D23=0,'Set UP'!E23=0,'Set UP'!F23=0),\"\",$BX25)","v":255.5},{"$f":"IF(OR('Set UP'!K23<>1,'Set UP'!C23=0,'Set UP'!D23=0,'Set UP'!E23=0,'Set UP'!F23=0),\"\",RANK(BZ25,$BZ$9:$BZ$48,0))","v":2},{"$f":"IF(OR('Set UP'!K23<>2,'Set UP'!C23=0,'Set UP'!D23=0,'Set UP'!E23=0,'Set UP'!F23=0),\"\",$BX25)","v":""},{"$f":"IF(OR('Set UP'!K23<>2,'Set UP'!C23=0,'Set UP'!D23=0,'Set UP'!E23=0,'Set UP'!F23=0),\"\",RANK(CB25,$CB$9:$CB$48,0))","v":""}]
[null,18,{"$f":"IF(OR('Set UP'!$C24=0,'Set UP'!$D24=0,'Set UP'!$E24=0,'Set UP'!F24=0),\"  --\",'Set UP'!C24)","v":522},{"$f":"IF(OR('Set UP'!$C24=0,'Set UP'!$D24=0,'Set UP'!$E24=0,'Set UP'!F24=0),\"  --\",'Set UP'!D24&\" \"&'Set UP'!E24)","v":"University of Birmingham B"},{"$f":"IF(OR('Set UP'!$C24=0,'Set UP'!$D24=0,'Set UP'!$E24=0,'Set UP'!F24=0),\"  --\",'Set UP'!F24)","v":"S"},6,1,6,4,5,null,null,null,null,null,{"$f":"IF(OR('Set UP'!$C24=0,'Set UP'!$D24=0,'Set UP'!$E24=0),\"\",(F$7*F26)+(G$7*G26)+(H$7*H26)+(I$7*I26)+(J$7*J26)+(K$7*K26)+(L$7*L26)+(M$7*M26)+(N$7*N26)+(O$7*O26))","v":35.5},6,5,0,3,0,8,6,5,null,null,{"$f":"IF(OR('Set UP'!$C24=0,'Set UP'!$D24=0,'Set UP'!$E24=0),\"\",(Q$7*Q26)+(R$7*R26)+(S$7*S26)+(T$7*T26)+(U$7*U26)+(V$7*V26)+(W$7*W26)+(X$7*X26)+(Y$7*Y26)+(Z$7*Z26))","v":43.5},5,4,0,0,0,6,4,0,0,null,{"$f":"IF(OR('Set UP'!$C24=0,'Set UP'!$D24=0,'Set UP'!$E24=0),\"\",(AB$7*AB26)+(AC$7*AC26)+(AD$7*AD26)+(AE$7*AE26)+(AF$7*AF26)+(AG$7*AG26)+(AH$7*AH26)+(AI$7*AI26)+(AJ$7*AJ26)+(AK$7*AK26))","v":23},5,3,2,5,5,3,1,0,null,null,{"$f":"IF(OR('Set UP'!$C24=0,'Set UP'!$D24=0,'Set UP'!$E24=0),\"\",(AM$7*AM26)+(AN$7*AN26)+(AO$7*AO26)+(AP$7*AP26)+(AQ$7*AQ26)+(AR$7*AR26)+(AS$7*AS26)+(AT$7*AT26)+(AU$7*AU26)+(AV$7*AV26))","v":48},6,8,8,0,4,7,6,0,null,null,{"$f":"IF(OR('Set UP'!$C24=0,'Set UP'!$D24=0,'Set UP'!$E24=0),\"\",(AX$7*AX26)+(AY$7*AY26)+(AZ$7*AZ26)+(BA$7*BA26)+(BB$7*BB26)+(BC$7*BC26)+(BD$7*BD26)+(BE$7*BE26)+(BF$7*BF26)+(BG$7*BG26))","v":45.5},0,null,null,null,null,null,null,null,null,null,null,{"$f":"IF(OR('Set UP'!$C24=0,'Set UP'!$D24=0,'Set UP'!$E24=0),\"\",(BI$7*BI26)+(BJ$7*BJ26)+(BK$7*BK26)+(BL$7*BL26)+(BM$7*BM26)+(BN$7*BN26)+(BO$7*BO26)+(BP$7*BP26)+(BQ$7*BQ26)+(BR$7*BR26)+(BS$7*BS26))","v":0},null,null,null,{"$f":"IF(OR('Set UP'!$C24=0,'Set UP'!$D24=0,'Set UP'!$E24=0),\"\",(P26+AA26+AL26+AW26+BH26+BT26))","v":195.5},{"$f":"IF(OR('Set UP'!$C24=0,'Set UP'!$D24=0,'Set UP'!$E24=0),\"\",RANK(BX26,$BX$9:$BX$48,0))","v":13},{"$f":"IF(OR('Set UP'!K24<>1,'Set UP'!C24=0,'Set UP'!D24=0,'Set UP'!E24=0,'Set UP'!F24=0),\"\",$BX26)","v":""},{"$f":"IF(OR('Set UP'!K24<>1,'Set UP'!C24=0,'Set UP'!D24=0,'Set UP'!E24=0,'Set UP'!F24=0),\"\",RANK(BZ26,$BZ$9:$BZ$48,0))","v":""},{"$f":"IF(OR('Set UP'!K24<>2,'Set UP'!C24=0,'Set UP'!D24=0,'Set UP'!E24=0,'Set UP'!F24=0),\"\",$BX26)","v":195.5},{"$f":"IF(OR('Set UP'!K24<>2,'Set UP'!C24=0,'Set UP'!D24=0,'Set UP'!E24=0,'Set UP'!F24=0),\"\",RANK(CB26,$CB$9:$CB$48,0))","v":4}]
[null,19,{"$f":"IF(OR('Set UP'!$C25=0,'Set UP'!$D25=0,'Set UP'!$E25=0,'Set UP'!F25=0),\"  --\",'Set UP'!C25)","v":498},{"$f":"IF(OR('Set UP'!$C25=0,'Set UP'!$D25=0,'Set UP'!$E25=0,'Set UP'!F25=0),\"  --\",'Set UP'!D25&\" \"&'Set UP'!E25)","v":"University of St Andrews A"},{"$f":"IF(OR('Set UP'!$C25=0,'Set UP'!$D25=0,'Set UP'!$E25=0,'Set UP'!F25=0),\"  --\",'Set UP'!F25)","v":"S"},5,5,4,7,7,null,null,null,null,null,{"$f":"IF(OR('Set UP'!$C25=0,'Set UP'!$D25=0,'Set UP'!$E25=0),\"\",(F$7*F27)+(G$7*G27)+(H$7*H27)+(I$7*I27)+(J$7*J27)+(K$7*K27)+(L$7*L27)+(M$7*M27)+(N$7*N27)+(O$7*O27))","v":43.5},5,5,0,0,0,3,5,0,null,null,{"$f":"IF(OR('Set UP'!$C25=0,'Set UP'!$D25=0,'Set UP'!$E25=0),\"\",(Q$7*Q27)+(R$7*R27)+(S$7*S27)+(T$7*T27)+(U$7*U27)+(V$7*V27)+(W$7*W27)+(X$7*X27)+(Y$7*Y27)+(Z$7*Z27))","v":24.5},7,5,5,0,0,0,0,0,0,null,{"$f":"IF(OR('Set UP'!$C25=0,'Set UP'!$D25=0,'Set UP'!$E25=0),\"\",(AB$7*AB27)+(AC$7*AC27)+(AD$7*AD27)+(AE$7*AE27)+(AF$7*AF27)+(AG$7*AG27)+(AH$7*AH27)+(AI$7*AI27)+(AJ$7*AJ27)+(AK$7*AK27))","v":29.5},6,4,2,7,4,1,3,4,null,null,{"$f":"IF(OR('Set UP'!$C25=0,'Set UP'!$D25=0,'Set UP'!$E25=0),\"\",(AM$7*AM27)+(AN$7*AN27)+(AO$7*AO27)+(AP$7*AP27)+(AQ$7*AQ27)+(AR$7*AR27)+(AS$7*AS27)+(AT$7*AT27)+(AU$7*AU27)+(AV$7*AV27))","v":58.5},6,4,0,0,6,4,0,0,null,null,{"$f":"IF(OR('Set UP'!$C25=0,'Set UP'!$D25=0,'Set UP'!$E25=0),\"\",(AX$7*AX27)+(AY$7*AY27)+(AZ$7*AZ27)+(BA$7*BA27)+(BB$7*BB27)+(BC$7*BC27)+(BD$7*BD27)+(BE$7*BE27)+(BF$7*BF27)+(BG$7*BG27))","v":23},0,null,null,null,null,null,null,null,null,null,null,{"$f":"IF(OR('Set UP'!$C25=0,'Set UP'!$D25=0,'Set UP'!$E25=0),\"\",(BI$7*BI27)+(BJ$7*BJ27)+(BK$7*BK27)+(BL$7*BL27)+(BM$7*BM27)+(BN$7*BN27)+(BO$7*BO27)+(BP$7*BP27)+(BQ$7*BQ27)+(BR$7*BR27)+(BS$7*BS27))","v":0},null,null,null,{"$f":"IF(OR('Set UP'!$C25=0,'Set UP'!$D25=0,'Set UP'!$E25=0),\"\",(P27+AA27+AL27+AW27+BH27+BT27))","v":179},{"$f":"IF(OR('Set UP'!$C25=0,'Set UP'!$D25=0,'Set UP'!$E25=0),\"\",RANK(BX27,$BX$9:$BX$48,0))","v":15},{"$f":"IF(OR('Set UP'!K25<>1,'Set UP'!C25=0,'Set UP'!D25=0,'Set UP'!E25=0,'Set UP'!F25=0),\"\",$BX27)","v":179},{"$f":"IF(OR('Set UP'!K25<>1,'Set UP'!C25=0,'Set UP'!D25=0,'Set UP'!E25=0,'Set UP'!F25=0),\"\",RANK(BZ27,$BZ$9:$BZ$48,0))","v":8},{"$f":"IF(OR('Set UP'!K25<>2,'Set UP'!C25=0,'Set UP'!D25=0,'Set UP'!E25=0,'Set UP'!F25=0),\"\",$BX27)","v":""},{"$f":"IF(OR('Set UP'!K25<>2,'Set UP'!C25=0,'Set UP'!D25=0,'Set UP'!E25=0,'Set UP'!F25=0),\"\",RANK(CB27,$CB$9:$CB$48,0))","v":""}]
[null,20,{"$f":"IF(OR('Set UP'!$C26=0,'Set UP'!$D26=0,'Set UP'!$E26=0,'Set UP'!F26=0),\"  --\",'Set UP'!C26)","v":535},{"$f":"IF(OR('Set UP'!$C26=0,'Set UP'!$D26=0,'Set UP'!$E26=0,'Set UP'!F26=0),\"  --\",'Set UP'!D26&\" \"&'Set UP'!E26)","v":"University of Birmingham A"},{"$f":"IF(OR('Set UP'!$C26=0,'Set UP'!$D26=0,'Set UP'!$E26=0,'Set UP'!F26=0),\"  --\",'Set UP'!F26)","v":"S"},6,9,7,8,9,null,null,null,null,null,{"$f":"IF(OR('Set UP'!$C26=0,'Set UP'!$D26=0,'Set UP'!$E26=0),\"\",(F$7*F28)+(G$7*G28)+(H$7*H28)+(I$7*I28)+(J$7*J28)+(K$7*K28)+(L$7*L28)+(M$7*M28)+(N$7*N28)+(O$7*O28))","v":66.5},7,6,6,7,5,5,7,7,null,null,{"$f":"IF(OR('Set UP'!$C26=0,'Set UP'!$D26=0,'Set UP'!$E26=0),\"\",(Q$7*Q28)+(R$7*R28)+(S$7*S28)+(T$7*T28)+(U$7*U28)+(V$7*V28)+(W$7*W28)+(X$7*X28)+(Y$7*Y28)+(Z$7*Z28))","v":60.5},8,5,3,0,0,0,0,0,0,null,{"$f":"IF(OR('Set UP'!$C26=0,'Set UP'!$D26=0,'Set UP'!$E26=0),\"\",(AB$7*AB28)+(AC$7*AC28)+(AD$7*AD28)+(AE$7*AE28)+(AF$7*AF28)+(AG$7*AG28)+(AH$7*AH28)+(AI$7*AI28)+(AJ$7*AJ28)+(AK$7*AK28))","v":25.5},7,4,3,7,3,0,4,2,null,null,{"$f":"IF(OR('Set UP'!$C26=0,'Set UP'!$D26=0,'Set UP'!$E26=0),\"\",(AM$7*AM28)+(AN$7*AN28)+(AO$7*AO28)+(AP$7*AP28)+(AQ$7*AQ28)+(AR$7*AR28)+(AS$7*AS28)+(AT$7*AT28)+(AU$7*AU28)+(AV$7*AV28))","v":56},5,5,0,0,5,5,0,0,null,null,{"$f":"IF(OR('Set UP'!$C26=0,'Set UP'!$D26=0,'Set UP'!$E26=0),\"\",(AX$7*AX28)+(AY$7*AY28)+(AZ$7*AZ28)+(BA$7*BA28)+(BB$7*BB28)+(BC$7*BC28)+(BD$7*BD28)+(BE$7*BE28)+(BF$7*BF28)+(BG$7*BG28))","v":25},10,10,10,5,9,9,8,0,0,0,0,{"$f":"IF(OR('Set UP'!$C26=0,'Set UP'!$D26=0,'Set UP'!$E26=0),\"\",(BI$7*BI28)+(BJ$7*BJ28)+(BK$7*BK28)+(BL$7*BL28)+(BM$7*BM28)+(BN$7*BN28)+(BO$7*BO28)+(BP$7*BP28)+(BQ$7*BQ28)+(BR$7*BR28)+(BS$7*BS28))","v":70},null,null,null,{"$f":"IF(OR('Set UP'!$C26=0,'Set UP'!$D26=0,'Set UP'!$E26=0),\"\",(P28+AA28+AL28+AW28+BH28+BT28))","v":303.5},{"$f":"IF(OR('Set UP'!$C26=0,'Set UP'!$D26=0,'Set UP'!$E26=0),\"\",RANK(BX28,$BX$9:$BX$48,0))","v":1},{"$f":"IF(OR('Set UP'!K26<>1,'Set UP'!C26=0,'Set UP'!D26=0,'Set UP'!E26=0,'Set UP'!F26=0),\"\",$BX28)","v":303.5},{"$f":"IF(OR('Set UP'!K26<>1,'Set UP'!C26=0,'Set UP'!D26=0,'Set UP'!E26=0,'Set UP'!F26=0),\"\",RANK(BZ28,$BZ$9:$BZ$48,0))","v":1},{"$f":"IF(OR('Set UP'!K26<>2,'Set UP'!C26=0,'Set UP'!D26=0,'Set UP'!E26=0,'Set UP'!F26=0),\"\",$BX28)","v":""},{"$f":"IF(OR('Set UP'!K26<>2,'Set UP'!C26=0,'Set UP'!D26=0,'Set UP'!E26=0,'Set UP'!F26=0),\"\",RANK(CB28,$CB$9:$CB$48,0))","v":""}]
[null,21,{"$f":"IF(OR('Set UP'!$C27=0,'Set UP'!$D27=0,'Set UP'!$E27=0,'Set UP'!F27=0),\"  --\",'Set UP'!C27)","v":508},{"$f":"IF(OR('Set UP'!$C27=0,'Set UP'!$D27=0,'Set UP'!$E27=0,'Set UP'!F27=0),\"  --\",'Set UP'!D27&\" \"&'Set UP'!E27)","v":"University of Nottingham A"},{"$f":"IF(OR('Set UP'!$C27=0,'Set UP'!$D27=0,'Set UP'!$E27=0,'Set UP'!F27=0),\"  --\",'Set UP'!F27)","v":"S"},3,6,6,5,5,null,null,null,null,null,{"$f":"IF(OR('Set UP'!$C27=0,'Set UP'!$D27=0,'Set UP'!$E27=0),\"\",(F$7*F29)+(G$7*G29)+(H$7*H29)+(I$7*I29)+(J$7*J29)+(K$7*K29)+(L$7*L29)+(M$7*M29)+(N$7*N29)+(O$7*O29))","v":46},5,7,0,3,0,4,4,0,null,null,{"$f":"IF(OR('Set UP'!$C27=0,'Set UP'!$D27=0,'Set UP'!$E27=0),\"\",(Q$7*Q29)+(R$7*R29)+(S$7*S29)+(T$7*T29)+(U$7*U29)+(V$7*V29)+(W$7*W29)+(X$7*X29)+(Y$7*Y29)+(Z$7*Z29))","v":32},5,4,5,0,0,0,0,0,0,null,{"$f":"IF(OR('Set UP'!$C27=0,'Set UP'!$D27=0,'Set UP'!$E27=0),\"\",(AB$7*AB29)+(AC$7*AC29)+(AD$7*AD29)+(AE$7*AE29)+(AF$7*AF29)+(AG$7*AG29)+(AH$7*AH29)+(AI$7*AI29)+(AJ$7*AJ29)+(AK$7*AK29))","v":25.5},7,7,4,8,7,4,5,6,null,null,{"$f":"IF(OR('Set UP'!$C27=0,'Set UP'!$D27=0,'Set UP'!$E27=0),\"\",(AM$7*AM29)+(AN$7*AN29)+(AO$7*AO29)+(AP$7*AP29)+(AQ$7*AQ29)+(AR$7*AR29)+(AS$7*AS29)+(AT$7*AT29)+(AU$7*AU29)+(AV$7*AV29))","v":85},6,6,0,0,6,6,0,0,null,null,{"$f":"IF(OR('Set UP'!$C27=0,'Set UP'!$D27=0,'Set UP'!$E27=0),\"\",(AX$7*AX29)+(AY$7*AY29)+(AZ$7*AZ29)+(BA$7*BA29)+(BB$7*BB29)+(BC$7*BC29)+(BD$7*BD29)+(BE$7*BE29)+(BF$7*BF29)+(BG$7*BG29))","v":30},0,null,null,null,null,null,null,null,null,null,null,{"$f":"IF(OR('Set UP'!$C27=0,'Set UP'!$D27=0,'Set UP'!$E27=0),\"\",(BI$7*BI29)+(BJ$7*BJ29)+(BK$7*BK29)+(BL$7*BL29)+(BM$7*BM29)+(BN$7*BN29)+(BO$7*BO29)+(BP$7*BP29)+(BQ$7*BQ29)+(BR$7*BR29)+(BS$7*BS29))","v":0},null,null,null,{"$f":"IF(OR('Set UP'!$C27=0,'Set UP'!$D27=0,'Set UP'!$E27=0),\"\",(P29+AA29+AL29+AW29+BH29+BT29))","v":218.5},{"$f":"IF(OR('Set UP'!$C27=0,'Set UP'!$D27=0,'Set UP'!$E27=0),\"\",RANK(BX29,$BX$9:$BX$48,0))","v":7},{"$f":"IF(OR('Set UP'!K27<>1,'Set UP'!C27=0,'Set UP'!D27=0,'Set UP'!E27=0,'Set UP'!F27=0),\"\",$BX29)","v":218.5},{"$f":"IF(OR('Set UP'!K27<>1,'Set UP'!C27=0,'Set UP'!D27=0,'Set UP'!E27=0,'Set UP'!F27=0),\"\",RANK(BZ29,$BZ$9:$BZ$48,0))","v":5},{"$f":"IF(OR('Set UP'!K27<>2,'Set UP'!C27=0,'Set UP'!D27=0,'Set UP'!E27=0,'Set UP'!F27=0),\"\",$BX29)","v":""},{"$f":"IF(OR('Set UP'!K27<>2,'Set UP'!C27=0,'Set UP'!D27=0,'Set UP'!E27=0,'Set UP'!F27=0),\"\",RANK(CB29,$CB$9:$CB$48,0))","v":""}]
[null,22,{"$f":"IF(OR('Set UP'!$C28=0,'Set UP'!$D28=0,'Set UP'!$E28=0,'Set UP'!F28=0),\"  --\",'Set UP'!C28)","v":528},{"$f":"IF(OR('Set UP'!$C28=0,'Set UP'!$D28=0,'Set UP'!$E28=0,'Set UP'!F28=0),\"  --\",'Set UP'!D28&\" \"&'Set UP'!E28)","v":"University of London Union B"},{"$f":"IF(OR('Set UP'!$C28=0,'Set UP'!$D28=0,'Set UP'!$E28=0,'Set UP'!F28=0),\"  --\",'Set UP'!F28)","v":"S"},5,7,6,5,4,null,null,null,null,null,{"$f":"IF(OR('Set UP'!$C28=0,'Set UP'!$D28=0,'Set UP'!$E28=0),\"\",(F$7*F30)+(G$7*G30)+(H$7*H30)+(I$7*I30)+(J$7*J30)+(K$7*K30)+(L$7*L30)+(M$7*M30)+(N$7*N30)+(O$7*O30))","v":49.5},5,4,0,1,0,3,4,0,null,null,{"$f":"IF(OR('Set UP'!$C28=0,'Set UP'!$D28=0,'Set UP'!$E28=0),\"\",(Q$7*Q30)+(R$7*R30)+(S$7*S30)+(T$7*T30)+(U$7*U30)+(V$7*V30)+(W$7*W30)+(X$7*X30)+(Y$7*Y30)+(Z$7*Z30))","v":23.5},8,4,5,0,0,0,0,0,0,null,{"$f":"IF(OR('Set UP'!$C28=0,'Set UP'!$D28=0,'Set UP'!$E28=0),\"\",(AB$7*AB30)+(AC$7*AC30)+(AD$7*AD30)+(AE$7*AE30)+(AF$7*AF30)+(AG$7*AG30)+(AH$7*AH30)+(AI$7*AI30)+(AJ$7*AJ30)+(AK$7*AK30))","v":28.5},6,7,2,7,7,2,3,0,null,null,{"$f":"IF(OR('Set UP'!$C28=0,'Set UP'!$D28=0,'Set UP'!$E28=0),\"\",(AM$7*AM30)+(AN$7*AN30)+(AO$7*AO30)+(AP$7*AP30)+(AQ$7*AQ30)+(AR$7*AR30)+(AS$7*AS30)+(AT$7*AT30)+(AU$7*AU30)+(AV$7*AV30))","v":71.5},3,7,2,0,3,6,2,0,null,null,{"$f":"IF(OR('Set UP'!$C28=0,'Set UP'!$D28=0,'Set UP'!$E28=0),\"\",(AX$7*AX30)+(AY$7*AY30)+(AZ$7*AZ30)+(BA$7*BA30)+(BB$7*BB30)+(BC$7*BC30)+(BD$7*BD30)+(BE$7*BE30)+(BF$7*BF30)+(BG$7*BG30))","v":30.5},0,null,null,null,null,null,null,null,null,null,null,{"$f":"IF(OR('Set UP'!$C28=0,'Set UP'!$D28=0,'Set UP'!$E28=0),\"\",(BI$7*BI30)+(BJ$7*BJ30)+(BK$7*BK30)+(BL$7*BL30)+(BM$7*BM30)+(BN$7*BN30)+(BO$7*BO30)+(BP$7*BP30)+(BQ$7*BQ30)+(BR$7*BR30)+(BS$7*BS30))","v":0},null,null,null,{"$f":"IF(OR('Set UP'!$C28=0,'Set UP'!$D28=0,'Set UP'!$E28=0),\"\",(P30+AA30+AL30+AW30+BH30+BT30))","v":203.5},{"$f":"IF(OR('Set UP'!$C28=0,'Set UP'!$D28=0,'Set UP'!$E28=0),\"\",RANK(BX30,$BX$9:$BX$48,0))","v":11},{"$f":"IF(OR('Set UP'!K28<>1,'Set UP'!C28=0,'Set UP'!D28=0,'Set UP'!E28=0,'Set UP'!F28=0),\"\",$BX30)","v":""},{"$f":"IF(OR('Set UP'!K28<>1,'Set UP'!C28=0,'Set UP'!D28=0,'Set UP'!E28=0,'Set UP'!F28=0),\"\",RANK(BZ30,$BZ$9:$BZ$48,0))","v":""},{"$f":"IF(OR('Set UP'!K28<>2,'Set UP'!C28=0,'Set UP'!D28=0,'Set UP'!E28=0,'Set UP'!F28=0),\"\",$BX30)","v":203.5},{"$f":"IF(OR('Set UP'!K28<>2,'Set UP'!C28=0,'Set UP'!D28=0,'Set UP'!E28=0,'Set UP'!F28=0),\"\",RANK(CB30,$CB$9:$CB$48,0))","v":3}]
[null,23,{"$f":"IF(OR('Set UP'!$C29=0,'Set UP'!$D29=0,'Set UP'!$E29=0,'Set UP'!F29=0),\"  --\",'Set UP'!C29)","v":511},{"$f":"IF(OR('Set UP'!$C29=0,'Set UP'!$D29=0,'Set UP'!$E29=0,'Set UP'!F29=0),\"  --\",'Set UP'!D29&\" \"&'Set UP'!E29)","v":"University of Warwick B"},{"$f":"IF(OR('Set UP'!$C29=0,'Set UP'!$D29=0,'Set UP'!$E29=0,'Set UP'!F29=0),\"  --\",'Set UP'!F29)","v":"S"},3,9,6,7,7,null,null,null,null,null,{"$f":"IF(OR('Set UP'!$C29=0,'Set UP'!$D29=0,'Set UP'!$E29=0),\"\",(F$7*F31)+(G$7*G31)+(H$7*H31)+(I$7*I31)+(J$7*J31)+(K$7*K31)+(L$7*L31)+(M$7*M31)+(N$7*N31)+(O$7*O31))","v":57.5},6,5,5,5,0,5,6,0,null,null,{"$f":"IF(OR('Set UP'!$C29=0,'Set UP'!$D29=0,'Set UP'!$E29=0),\"\",(Q$7*Q31)+(R$7*R31)+(S$7*S31)+(T$7*T31)+(U$7*U31)+(V$7*V31)+(W$7*W31)+(X$7*X31)+(Y$7*Y31)+(Z$7*Z31))","v":45.5},2,4,2,10,0,0,0,0,0,null,{"$f":"IF(OR('Set UP'!$C29=0,'Set UP'!$D29=0,'Set UP'!$E29=0),\"\",(AB$7*AB31)+(AC$7*AC31)+(AD$7*AD31)+(AE$7*AE31)+(AF$7*AF31)+(AG$7*AG31)+(AH$7*AH31)+(AI$7*AI31)+(AJ$7*AJ31)+(AK$7*AK31))","v":20},4,4,0,7,6,0,0,0,null,null,{"$f":"IF(OR('Set UP'!$C29=0,'Set UP'!$D29=0,'Set UP'!$E29=0),\"\",(AM$7*AM31)+(AN$7*AN31)+(AO$7*AO31)+(AP$7*AP31)+(AQ$7*AQ31)+(AR$7*AR31)+(AS$7*AS31)+(AT$7*AT31)+(AU$7*AU31)+(AV$7*AV31))","v":53.5},7,5,6,0,7,7,8,4,null,null,{"$f":"IF(OR('Set UP'!$C29=0,'Set UP'!$D29=0,'Set UP'!$E29=0),\"\",(AX$7*AX31)+(AY$7*AY31)+(AZ$7*AZ31)+(BA$7*BA31)+(BB$7*BB31)+(BC$7*BC31)+(BD$7*BD31)+(BE$7*BE31)+(BF$7*BF31)+(BG$7*BG31))","v":43},0,null,null,null,null,null,null,null,null,null,null,{"$f":"IF(OR('Set UP'!$C29=0,'Set UP'!$D29=0,'Set UP'!$E29=0),\"\",(BI$7*BI31)+(BJ$7*BJ31)+(BK$7*BK31)+(BL$7*BL31)+(BM$7*BM31)+(BN$7*BN31)+(BO$7*BO31)+(BP$7*BP31)+(BQ$7*BQ31)+(BR$7*BR31)+(BS$7*BS31))","v":0},null,null,null,{"$f":"IF(OR('Set UP'!$C29=0,'Set UP'!$D29=0,'Set UP'!$E29=0),\"\",(P31+AA31+AL31+AW31+BH31+BT31))","v":219.5},{"$f":"IF(OR('Set UP'!$C29=0,'Set UP'!$D29=0,'Set UP'!$E29=0),\"\",RANK(BX31,$BX$9:$BX$48,0))","v":6},{"$f":"IF(OR('Set UP'!K29<>1,'Set UP'!C29=0,'Set UP'!D29=0,'Set UP'!E29=0,'Set UP'!F29=0),\"\",$BX31)","v":""},{"$f":"IF(OR('Set UP'!K29<>1,'Set UP'!C29=0,'Set UP'!D29=0,'Set UP'!E29=0,'Set UP'!F29=0),\"\",RANK(BZ31,$BZ$9:$BZ$48,0))","v":""},{"$f":"IF(OR('Set UP'!K29<>2,'Set UP'!C29=0,'Set UP'!D29=0,'Set UP'!E29=0,'Set UP'!F29=0),\"\",$BX31)","v":219.5},{"$f":"IF(OR('Set UP'!K29<>2,'Set UP'!C29=0,'Set UP'!D29=0,'Set UP'!E29=0,'Set UP'!F29=0),\"\",RANK(CB31,$CB$9:$CB$48,0))","v":2}]
[null,24,{"$f":"IF(OR('Set UP'!$C30=0,'Set UP'!$D30=0,'Set UP'!$E30=0,'Set UP'!F30=0),\"  --\",'Set UP'!C30)","v":509},{"$f":"IF(OR('Set UP'!$C30=0,'Set UP'!$D30=0,'Set UP'!$E30=0,'Set UP'!F30=0),\"  --\",'Set UP'!D30&\" \"&'Set UP'!E30)","v":"University of Nottingham B"},{"$f":"IF(OR('Set UP'!$C30=0,'Set UP'!$D30=0,'Set UP'!$E30=0,'Set UP'!F30=0),\"  --\",'Set UP'!F30)","v":"S"},6,2,6,2,8,null,null,null,null,null,{"$f":"IF(OR('Set UP'!$C30=0,'Set UP'!$D30=0,'Set UP'!$E30=0),\"\",(F$7*F32)+(G$7*G32)+(H$7*H32)+(I$7*I32)+(J$7*J32)+(K$7*K32)+(L$7*L32)+(M$7*M32)+(N$7*N32)+(O$7*O32))","v":39},4,4,0,1,0,4,3,0,null,null,{"$f":"IF(OR('Set UP'!$C30=0,'Set UP'!$D30=0,'Set UP'!$E30=0),\"\",(Q$7*Q32)+(R$7*R32)+(S$7*S32)+(T$7*T32)+(U$7*U32)+(V$7*V32)+(W$7*W32)+(X$7*X32)+(Y$7*Y32)+(Z$7*Z32))","v":22},6,1,0,0,0,0,0,0,0,null,{"$f":"IF(OR('Set UP'!$C30=0,'Set UP'!$D30=0,'Set UP'!$E30=0),\"\",(AB$7*AB32)+(AC$7*AC32)+(AD$7*AD32)+(AE$7*AE32)+(AF$7*AF32)+(AG$7*AG32)+(AH$7*AH32)+(AI$7*AI32)+(AJ$7*AJ32)+(AK$7*AK32))","v":8},5,6,3,7,6,3,3,4,null,null,{"$f":"IF(OR('Set UP'!$C30=0,'Set UP'!$D30=0,'Set UP'!$E30=0),\"\",(AM$7*AM32)+(AN$7*AN32)+(AO$7*AO32)+(AP$7*AP32)+(AQ$7*AQ32)+(AR$7*AR32)+(AS$7*AS32)+(AT$7*AT32)+(AU$7*AU32)+(AV$7*AV32))","v":69},6,3,0,0,6,3,0,0,null,null,{"$f":"IF(OR('Set UP'!$C30=0,'Set UP'!$D30=0,'Set UP'!$E30=0),\"\",(AX$7*AX32)+(AY$7*AY32)+(AZ$7*AZ32)+(BA$7*BA32)+(BB$7*BB32)+(BC$7*BC32)+(BD$7*BD32)+(BE$7*BE32)+(BF$7*BF32)+(BG$7*BG32))","v":19.5},0,null,null,null,null,null,null,null,null,null,null,{"$f":"IF(OR('Set UP'!$C30=0,'Set UP'!$D30=0,'Set UP'!$E30=0),\"\",(BI$7*BI32)+(BJ$7*BJ32)+(BK$7*BK32)+(BL$7*BL32)+(BM$7*BM32)+(BN$7*BN32)+(BO$7*BO32)+(BP$7*BP32)+(BQ$7*BQ32)+(BR$7*BR32)+(BS$7*BS32))","v":0},null,null,null,{"$f":"IF(OR('Set UP'!$C30=0,'Set UP'!$D30=0,'Set UP'!$E30=0),\"\",(P32+AA32+AL32+AW32+BH32+BT32))","v":157.5},{"$f":"IF(OR('Set UP'!$C30=0,'Set UP'!$D30=0,'Set UP'!$E30=0),\"\",RANK(BX32,$BX$9:$BX$48,0))","v":24},{"$f":"IF(OR('Set UP'!K30<>1,'Set UP'!C30=0,'Set UP'!D30=0,'Set UP'!E30=0,'Set UP'!F30=0),\"\",$BX32)","v":""},{"$f":"IF(OR('Set UP'!K30<>1,'Set UP'!C30=0,'Set UP'!D30=0,'Set UP'!E30=0,'Set UP'!F30=0),\"\",RANK(BZ32,$BZ$9:$BZ$48,0))","v":""},{"$f":"IF(OR('Set UP'!K30<>2,'Set UP'!C30=0,'Set UP'!D30=0,'Set UP'!E30=0,'Set UP'!F30=0),\"\",$BX32)","v":157.5},{"$f":"IF(OR('Set UP'!K30<>2,'Set UP'!C30=0,'Set UP'!D30=0,'Set UP'!E30=0,'Set UP'!F30=0),\"\",RANK(CB32,$CB$9:$CB$48,0))","v":11}]
[null,25,{"$f":"IF(OR('Set UP'!$C31=0,'Set UP'!$D31=0,'Set UP'!$E31=0,'Set UP'!F31=0),\"  --\",'Set UP'!C31)","v":517},{"$f":"IF(OR('Set UP'!$C31=0,'Set UP'!$D31=0,'Set UP'!$E31=0,'Set UP'!F31=0),\"  --\",'Set UP'!D31&\" \"&'Set UP'!E31)","v":"Loughborough University B"},{"$f":"IF(OR('Set UP'!$C31=0,'Set UP'!$D31=0,'Set UP'!$E31=0,'Set UP'!F31=0),\"  --\",'Set UP'!F31)","v":"S"},7,4,2,4,3,null,null,null,null,null,{"$f":"IF(OR('Set UP'!$C31=0,'Set UP'!$D31=0,'Set UP'!$E31=0),\"\",(F$7*F33)+(G$7*G33)+(H$7*H33)+(I$7*I33)+(J$7*J33)+(K$7*K33)+(L$7*L33)+(M$7*M33)+(N$7*N33)+(O$7*O33))","v":30},6,6,4,4,0,5,6,5,null,null,{"$f":"IF(OR('Set UP'!$C31=0,'Set UP'!$D31=0,'Set UP'!$E31=0),\"\",(Q$7*Q33)+(R$7*R33)+(S$7*S33)+(T$7*T33)+(U$7*U33)+(V$7*V33)+(W$7*W33)+(X$7*X33)+(Y$7*Y33)+(Z$7*Z33))","v":46},8,8,2,0,0,0,0,0,0,null,{"$f":"IF(OR('Set UP'!$C31=0,'Set UP'!$D31=0,'Set UP'!$E31=0),\"\",(AB$7*AB33)+(AC$7*AC33)+(AD$7*AD33)+(AE$7*AE33)+(AF$7*AF33)+(AG$7*AG33)+(AH$7*AH33)+(AI$7*AI33)+(AJ$7*AJ33)+(AK$7*AK33))","v":29},7,5,6,7,6,6,3,0,null,null,{"$f":"IF(OR('Set UP'!$C31=0,'Set UP'!$D31=0,'Set UP'!$E31=0),\"\",(AM$7*AM33)+(AN$7*AN33)+(AO$7*AO33)+(AP$7*AP33)+(AQ$7*AQ33)+(AR$7*AR33)+(AS$7*AS33)+(AT$7*AT33)+(AU$7*AU33)+(AV$7*AV33))","v":69.5},2,0,0,0,2,0,0,0,null,null,{"$f":"IF(OR('Set UP'!$C31=0,'Set UP'!$D31=0,'Set UP'!$E31=0),\"\",(AX$7*AX33)+(AY$7*AY33)+(AZ$7*AZ33)+(BA$7*BA33)+(BB$7*BB33)+(BC$7*BC33)+(BD$7*BD33)+(BE$7*BE33)+(BF$7*BF33)+(BG$7*BG33))","v":3},0,null,null,null,null,null,null,null,null,null,null,{"$f":"IF(OR('Set UP'!$C31=0,'Set UP'!$D31=0,'Set UP'!$E31=0),\"\",(BI$7*BI33)+(BJ$7*BJ33)+(BK$7*BK33)+(BL$7*BL33)+(BM$7*BM33)+(BN$7*BN33)+(BO$7*BO33)+(BP$7*BP33)+(BQ$7*BQ33)+(BR$7*BR33)+(BS$7*BS33))","v":0},null,null,null,{"$f":"IF(OR('Set UP'!$C31=0,'Set UP'!$D31=0,'Set UP'!$E31=0),\"\",(P33+AA33+AL33+AW33+BH33+BT33))","v":177.5},{"$f":"IF(OR('Set UP'!$C31=0,'Set UP'!$D31=0,'Set UP'!$E31=0),\"\",RANK(BX33,$BX$9:$BX$48,0))","v":16},{"$f":"IF(OR('Set UP'!K31<>1,'Set UP'!C31=0,'Set UP'!D31=0,'Set UP'!E31=0,'Set UP'!F31=0),\"\",$BX33)","v":""},{"$f":"IF(OR('Set UP'!K31<>1,'Set UP'!C31=0,'Set UP'!D31=0,'Set UP'!E31=0,'Set UP'!F31=0),\"\",RANK(BZ33,$BZ$9:$BZ$48,0))","v":""},{"$f":"IF(OR('Set UP'!K31<>2,'Set UP'!C31=0,'Set UP'!D31=0,'Set UP'!E31=0,'Set UP'!F31=0),\"\",$BX33)","v":177.5},{"$f":"IF(OR('Set UP'!K31<>2,'Set UP'!C31=0,'Set UP'!D31=0,'Set UP'!E31=0,'Set UP'!F31=0),\"\",RANK(CB33,$CB$9:$CB$48,0))","v":6}]
[null,26,{"$f":"IF(OR('Set UP'!$C32=0,'Set UP'!$D32=0,'Set UP'!$E32=0,'Set UP'!F32=0),\"  --\",'Set UP'!C32)","v":534},{"$f":"IF(OR('Set UP'!$C32=0,'Set UP'!$D32=0,'Set UP'!$E32=0,'Set UP'!F32=0),\"  --\",'Set UP'!D32&\" \"&'Set UP'!E32)","v":"University of Southampton B"},{"$f":"IF(OR('Set UP'!$C32=0,'Set UP'!$D32=0,'Set UP'!$E32=0,'Set UP'!F32=0),\"  --\",'Set UP'!F32)","v":"S"},7,4,5,5,5,null,null,null,null,null,{"$f":"IF(OR('Set UP'!$C32=0,'Set UP'!$D32=0,'Set UP'!$E32=0),\"\",(F$7*F34)+(G$7*G34)+(H$7*H34)+(I$7*I34)+(J$7*J34)+(K$7*K34)+(L$7*L34)+(M$7*M34)+(N$7*N34)+(O$7*O34))","v":42},6,5,6,0,0,4,3,0,null,null,{"$f":"IF(OR('Set UP'!$C32=0,'Set UP'!$D32=0,'Set UP'!$E32=0),\"\",(Q$7*Q34)+(R$7*R34)+(S$7*S34)+(T$7*T34)+(U$7*U34)+(V$7*V34)+(W$7*W34)+(X$7*X34)+(Y$7*Y34)+(Z$7*Z34))","v":29},3,3,2,0,0,1,0,0,0,null,{"$f":"IF(OR('Set UP'!$C32=0,'Set UP'!$D32=0,'Set UP'!$E32=0),\"\",(AB$7*AB34)+(AC$7*AC34)+(AD$7*AD34)+(AE$7*AE34)+(AF$7*AF34)+(AG$7*AG34)+(AH$7*AH34)+(AI$7*AI34)+(AJ$7*AJ34)+(AK$7*AK34))","v":15},6,6,3,7,4,3,5,0,null,null,{"$f":"IF(OR('Set UP'!$C32=0,'Set UP'!$D32=0,'Set UP'!$E32=0),\"\",(AM$7*AM34)+(AN$7*AN34)+(AO$7*AO34)+(AP$7*AP34)+(AQ$7*AQ34)+(AR$7*AR34)+(AS$7*AS34)+(AT$7*AT34)+(AU$7*AU34)+(AV$7*AV34))","v":62},7,6,4,2,7,6,6,2,null,null,{"$f":"IF(OR('Set UP'!$C32=0,'Set UP'!$D32=0,'Set UP'!$E32=0),\"\",(AX$7*AX34)+(AY$7*AY34)+(AZ$7*AZ34)+(BA$7*BA34)+(BB$7*BB34)+(BC$7*BC34)+(BD$7*BD34)+(BE$7*BE34)+(BF$7*BF34)+(BG$7*BG34))","v":41.5},0,null,null,null,null,null,null,null,null,null,null,{"$f":"IF(OR('Set UP'!$C32=0,'Set UP'!$D32=0,'Set UP'!$E32=0),\"\",(BI$7*BI34)+(BJ$7*BJ34)+(BK$7*BK34)+(BL$7*BL34)+(BM$7*BM34)+(BN$7*BN34)+(BO$7*BO34)+(BP$7*BP34)+(BQ$7*BQ34)+(BR$7*BR34)+(BS$7*BS34))","v":0},null,null,null,{"$f":"IF(OR('Set UP'!$C32=0,'Set UP'!$D32=0,'Set UP'!$E32=0),\"\",(P34+AA34+AL34+AW34+BH34+BT34))","v":189.5},{"$f":"IF(OR('Set UP'!$C32=0,'Set UP'!$D32=0,'Set UP'!$E32=0),\"\",RANK(BX34,$BX$9:$BX$48,0))","v":14},{"$f":"IF(OR('Set UP'!K32<>1,'Set UP'!C32=0,'Set UP'!D32=0,'Set UP'!E32=0,'Set UP'!F32=0),\"\",$BX34)","v":""},{"$f":"IF(OR('Set UP'!K32<>1,'Set UP'!C32=0,'Set UP'!D32=0,'Set UP'!E32=0,'Set UP'!F32=0),\"\",RANK(BZ34,$BZ$9:$BZ$48,0))","v":""},{"$f":"IF(OR('Set UP'!K32<>2,'Set UP'!C32=0,'Set UP'!D32=0,'Set UP'!E32=0,'Set UP'!F32=0),\"\",$BX34)","v":189.5},{"$f":"IF(OR('Set UP'!K32<>2,'Set UP'!C32=0,'Set UP'!D32=0,'Set UP'!E32=0,'Set UP'!F32=0),\"\",RANK(CB34,$CB$9:$CB$48,0))","v":5}]
[null,27,{"$f":"IF(OR('Set UP'!$C33=0,'Set UP'!$D33=0,'Set UP'!$E33=0,'Set UP'!F33=0),\"  --\",'Set UP'!C33)","v":479},{"$f":"IF(OR('Set UP'!$C33=0,'Set UP'!$D33=0,'Set UP'!$E33=0,'Set UP'!F33=0),\"  --\",'Set UP'!D33&\" \"&'Set UP'!E33)","v":"Loughborough University A"},{"$f":"IF(OR('Set UP'!$C33=0,'Set UP'!$D33=0,'Set UP'!$E33=0,'Set UP'!F33=0),\"  --\",'Set UP'!F33)","v":"S"},2,5,1,4,4,null,null,null,null,null,{"$f":"IF(OR('Set UP'!$C33=0,'Set UP'!$D33=0,'Set UP'!$E33=0),\"\",(F$7*F35)+(G$7*G35)+(H$7*H35)+(I$7*I35)+(J$7*J35)+(K$7*K35)+(L$7*L35)+(M$7*M35)+(N$7*N35)+(O$7*O35))","v":25.5},6,6,4,5,0,5,5,0,null,null,{"$f":"IF(OR('Set UP'!$C33=0,'Set UP'!$D33=0,'Set UP'!$E33=0),\"\",(Q$7*Q35)+(R$7*R35)+(S$7*S35)+(T$7*T35)+(U$7*U35)+(V$7*V35)+(W$7*W35)+(X$7*X35)+(Y$7*Y35)+(Z$7*Z35))","v":43.5},2,2,0,0,0,0,0,0,0,null,{"$f":"IF(OR('Set UP'!$C33=0,'Set UP'!$D33=0,'Set UP'!$E33=0),\"\",(AB$7*AB35)+(AC$7*AC35)+(AD$7*AD35)+(AE$7*AE35)+(AF$7*AF35)+(AG$7*AG35)+(AH$7*AH35)+(AI$7*AI35)+(AJ$7*AJ35)+(AK$7*AK35))","v":6},4,4,0,4,4,0,0,0,null,null,{"$f":"IF(OR('Set UP'!$C33=0,'Set UP'!$D33=0,'Set UP'!$E33=0),\"\",(AM$7*AM35)+(AN$7*AN35)+(AO$7*AO35)+(AP$7*AP35)+(AQ$7*AQ35)+(AR$7*AR35)+(AS$7*AS35)+(AT$7*AT35)+(AU$7*AU35)+(AV$7*AV35))","v":40},6,6,6,0,6,6,7,0,null,null,{"$f":"IF(OR('Set UP'!$C33=0,'Set UP'!$D33=0,'Set UP'!$E33=0),\"\",(AX$7*AX35)+(AY$7*AY35)+(AZ$7*AZ35)+(BA$7*BA35)+(BB$7*BB35)+(BC$7*BC35)+(BD$7*BD35)+(BE$7*BE35)+(BF$7*BF35)+(BG$7*BG35))","v":39.5},0,null,null,null,null,null,null,null,null,null,null,{"$f":"IF(OR('Set UP'!$C33=0,'Set UP'!$D33=0,'Set UP'!$E33=0),\"\",(BI$7*BI35)+(BJ$7*BJ35)+(BK$7*BK35)+(BL$7*BL35)+(BM$7*BM35)+(BN$7*BN35)+(BO$7*BO35)+(BP$7*BP35)+(BQ$7*BQ35)+(BR$7*BR35)+(BS$7*BS35))","v":0},null,null,null,{"$f":"IF(OR('Set UP'!$C33=0,'Set UP'!$D33=0,'Set UP'!$E33=0),\"\",(P35+AA35+AL35+AW35+BH35+BT35))","v":154.5},{"$f":"IF(OR('Set UP'!$C33=0,'Set UP'!$D33=0,'Set UP'!$E33=0),\"\",RANK(BX35,$BX$9:$BX$48,0))","v":26},{"$f":"IF(OR('Set UP'!K33<>1,'Set UP'!C33=0,'Set UP'!D33=0,'Set UP'!E33=0,'Set UP'!F33=0),\"\",$BX35)","v":154.5},{"$f":"IF(OR('Set UP'!K33<>1,'Set UP'!C33=0,'Set UP'!D33=0,'Set UP'!E33=0,'Set UP'!F33=0),\"\",RANK(BZ35,$BZ$9:$BZ$48,0))","v":9},{"$f":"IF(OR('Set UP'!K33<>2,'Set UP'!C33=0,'Set UP'!D33=0,'Set UP'!E33=0,'Set UP'!F33=0),\"\",$BX35)","v":""},{"$f":"IF(OR('Set UP'!K33<>2,'Set UP'!C33=0,'Set UP'!D33=0,'Set UP'!E33=0,'Set UP'!F33=0),\"\",RANK(CB35,$CB$9:$CB$48,0))","v":""}]
[null,28,{"$f":"IF(OR('Set UP'!$C34=0,'Set UP'!$D34=0,'Set UP'!$E34=0,'Set UP'!F34=0),\"  --\",'Set UP'!C34)","v":545},{"$f":"IF(OR('Set UP'!$C34=0,'Set UP'!$D34=0,'Set UP'!$E34=0,'Set UP'!F34=0),\"  --\",'Set UP'!D34&\" \"&'Set UP'!E34)","v":"Colwick Park A"},{"$f":"IF(OR('Set UP'!$C34=0,'Set UP'!$D34=0,'Set UP'!$E34=0,'Set UP'!F34=0),\"  --\",'Set UP'!F34)","v":"NS"},4,2,6,1,0,null,null,null,null,null,{"$f":"IF(OR('Set UP'!$C34=0,'Set UP'!$D34=0,'Set UP'!$E34=0),\"\",(F$7*F36)+(G$7*G36)+(H$7*H36)+(I$7*I36)+(J$7*J36)+(K$7*K36)+(L$7*L36)+(M$7*M36)+(N$7*N36)+(O$7*O36))","v":28},3,2,0,0,0,3,3,0,null,null,{"$f":"IF(OR('Set UP'!$C34=0,'Set UP'!$D34=0,'Set UP'!$E34=0),\"\",(Q$7*Q36)+(R$7*R36)+(S$7*S36)+(T$7*T36)+(U$7*U36)+(V$7*V36)+(W$7*W36)+(X$7*X36)+(Y$7*Y36)+(Z$7*Z36))","v":15.5},4,3,0,0,0,10,10,7,0,null,{"$f":"IF(OR('Set UP'!$C34=0,'Set UP'!$D34=0,'Set UP'!$E34=0),\"\",(AB$7*AB36)+(AC$7*AC36)+(AD$7*AD36)+(AE$7*AE36)+(AF$7*AF36)+(AG$7*AG36)+(AH$7*AH36)+(AI$7*AI36)+(AJ$7*AJ36)+(AK$7*AK36))","v":37},7,6,3,7,7,3,0,0,null,null,{"$f":"IF(OR('Set UP'!$C34=0,'Set UP'!$D34=0,'Set UP'!$E34=0),\"\",(AM$7*AM36)+(AN$7*AN36)+(AO$7*AO36)+(AP$7*AP36)+(AQ$7*AQ36)+(AR$7*AR36)+(AS$7*AS36)+(AT$7*AT36)+(AU$7*AU36)+(AV$7*AV36))","v":70.5},1,5,0,0,1,5,0,0,null,null,{"$f":"IF(OR('Set UP'!$C34=0,'Set UP'!$D34=0,'Set UP'!$E34=0),\"\",(AX$7*AX36)+(AY$7*AY36)+(AZ$7*AZ36)+(BA$7*BA36)+(BB$7*BB36)+(BC$7*BC36)+(BD$7*BD36)+(BE$7*BE36)+(BF$7*BF36)+(BG$7*BG36))","v":19},0,null,null,null,null,null,null,null,null,null,null,{"$f":"IF(OR('Set UP'!$C34=0,'Set UP'!$D34=0,'Set UP'!$E34=0),\"\",(BI$7*BI36)+(BJ$7*BJ36)+(BK$7*BK36)+(BL$7*BL36)+(BM$7*BM36)+(BN$7*BN36)+(BO$7*BO36)+(BP$7*BP36)+(BQ$7*BQ36)+(BR$7*BR36)+(BS$7*BS36))","v":0},null,null,null,{"$f":"IF(OR('Set UP'!$C34=0,'Set UP'!$D34=0,'Set UP'!$E34=0),\"\",(P36+AA36+AL36+AW36+BH36+BT36))","v":170},{"$f":"IF(OR('Set UP'!$C34=0,'Set UP'!$D34=0,'Set UP'!$E34=0),\"\",RANK(BX36,$BX$9:$BX$48,0))","v":20},{"$f":"IF(OR('Set UP'!K34<>1,'Set UP'!C34=0,'Set UP'!D34=0,'Set UP'!E34=0,'Set UP'!F34=0),\"\",$BX36)","v":""},{"$f":"IF(OR('Set UP'!K34<>1,'Set UP'!C34=0,'Set UP'!D34=0,'Set UP'!E34=0,'Set UP'!F34=0),\"\",RANK(BZ36,$BZ$9:$BZ$48,0))","v":""},{"$f":"IF(OR('Set UP'!K34<>2,'Set UP'!C34=0,'Set UP'!D34=0,'Set UP'!E34=0,'Set UP'!F34=0),\"\",$BX36)","v":""},{"$f":"IF(OR('Set UP'!K34<>2,'Set UP'!C34=0,'Set UP'!D34=0,'Set UP'!E34=0,'Set UP'!F34=0),\"\",RANK(CB36,$CB$9:$CB$48,0))","v":""}]
[null,29,{"$f":"IF(OR('Set UP'!$C35=0,'Set UP'!$D35=0,'Set UP'!$E35=0,'Set UP'!F35=0),\"  --\",'Set UP'!C35)","v":533},{"$f":"IF(OR('Set UP'!$C35=0,'Set UP'!$D35=0,'Set UP'!$E35=0,'Set UP'!F35=0),\"  --\",'Set UP'!D35&\" \"&'Set UP'!E35)","v":"University of Southampton A"},{"$f":"IF(OR('Set UP'!$C35=0,'Set UP'!$D35=0,'Set UP'!$E35=0,'Set UP'!F35=0),\"  --\",'Set UP'!F35)","v":"S"},1,7,6,8,7,null,null,null,null,null,{"$f":"IF(OR('Set UP'!$C35=0,'Set UP'!$D35=0,'Set UP'!$E35=0),\"\",(F$7*F37)+(G$7*G37)+(H$7*H37)+(I$7*I37)+(J$7*J37)+(K$7*K37)+(L$7*L37)+(M$7*M37)+(N$7*N37)+(O$7*O37))","v":51.5},6,6,0,4,0,6,7,0,null,null,{"$f":"IF(OR('Set UP'!$C35=0,'Set UP'!$D35=0,'Set UP'!$E35=0),\"\",(Q$7*Q37)+(R$7*R37)+(S$7*S37)+(T$7*T37)+(U$7*U37)+(V$7*V37)+(W$7*W37)+(X$7*X37)+(Y$7*Y37)+(Z$7*Z37))","v":43},4,5,7,10,0,0,0,0,0,null,{"$f":"IF(OR('Set UP'!$C35=0,'Set UP'!$D35=0,'Set UP'!$E35=0),\"\",(AB$7*AB37)+(AC$7*AC37)+(AD$7*AD37)+(AE$7*AE37)+(AF$7*AF37)+(AG$7*AG37)+(AH$7*AH37)+(AI$7*AI37)+(AJ$7*AJ37)+(AK$7*AK37))","v":36.5},8,5,2,6,5,2,0,0,null,null,{"$f":"IF(OR('Set UP'!$C35=0,'Set UP'!$D35=0,'Set UP'!$E35=0),\"\",(AM$7*AM37)+(AN$7*AN37)+(AO$7*AO37)+(AP$7*AP37)+(AQ$7*AQ37)+(AR$7*AR37)+(AS$7*AS37)+(AT$7*AT37)+(AU$7*AU37)+(AV$7*AV37))","v":60.5},8,6,1,0,6,4,2,0,null,null,{"$f":"IF(OR('Set UP'!$C35=0,'Set UP'!$D35=0,'Set UP'!$E35=0),\"\",(AX$7*AX37)+(AY$7*AY37)+(AZ$7*AZ37)+(BA$7*BA37)+(BB$7*BB37)+(BC$7*BC37)+(BD$7*BD37)+(BE$7*BE37)+(BF$7*BF37)+(BG$7*BG37))","v":31},0,null,null,null,null,null,null,null,null,null,null,{"$f":"IF(OR('Set UP'!$C35=0,'Set UP'!$D35=0,'Set UP'!$E35=0),\"\",(BI$7*BI37)+(BJ$7*BJ37)+(BK$7*BK37)+(BL$7*BL37)+(BM$7*BM37)+(BN$7*BN37)+(BO$7*BO37)+(BP$7*BP37)+(BQ$7*BQ37)+(BR$7*BR37)+(BS$7*BS37))","v":0},null,null,null,{"$f":"IF(OR('Set UP'!$C35=0,'Set UP'!$D35=0,'Set UP'!$E35=0),\"\",(P37+AA37+AL37+AW37+BH37+BT37))","v":222.5},{"$f":"IF(OR('Set UP'!$C35=0,'Set UP'!$D35=0,'Set UP'!$E35=0),\"\",RANK(BX37,$BX$9:$BX$48,0))","v":5},{"$f":"IF(OR('Set UP'!K35<>1,'Set UP'!C35=0,'Set UP'!D35=0,'Set UP'!E35=0,'Set UP'!F35=0),\"\",$BX37)","v":222.5},{"$f":"IF(OR('Set UP'!K35<>1,'Set UP'!C35=0,'Set UP'!D35=0,'Set UP'!E35=0,'Set UP'!F35=0),\"\",RANK(BZ37,$BZ$9:$BZ$48,0))","v":4},{"$f":"IF(OR('Set UP'!K35<>2,'Set UP'!C35=0,'Set UP'!D35=0,'Set UP'!E35=0,'Set UP'!F35=0),\"\",$BX37)","v":""},{"$f":"IF(OR('Set UP'!K35<>2,'Set UP'!C35=0,'Set UP'!D35=0,'Set UP'!E35=0,'Set UP'!F35=0),\"\",RANK(CB37,$CB$9:$CB$48,0))","v":""}]
[null,30,{"$f":"IF(OR('Set UP'!$C36=0,'Set UP'!$D36=0,'Set UP'!$E36=0,'Set UP'!F36=0),\"  --\",'Set UP'!C36)","v":523},{"$f":"IF(OR('Set UP'!$C36=0,'Set UP'!$D36=0,'Set UP'!$E36=0,'Set UP'!F36=0),\"  --\",'Set UP'!D36&\" \"&'Set UP'!E36)","v":"University of London Union A"},{"$f":"IF(OR('Set UP'!$C36=0,'Set UP'!$D36=0,'Set UP'!$E36=0,'Set UP'!F36=0),\"  --\",'Set UP'!F36)","v":"S"},7,7,2,5,5,null,null,null,null,null,{"$f":"IF(OR('Set UP'!$C36=0,'Set UP'!$D36=0,'Set UP'!$E36=0),\"\",(F$7*F38)+(G$7*G38)+(H$7*H38)+(I$7*I38)+(J$7*J38)+(K$7*K38)+(L$7*L38)+(M$7*M38)+(N$7*N38)+(O$7*O38))","v":40.5},7,6,6,4,5,7,7,5,null,null,{"$f":"IF(OR('Set UP'!$C36=0,'Set UP'!$D36=0,'Set UP'!$E36=0),\"\",(Q$7*Q38)+(R$7*R38)+(S$7*S38)+(T$7*T38)+(U$7*U38)+(V$7*V38)+(W$7*W38)+(X$7*X38)+(Y$7*Y38)+(Z$7*Z38))","v":56.5},2,2,0,0,0,0,0,0,0,null,{"$f":"IF(OR('Set UP'!$C36=0,'Set UP'!$D36=0,'Set UP'!$E36=0),\"\",(AB$7*AB38)+(AC$7*AC38)+(AD$7*AD38)+(AE$7*AE38)+(AF$7*AF38)+(AG$7*AG38)+(AH$7*AH38)+(AI$7*AI38)+(AJ$7*AJ38)+(AK$7*AK38))","v":6},7,7,4,7,7,4,3,3,null,null,{"$f":"IF(OR('Set UP'!$C36=0,'Set UP'!$D36=0,'Set UP'!$E36=0),\"\",(AM$7*AM38)+(AN$7*AN38)+(AO$7*AO38)+(AP$7*AP38)+(AQ$7*AQ38)+(AR$7*AR38)+(AS$7*AS38)+(AT$7*AT38)+(AU$7*AU38)+(AV$7*AV38))","v":78.5},3,5,4,0,3,5,0,0,null,null,{"$f":"IF(OR('Set UP'!$C36=0,'Set UP'!$D36=0,'Set UP'!$E36=0),\"\",(AX$7*AX38)+(AY$7*AY38)+(AZ$7*AZ38)+(BA$7*BA38)+(BB$7*BB38)+(BC$7*BC38)+(BD$7*BD38)+(BE$7*BE38)+(BF$7*BF38)+(BG$7*BG38))","v":26},0,null,null,null,null,null,null,null,null,null,null,{"$f":"IF(OR('Set UP'!$C36=0,'Set UP'!$D36=0,'Set UP'!$E36=0),\"\",(BI$7*BI38)+(BJ$7*BJ38)+(BK$7*BK38)+(BL$7*BL38)+(BM$7*BM38)+(BN$7*BN38)+(BO$7*BO38)+(BP$7*BP38)+(BQ$7*BQ38)+(BR$7*BR38)+(BS$7*BS38))","v":0},null,null,null,{"$f":"IF(OR('Set UP'!$C36=0,'Set UP'!$D36=0,'Set UP'!$E36=0),\"\",(P38+AA38+AL38+AW38+BH38+BT38))","v":207.5},{"$f":"IF(OR('Set UP'!$C36=0,'Set UP'!$D36=0,'Set UP'!$E36=0),\"\",RANK(BX38,$BX$9:$BX$48,0))","v":9},{"$f":"IF(OR('Set UP'!K36<>1,'Set UP'!C36=0,'Set UP'!D36=0,'Set UP'!E36=0,'Set UP'!F36=0),\"\",$BX38)","v":207.5},{"$f":"IF(OR('Set UP'!K36<>1,'Set UP'!C36=0,'Set UP'!D36=0,'Set UP'!E36=0,'Set UP'!F36=0),\"\",RANK(BZ38,$BZ$9:$BZ$48,0))","v":6},{"$f":"IF(OR('Set UP'!K36<>2,'Set UP'!C36=0,'Set UP'!D36=0,'Set UP'!E36=0,'Set UP'!F36=0),\"\",$BX38)","v":""},{"$f":"IF(OR('Set UP'!K36<>2,'Set UP'!C36=0,'Set UP'!D36=0,'Set UP'!E36=0,'Set UP'!F36=0),\"\",RANK(CB38,$CB$9:$CB$48,0))","v":""}]
[null,31,{"$f":"IF(OR('Set UP'!$C37=0,'Set UP'!$D37=0,'Set UP'!$E37=0,'Set UP'!F37=0),\"  --\",'Set UP'!C37)","v":505},{"$f":"IF(OR('Set UP'!$C37=0,'Set UP'!$D37=0,'Set UP'!$E37=0,'Set UP'!F37=0),\"  --\",'Set UP'!D37&\" \"&'Set UP'!E37)","v":"University of Plymouth A"},{"$f":"IF(OR('Set UP'!$C37=0,'Set UP'!$D37=0,'Set UP'!$E37=0,'Set UP'!F37=0),\"  --\",'Set UP'!F37)","v":"S"},6,2,6,1,1,null,null,null,null,null,{"$f":"IF(OR('Set UP'!$C37=0,'Set UP'!$D37=0,'Set UP'!$E37=0),\"\",(F$7*F39)+(G$7*G39)+(H$7*H39)+(I$7*I39)+(J$7*J39)+(K$7*K39)+(L$7*L39)+(M$7*M39)+(N$7*N39)+(O$7*O39))","v":31},5,6,0,3,0,4,7,0,null,null,{"$f":"IF(OR('Set UP'!$C37=0,'Set UP'!$D37=0,'Set UP'!$E37=0),\"\",(Q$7*Q39)+(R$7*R39)+(S$7*S39)+(T$7*T39)+(U$7*U39)+(V$7*V39)+(W$7*W39)+(X$7*X39)+(Y$7*Y39)+(Z$7*Z39))","v":37},3,2,0,0,0,0,0,0,0,null,{"$f":"IF(OR('Set UP'!$C37=0,'Set UP'!$D37=0,'Set UP'!$E37=0),\"\",(AB$7*AB39)+(AC$7*AC39)+(AD$7*AD39)+(AE$7*AE39)+(AF$7*AF39)+(AG$7*AG39)+(AH$7*AH39)+(AI$7*AI39)+(AJ$7*AJ39)+(AK$7*AK39))","v":7},6,4,2,6,5,2,0,0,null,null,{"$f":"IF(OR('Set UP'!$C37=0,'Set UP'!$D37=0,'Set UP'!$E37=0),\"\",(AM$7*AM39)+(AN$7*AN39)+(AO$7*AO39)+(AP$7*AP39)+(AQ$7*AQ39)+(AR$7*AR39)+(AS$7*AS39)+(AT$7*AT39)+(AU$7*AU39)+(AV$7*AV39))","v":54},3,4,0,0,4,3,0,0,null,null,{"$f":"IF(OR('Set UP'!$C37=0,'Set UP'!$D37=0,'Set UP'!$E37=0),\"\",(AX$7*AX39)+(AY$7*AY39)+(AZ$7*AZ39)+(BA$7*BA39)+(BB$7*BB39)+(BC$7*BC39)+(BD$7*BD39)+(BE$7*BE39)+(BF$7*BF39)+(BG$7*BG39))","v":17.5},0,null,null,null,null,null,null,null,null,null,null,{"$f":"IF(OR('Set UP'!$C37=0,'Set UP'!$D37=0,'Set UP'!$E37=0),\"\",(BI$7*BI39)+(BJ$7*BJ39)+(BK$7*BK39)+(BL$7*BL39)+(BM$7*BM39)+(BN$7*BN39)+(BO$7*BO39)+(BP$7*BP39)+(BQ$7*BQ39)+(BR$7*BR39)+(BS$7*BS39))","v":0},null,null,null,{"$f":"IF(OR('Set UP'!$C37=0,'Set UP'!$D37=0,'Set UP'!$E37=0),\"\",(P39+AA39+AL39+AW39+BH39+BT39))","v":146.5},{"$f":"IF(OR('Set UP'!$C37=0,'Set UP'!$D37=0,'Set UP'!$E37=0),\"\",RANK(BX39,$BX$9:$BX$48,0))","v":27},{"$f":"IF(OR('Set UP'!K37<>1,'Set UP'!C37=0,'Set UP'!D37=0,'Set UP'!E37=0,'Set UP'!F37=0),\"\",$BX39)","v":146.5},{"$f":"IF(OR('Set UP'!K37<>1,'Set UP'!C37=0,'Set UP'!D37=0,'Set UP'!E37=0,'Set UP'!F37=0),\"\",RANK(BZ39,$BZ$9:$BZ$48,0))","v":10},{"$f":"IF(OR('Set UP'!K37<>2,'Set UP'!C37=0,'Set UP'!D37=0,'Set UP'!E37=0,'Set UP'!F37=0),\"\",$BX39)","v":""},{"$f":"IF(OR('Set UP'!K37<>2,'Set UP'!C37=0,'Set UP'!D37=0,'Set UP'!E37=0,'Set UP'!F37=0),\"\",RANK(CB39,$CB$9:$CB$48,0))","v":""}]
[null,32,{"$f":"IF(OR('Set UP'!$C38=0,'Set UP'!$D38=0,'Set UP'!$E38=0,'Set UP'!F38=0),\"  --\",'Set UP'!C38)","v":510},{"$f":"IF(OR('Set UP'!$C38=0,'Set UP'!$D38=0,'Set UP'!$E38=0,'Set UP'!F38=0),\"  --\",'Set UP'!D38&\" \"&'Set UP'!E38)","v":"University of Warwick A"},{"$f":"IF(OR('Set UP'!$C38=0,'Set UP'!$D38=0,'Set UP'!$E38=0,'Set UP'!F38=0),\"  --\",'Set UP'!F38)","v":"S"},8,9,6,7,7,null,null,null,null,null,{"$f":"IF(OR('Set UP'!$C38=0,'Set UP'!$D38=0,'Set UP'!$E38=0),\"\",(F$7*F40)+(G$7*G40)+(H$7*H40)+(I$7*I40)+(J$7*J40)+(K$7*K40)+(L$7*L40)+(M$7*M40)+(N$7*N40)+(O$7*O40))","v":62.5},7,6,4,7,6,7,5,5,null,null,{"$f":"IF(OR('Set UP'!$C38=0,'Set UP'!$D38=0,'Set UP'!$E38=0),\"\",(Q$7*Q40)+(R$7*R40)+(S$7*S40)+(T$7*T40)+(U$7*U40)+(V$7*V40)+(W$7*W40)+(X$7*X40)+(Y$7*Y40)+(Z$7*Z40))","v":57},8,6,8,0,0,0,0,0,0,null,{"$f":"IF(OR('Set UP'!$C38=0,'Set UP'!$D38=0,'Set UP'!$E38=0),\"\",(AB$7*AB40)+(AC$7*AC40)+(AD$7*AD40)+(AE$7*AE40)+(AF$7*AF40)+(AG$7*AG40)+(AH$7*AH40)+(AI$7*AI40)+(AJ$7*AJ40)+(AK$7*AK40))","v":40},6,4,4,5,5,4,4,0,null,null,{"$f":"IF(OR('Set UP'!$C38=0,'Set UP'!$D38=0,'Set UP'!$E38=0),\"\",(AM$7*AM40)+(AN$7*AN40)+(AO$7*AO40)+(AP$7*AP40)+(AQ$7*AQ40)+(AR$7*AR40)+(AS$7*AS40)+(AT$7*AT40)+(AU$7*AU40)+(AV$7*AV40))","v":55.5},4,5,0,0,4,5,0,0,null,null,{"$f":"IF(OR('Set UP'!$C38=0,'Set UP'!$D38=0,'Set UP'!$E38=0),\"\",(AX$7*AX40)+(AY$7*AY40)+(AZ$7*AZ40)+(BA$7*BA40)+(BB$7*BB40)+(BC$7*BC40)+(BD$7*BD40)+(BE$7*BE40)+(BF$7*BF40)+(BG$7*BG40))","v":23.5},0,null,null,null,null,null,null,null,null,null,null,{"$f":"IF(OR('Set UP'!$C38=0,'Set UP'!$D38=0,'Set UP'!$E38=0),\"\",(BI$7*BI40)+(BJ$7*BJ40)+(BK$7*BK40)+(BL$7*BL40)+(BM$7*BM40)+(BN$7*BN40)+(BO$7*BO40)+(BP$7*BP40)+(BQ$7*BQ40)+(BR$7*BR40)+(BS$7*BS40))","v":0},null,null,null,{"$f":"IF(OR('Set UP'!$C38=0,'Set UP'!$D38=0,'Set UP'!$E38=0),\"\",(P40+AA40+AL40+AW40+BH40+BT40))","v":238.5},{"$f":"IF(OR('Set UP'!$C38=0,'Set UP'!$D38=0,'Set UP'!$E38=0),\"\",RANK(BX40,$BX$9:$BX$48,0))","v":3},{"$f":"IF(OR('Set UP'!K38<>1,'Set UP'!C38=0,'Set UP'!D38=0,'Set UP'!E38=0,'Set UP'!F38=0),\"\",$BX40)","v":238.5},{"$f":"IF(OR('Set UP'!K38<>1,'Set UP'!C38=0,'Set UP'!D38=0,'Set UP'!E38=0,'Set UP'!F38=0),\"\",RANK(BZ40,$BZ$9:$BZ$48,0))","v":3},{"$f":"IF(OR('Set UP'!K38<>2,'Set UP'!C38=0,'Set UP'!D38=0,'Set UP'!E38=0,'Set UP'!F38=0),\"\",$BX40)","v":""},{"$f":"IF(OR('Set UP'!K38<>2,'Set UP'!C38=0,'Set UP'!D38=0,'Set UP'!E38=0,'Set UP'!F38=0),\"\",RANK(CB40,$CB$9:$CB$48,0))","v":""}]
[null,33,{"$f":"IF(OR('Set UP'!$C39=0,'Set UP'!$D39=0,'Set UP'!$E39=0,'Set UP'!F39=0),\"  --\",'Set UP'!C39)","v":"  --"},{"$f":"IF(OR('Set UP'!$C39=0,'Set UP'!$D39=0,'Set UP'!$E39=0,'Set UP'!F39=0),\"  --\",'Set UP'!D39&\" \"&'Set UP'!E39)","v":"  --"},{"$f":"IF(OR('Set UP'!$C39=0,'Set UP'!$D39=0,'Set UP'!$E39=0,'Set UP'!F39=0),\"  --\",'Set UP'!F39)","v":"  --"},null,null,null,null,null,null,null,null,null,null,{"$f":"IF(OR('Set UP'!$C39=0,'Set UP'!$D39=0,'Set UP'!$E39=0),\"\",(F$7*F41)+(G$7*G41)+(H$7*H41)+(I$7*I41)+(J$7*J41)+(K$7*K41)+(L$7*L41)+(M$7*M41)+(N$7*N41)+(O$7*O41))","v":""},null,null,null,null,null,null,null,null,null,null,{"$f":"IF(OR('Set UP'!$C39=0,'Set UP'!$D39=0,'Set UP'!$E39=0),\"\",(Q$7*Q41)+(R$7*R41)+(S$7*S41)+(T$7*T41)+(U$7*U41)+(V$7*V41)+(W$7*W41)+(X$7*X41)+(Y$7*Y41)+(Z$7*Z41))","v":""},null,null,null,null,null,null,null,null,null,null,{"$f":"IF(OR('Set UP'!$C39=0,'Set UP'!$D39=0,'Set UP'!$E39=0),\"\",(AB$7*AB41)+(AC$7*AC41)+(AD$7*AD41)+(AE$7*AE41)+(AF$7*AF41)+(AG$7*AG41)+(AH$7*AH41)+(AI$7*AI41)+(AJ$7*AJ41)+(AK$7*AK41))","v":""},null,null,null,null,null,null,null,null,null,null,{"$f":"IF(OR('Set UP'!$C39=0,'Set UP'!$D39=0,'Set UP'!$E39=0),\"\",(AM$7*AM41)+(AN$7*AN41)+(AO$7*AO41)+(AP$7*AP41)+(AQ$7*AQ41)+(AR$7*AR41)+(AS$7*AS41)+(AT$7*AT41)+(AU$7*AU41)+(AV$7*AV41))","v":""},null,null,null,null,null,null,null,null,null,null,{"$f":"IF(OR('Set UP'!$C39=0,'Set UP'!$D39=0,'Set UP'!$E39=0),\"\",(AX$7*AX41)+(AY$7*AY41)+(AZ$7*AZ41)+(BA$7*BA41)+(BB$7*BB41)+(BC$7*BC41)+(BD$7*BD41)+(BE$7*BE41)+(BF$7*BF41)+(BG$7*BG41))","v":""},null,null,null,null,null,null,null,null,null,null,null,{"$f":"IF(OR('Set UP'!$C39=0,'Set UP'!$D39=0,'Set UP'!$E39=0),\"\",(BI$7*BI41)+(BJ$7*BJ41)+(BK$7*BK41)+(BL$7*BL41)+(BM$7*BM41)+(BN$7*BN41)+(BO$7*BO41)+(BP$7*BP41)+(BQ$7*BQ41)+(BR$7*BR41)+(BS$7*BS41))","v":""},null,null,null,{"$f":"IF(OR('Set UP'!$C39=0,'Set UP'!$D39=0,'Set UP'!$E39=0),\"\",(P41+AA41+AL41+AW41+BH41+BT41))","v":""},{"$f":"IF(OR('Set UP'!$C39=0,'Set UP'!$D39=0,'Set UP'!$E39=0),\"\",RANK(BX41,$BX$9:$BX$48,0))","v":""},{"$f":"IF(OR('Set UP'!K39<>1,'Set UP'!C39=0,'Set UP'!D39=0,'Set UP'!E39=0,'Set UP'!F39=0),\"\",$BX41)","v":""},{"$f":"IF(OR('Set UP'!K39<>1,'Set UP'!C39=0,'Set UP'!D39=0,'Set UP'!E39=0,'Set UP'!F39=0),\"\",RANK(BZ41,$BZ$9:$BZ$48,0))","v":""},{"$f":"IF(OR('Set UP'!K39<>2,'Set UP'!C39=0,'Set UP'!D39=0,'Set UP'!E39=0,'Set UP'!F39=0),\"\",$BX41)","v":""},{"$f":"IF(OR('Set UP'!K39<>2,'Set UP'!C39=0,'Set UP'!D39=0,'Set UP'!E39=0,'Set UP'!F39=0),\"\",RANK(CB41,$CB$9:$CB$48,0))","v":""}]
[null,34,{"$f":"IF(OR('Set UP'!$C40=0,'Set UP'!$D40=0,'Set UP'!$E40=0,'Set UP'!F40=0),\"  --\",'Set UP'!C40)","v":"  --"},{"$f":"IF(OR('Set UP'!$C40=0,'Set UP'!$D40=0,'Set UP'!$E40=0,'Set UP'!F40=0),\"  --\",'Set UP'!D40&\" \"&'Set UP'!E40)","v":"  --"},{"$f":"IF(OR('Set UP'!$C40=0,'Set UP'!$D40=0,'Set UP'!$E40=0,'Set UP'!F40=0),\"  --\",'Set UP'!F40)","v":"  --"},null,null,null,null,null,null,null,null,null,null,{"$f":"IF(OR('Set UP'!$C40=0,'Set UP'!$D40=0,'Set UP'!$E40=0),\"\",(F$7*F42)+(G$7*G42)+(H$7*H42)+(I$7*I42)+(J$7*J42)+(K$7*K42)+(L$7*L42)+(M$7*M42)+(N$7*N42)+(O$7*O42))","v":""},null,null,null,null,null,null,null,null,null,null,{"$f":"IF(OR('Set UP'!$C40=0,'Set UP'!$D40=0,'Set UP'!$E40=0),\"\",(Q$7*Q42)+(R$7*R42)+(S$7*S42)+(T$7*T42)+(U$7*U42)+(V$7*V42)+(W$7*W42)+(X$7*X42)+(Y$7*Y42)+(Z$7*Z42))","v":""},null,null,null,null,null,null,null,null,null,null,{"$f":"IF(OR('Set UP'!$C40=0,'Set UP'!$D40=0,'Set UP'!$E40=0),\"\",(AB$7*AB42)+(AC$7*AC42)+(AD$7*AD42)+(AE$7*AE42)+(AF$7*AF42)+(AG$7*AG42)+(AH$7*AH42)+(AI$7*AI42)+(AJ$7*AJ42)+(AK$7*AK42))","v":""},null,null,null,null,null,null,null,null,null,null,{"$f":"IF(OR('Set UP'!$C40=0,'Set UP'!$D40=0,'Set UP'!$E40=0),\"\",(AM$7*AM42)+(AN$7*AN42)+(AO$7*AO42)+(AP$7*AP42)+(AQ$7*AQ42)+(AR$7*AR42)+(AS$7*AS42)+(AT$7*AT42)+(AU$7*AU42)+(AV$7*AV42))","v":""},null,null,null,null,null,null,null,null,null,null,{"$f":"IF(OR('Set UP'!$C40=0,'Set UP'!$D40=0,'Set UP'!$E40=0),\"\",(AX$7*AX42)+(AY$7*AY42)+(AZ$7*AZ42)+(BA$7*BA42)+(BB$7*BB42)+(BC$7*BC42)+(BD$7*BD42)+(BE$7*BE42)+(BF$7*BF42)+(BG$7*BG42))","v":""},null,null,null,null,null,null,null,null,null,null,null,{"$f":"IF(OR('Set UP'!$C40=0,'Set UP'!$D40=0,'Set UP'!$E40=0),\"\",(BI$7*BI42)+(BJ$7*BJ42)+(BK$7*BK42)+(BL$7*BL42)+(BM$7*BM42)+(BN$7*BN42)+(BO$7*BO42)+(BP$7*BP42)+(BQ$7*BQ42)+(BR$7*BR42)+(BS$7*BS42))","v":""},null,null,null,{"$f":"IF(OR('Set UP'!$C40=0,'Set UP'!$D40=0,'Set UP'!$E40=0),\"\",(P42+AA42+AL42+AW42+BH42+BT42))","v":""},{"$f":"IF(OR('Set UP'!$C40=0,'Set UP'!$D40=0,'Set UP'!$E40=0),\"\",RANK(BX42,$BX$9:$BX$48,0))","v":""},{"$f":"IF(OR('Set UP'!K40<>1,'Set UP'!C40=0,'Set UP'!D40=0,'Set UP'!E40=0,'Set UP'!F40=0),\"\",$BX42)","v":""},{"$f":"IF(OR('Set UP'!K40<>1,'Set UP'!C40=0,'Set UP'!D40=0,'Set UP'!E40=0,'Set UP'!F40=0),\"\",RANK(BZ42,$BZ$9:$BZ$48,0))","v":""},{"$f":"IF(OR('Set UP'!K40<>2,'Set UP'!C40=0,'Set UP'!D40=0,'Set UP'!E40=0,'Set UP'!F40=0),\"\",$BX42)","v":""},{"$f":"IF(OR('Set UP'!K40<>2,'Set UP'!C40=0,'Set UP'!D40=0,'Set UP'!E40=0,'Set UP'!F40=0),\"\",RANK(CB42,$CB$9:$CB$48,0))","v":""}]
[null,35,{"$f":"IF(OR('Set UP'!$C41=0,'Set UP'!$D41=0,'Set UP'!$E41=0,'Set UP'!F41=0),\"  --\",'Set UP'!C41)","v":"  --"},{"$f":"IF(OR('Set UP'!$C41=0,'Set UP'!$D41=0,'Set UP'!$E41=0,'Set UP'!F41=0),\"  --\",'Set UP'!D41&\" \"&'Set UP'!E41)","v":"  --"},{"$f":"IF(OR('Set UP'!$C41=0,'Set UP'!$D41=0,'Set UP'!$E41=0,'Set UP'!F41=0),\"  --\",'Set UP'!F41)","v":"  --"},null,null,null,null,null,null,null,null,null,null,{"$f":"IF(OR('Set UP'!$C41=0,'Set UP'!$D41=0,'Set UP'!$E41=0),\"\",(F$7*F43)+(G$7*G43)+(H$7*H43)+(I$7*I43)+(J$7*J43)+(K$7*K43)+(L$7*L43)+(M$7*M43)+(N$7*N43)+(O$7*O43))","v":""},null,null,null,null,null,null,null,null,null,null,{"$f":"IF(OR('Set UP'!$C41=0,'Set UP'!$D41=0,'Set UP'!$E41=0),\"\",(Q$7*Q43)+(R$7*R43)+(S$7*S43)+(T$7*T43)+(U$7*U43)+(V$7*V43)+(W$7*W43)+(X$7*X43)+(Y$7*Y43)+(Z$7*Z43))","v":""},null,null,null,null,null,null,null,null,null,null,{"$f":"IF(OR('Set UP'!$C41=0,'Set UP'!$D41=0,'Set UP'!$E41=0),\"\",(AB$7*AB43)+(AC$7*AC43)+(AD$7*AD43)+(AE$7*AE43)+(AF$7*AF43)+(AG$7*AG43)+(AH$7*AH43)+(AI$7*AI43)+(AJ$7*AJ43)+(AK$7*AK43))","v":""},null,null,null,null,null,null,null,null,null,null,{"$f":"IF(OR('Set UP'!$C41=0,'Set UP'!$D41=0,'Set UP'!$E41=0),\"\",(AM$7*AM43)+(AN$7*AN43)+(AO$7*AO43)+(AP$7*AP43)+(AQ$7*AQ43)+(AR$7*AR43)+(AS$7*AS43)+(AT$7*AT43)+(AU$7*AU43)+(AV$7*AV43))","v":""},null,null,null,null,null,null,null,null,null,null,{"$f":"IF(OR('Set UP'!$C41=0,'Set UP'!$D41=0,'Set UP'!$E41=0),\"\",(AX$7*AX43)+(AY$7*AY43)+(AZ$7*AZ43)+(BA$7*BA43)+(BB$7*BB43)+(BC$7*BC43)+(BD$7*BD43)+(BE$7*BE43)+(BF$7*BF43)+(BG$7*BG43))","v":""},null,null,null,null,null,null,null,null,null,null,null,{"$f":"IF(OR('Set UP'!$C41=0,'Set UP'!$D41=0,'Set UP'!$E41=0),\"\",(BI$7*BI43)+(BJ$7*BJ43)+(BK$7*BK43)+(BL$7*BL43)+(BM$7*BM43)+(BN$7*BN43)+(BO$7*BO43)+(BP$7*BP43)+(BQ$7*BQ43)+(BR$7*BR43)+(BS$7*BS43))","v":""},null,null,null,{"$f":"IF(OR('Set UP'!$C41=0,'Set UP'!$D41=0,'Set UP'!$E41=0),\"\",(P43+AA43+AL43+AW43+BH43+BT43))","v":""},{"$f":"IF(OR('Set UP'!$C41=0,'Set UP'!$D41=0,'Set UP'!$E41=0),\"\",RANK(BX43,$BX$9:$BX$48,0))","v":""},{"$f":"IF(OR('Set UP'!K41<>1,'Set UP'!C41=0,'Set UP'!D41=0,'Set UP'!E41=0,'Set UP'!F41=0),\"\",$BX43)","v":""},{"$f":"IF(OR('Set UP'!K41<>1,'Set UP'!C41=0,'Set UP'!D41=0,'Set UP'!E41=0,'Set UP'!F41=0),\"\",RANK(BZ43,$BZ$9:$BZ$48,0))","v":""},{"$f":"IF(OR('Set UP'!K41<>2,'Set UP'!C41=0,'Set UP'!D41=0,'Set UP'!E41=0,'Set UP'!F41=0),\"\",$BX43)","v":""},{"$f":"IF(OR('Set UP'!K41<>2,'Set UP'!C41=0,'Set UP'!D41=0,'Set UP'!E41=0,'Set UP'!F41=0),\"\",RANK(CB43,$CB$9:$CB$48,0))","v":""}]
[null,36,{"$f":"IF(OR('Set UP'!$C42=0,'Set UP'!$D42=0,'Set UP'!$E42=0,'Set UP'!F42=0),\"  --\",'Set UP'!C42)","v":"  --"},{"$f":"IF(OR('Set UP'!$C42=0,'Set UP'!$D42=0,'Set UP'!$E42=0,'Set UP'!F42=0),\"  --\",'Set UP'!D42&\" \"&'Set UP'!E42)","v":"  --"},{"$f":"IF(OR('Set UP'!$C42=0,'Set UP'!$D42=0,'Set UP'!$E42=0,'Set UP'!F42=0),\"  --\",'Set UP'!F42)","v":"  --"},null,null,null,null,null,null,null,null,null,null,{"$f":"IF(OR('Set UP'!$C42=0,'Set UP'!$D42=0,'Set UP'!$E42=0),\"\",(F$7*F44)+(G$7*G44)+(H$7*H44)+(I$7*I44)+(J$7*J44)+(K$7*K44)+(L$7*L44)+(M$7*M44)+(N$7*N44)+(O$7*O44))","v":""},null,null,null,null,null,null,null,null,null,null,{"$f":"IF(OR('Set UP'!$C42=0,'Set UP'!$D42=0,'Set UP'!$E42=0),\"\",(Q$7*Q44)+(R$7*R44)+(S$7*S44)+(T$7*T44)+(U$7*U44)+(V$7*V44)+(W$7*W44)+(X$7*X44)+(Y$7*Y44)+(Z$7*Z44))","v":""},null,null,null,null,null,null,null,null,null,null,{"$f":"IF(OR('Set UP'!$C42=0,'Set UP'!$D42=0,'Set UP'!$E42=0),\"\",(AB$7*AB44)+(AC$7*AC44)+(AD$7*AD44)+(AE$7*AE44)+(AF$7*AF44)+(AG$7*AG44)+(AH$7*AH44)+(AI$7*AI44)+(AJ$7*AJ44)+(AK$7*AK44))","v":""},null,null,null,null,null,null,null,null,null,null,{"$f":"IF(OR('Set UP'!$C42=0,'Set UP'!$D42=0,'Set UP'!$E42=0),\"\",(AM$7*AM44)+(AN$7*AN44)+(AO$7*AO44)+(AP$7*AP44)+(AQ$7*AQ44)+(AR$7*AR44)+(AS$7*AS44)+(AT$7*AT44)+(AU$7*AU44)+(AV$7*AV44))","v":""},null,null,null,null,null,null,null,null,null,null,{"$f":"IF(OR('Set UP'!$C42=0,'Set UP'!$D42=0,'Set UP'!$E42=0),\"\",(AX$7*AX44)+(AY$7*AY44)+(AZ$7*AZ44)+(BA$7*BA44)+(BB$7*BB44)+(BC$7*BC44)+(BD$7*BD44)+(BE$7*BE44)+(BF$7*BF44)+(BG$7*BG44))","v":""},null,null,null,null,null,null,null,null,null,null,null,{"$f":"IF(OR('Set UP'!$C42=0,'Set UP'!$D42=0,'Set UP'!$E42=0),\"\",(BI$7*BI44)+(BJ$7*BJ44)+(BK$7*BK44)+(BL$7*BL44)+(BM$7*BM44)+(BN$7*BN44)+(BO$7*BO44)+(BP$7*BP44)+(BQ$7*BQ44)+(BR$7*BR44)+(BS$7*BS44))","v":""},null,null,null,{"$f":"IF(OR('Set UP'!$C42=0,'Set UP'!$D42=0,'Set UP'!$E42=0),\"\",(P44+AA44+AL44+AW44+BH44+BT44))","v":""},{"$f":"IF(OR('Set UP'!$C42=0,'Set UP'!$D42=0,'Set UP'!$E42=0),\"\",RANK(BX44,$BX$9:$BX$48,0))","v":""},{"$f":"IF(OR('Set UP'!K42<>1,'Set UP'!C42=0,'Set UP'!D42=0,'Set UP'!E42=0,'Set UP'!F42=0),\"\",$BX44)","v":""},{"$f":"IF(OR('Set UP'!K42<>1,'Set UP'!C42=0,'Set UP'!D42=0,'Set UP'!E42=0,'Set UP'!F42=0),\"\",RANK(BZ44,$BZ$9:$BZ$48,0))","v":""},{"$f":"IF(OR('Set UP'!K42<>2,'Set UP'!C42=0,'Set UP'!D42=0,'Set UP'!E42=0,'Set UP'!F42=0),\"\",$BX44)","v":""},{"$f":"IF(OR('Set UP'!K42<>2,'Set UP'!C42=0,'Set UP'!D42=0,'Set UP'!E42=0,'Set UP'!F42=0),\"\",RANK(CB44,$CB$9:$CB$48,0))","v":""}]
[null,37,{"$f":"IF(OR('Set UP'!$C43=0,'Set UP'!$D43=0,'Set UP'!$E43=0,'Set UP'!F43=0),\"  --\",'Set UP'!C43)","v":"  --"},{"$f":"IF(OR('Set UP'!$C43=0,'Set UP'!$D43=0,'Set UP'!$E43=0,'Set UP'!F43=0),\"  --\",'Set UP'!D43&\" \"&'Set UP'!E43)","v":"  --"},{"$f":"IF(OR('Set UP'!$C43=0,'Set UP'!$D43=0,'Set UP'!$E43=0,'Set UP'!F43=0),\"  --\",'Set UP'!F43)","v":"  --"},null,null,null,null,null,null,null,null,null,null,{"$f":"IF(OR('Set UP'!$C43=0,'Set UP'!$D43=0,'Set UP'!$E43=0),\"\",(F$7*F45)+(G$7*G45)+(H$7*H45)+(I$7*I45)+(J$7*J45)+(K$7*K45)+(L$7*L45)+(M$7*M45)+(N$7*N45)+(O$7*O45))","v":""},null,null,null,null,null,null,null,null,null,null,{"$f":"IF(OR('Set UP'!$C43=0,'Set UP'!$D43=0,'Set UP'!$E43=0),\"\",(Q$7*Q45)+(R$7*R45)+(S$7*S45)+(T$7*T45)+(U$7*U45)+(V$7*V45)+(W$7*W45)+(X$7*X45)+(Y$7*Y45)+(Z$7*Z45))","v":""},null,null,null,null,null,null,null,null,null,null,{"$f":"IF(OR('Set UP'!$C43=0,'Set UP'!$D43=0,'Set UP'!$E43=0),\"\",(AB$7*AB45)+(AC$7*AC45)+(AD$7*AD45)+(AE$7*AE45)+(AF$7*AF45)+(AG$7*AG45)+(AH$7*AH45)+(AI$7*AI45)+(AJ$7*AJ45)+(AK$7*AK45))","v":""},null,null,null,null,null,null,null,null,null,null,{"$f":"IF(OR('Set UP'!$C43=0,'Set UP'!$D43=0,'Set UP'!$E43=0),\"\",(AM$7*AM45)+(AN$7*AN45)+(AO$7*AO45)+(AP$7*AP45)+(AQ$7*AQ45)+(AR$7*AR45)+(AS$7*AS45)+(AT$7*AT45)+(AU$7*AU45)+(AV$7*AV45))","v":""},null,null,null,null,null,null,null,null,null,null,{"$f":"IF(OR('Set UP'!$C43=0,'Set UP'!$D43=0,'Set UP'!$E43=0),\"\",(AX$7*AX45)+(AY$7*AY45)+(AZ$7*AZ45)+(BA$7*BA45)+(BB$7*BB45)+(BC$7*BC45)+(BD$7*BD45)+(BE$7*BE45)+(BF$7*BF45)+(BG$7*BG45))","v":""},null,null,null,null,null,null,null,null,null,null,null,{"$f":"IF(OR('Set UP'!$C43=0,'Set UP'!$D43=0,'Set UP'!$E43=0),\"\",(BI$7*BI45)+(BJ$7*BJ45)+(BK$7*BK45)+(BL$7*BL45)+(BM$7*BM45)+(BN$7*BN45)+(BO$7*BO45)+(BP$7*BP45)+(BQ$7*BQ45)+(BR$7*BR45)+(BS$7*BS45))","v":""},null,null,null,{"$f":"IF(OR('Set UP'!$C43=0,'Set UP'!$D43=0,'Set UP'!$E43=0),\"\",(P45+AA45+AL45+AW45+BH45+BT45))","v":""},{"$f":"IF(OR('Set UP'!$C43=0,'Set UP'!$D43=0,'Set UP'!$E43=0),\"\",RANK(BX45,$BX$9:$BX$48,0))","v":""},{"$f":"IF(OR('Set UP'!K43<>1,'Set UP'!C43=0,'Set UP'!D43=0,'Set UP'!E43=0,'Set UP'!F43=0),\"\",$BX45)","v":""},{"$f":"IF(OR('Set UP'!K43<>1,'Set UP'!C43=0,'Set UP'!D43=0,'Set UP'!E43=0,'Set UP'!F43=0),\"\",RANK(BZ45,$BZ$9:$BZ$48,0))","v":""},{"$f":"IF(OR('Set UP'!K43<>2,'Set UP'!C43=0,'Set UP'!D43=0,'Set UP'!E43=0,'Set UP'!F43=0),\"\",$BX45)","v":""},{"$f":"IF(OR('Set UP'!K43<>2,'Set UP'!C43=0,'Set UP'!D43=0,'Set UP'!E43=0,'Set UP'!F43=0),\"\",RANK(CB45,$CB$9:$CB$48,0))","v":""}]
[null,38,{"$f":"IF(OR('Set UP'!$C44=0,'Set UP'!$D44=0,'Set UP'!$E44=0,'Set UP'!F44=0),\"  --\",'Set UP'!C44)","v":"  --"},{"$f":"IF(OR('Set UP'!$C44=0,'Set UP'!$D44=0,'Set UP'!$E44=0,'Set UP'!F44=0),\"  --\",'Set UP'!D44&\" \"&'Set UP'!E44)","v":"  --"},{"$f":"IF(OR('Set UP'!$C44=0,'Set UP'!$D44=0,'Set UP'!$E44=0,'Set UP'!F44=0),\"  --\",'Set UP'!F44)","v":"  --"},null,null,null,null,null,null,null,null,null,null,{"$f":"IF(OR('Set UP'!$C44=0,'Set UP'!$D44=0,'Set UP'!$E44=0),\"\",(F$7*F46)+(G$7*G46)+(H$7*H46)+(I$7*I46)+(J$7*J46)+(K$7*K46)+(L$7*L46)+(M$7*M46)+(N$7*N46)+(O$7*O46))","v":""},null,null,null,null,null,null,null,null,null,null,{"$f":"IF(OR('Set UP'!$C44=0,'Set UP'!$D44=0,'Set UP'!$E44=0),\"\",(Q$7*Q46)+(R$7*R46)+(S$7*S46)+(T$7*T46)+(U$7*U46)+(V$7*V46)+(W$7*W46)+(X$7*X46)+(Y$7*Y46)+(Z$7*Z46))","v":""},null,null,null,null,null,null,null,null,null,null,{"$f":"IF(OR('Set UP'!$C44=0,'Set UP'!$D44=0,'Set UP'!$E44=0),\"\",(AB$7*AB46)+(AC$7*AC46)+(AD$7*AD46)+(AE$7*AE46)+(AF$7*AF46)+(AG$7*AG46)+(AH$7*AH46)+(AI$7*AI46)+(AJ$7*AJ46)+(AK$7*AK46))","v":""},null,null,null,null,null,null,null,null,null,null,{"$f":"IF(OR('Set UP'!$C44=0,'Set UP'!$D44=0,'Set UP'!$E44=0),\"\",(AM$7*AM46)+(AN$7*AN46)+(AO$7*AO46)+(AP$7*AP46)+(AQ$7*AQ46)+(AR$7*AR46)+(AS$7*AS46)+(AT$7*AT46)+(AU$7*AU46)+(AV$7*AV46))","v":""},null,null,null,null,null,null,null,null,null,null,{"$f":"IF(OR('Set UP'!$C44=0,'Set UP'!$D44=0,'Set UP'!$E44=0),\"\",(AX$7*AX46)+(AY$7*AY46)+(AZ$7*AZ46)+(BA$7*BA46)+(BB$7*BB46)+(BC$7*BC46)+(BD$7*BD46)+(BE$7*BE46)+(BF$7*BF46)+(BG$7*BG46))","v":""},null,null,null,null,null,null,null,null,null,null,null,{"$f":"IF(OR('Set UP'!$C44=0,'Set UP'!$D44=0,'Set UP'!$E44=0),\"\",(BI$7*BI46)+(BJ$7*BJ46)+(BK$7*BK46)+(BL$7*BL46)+(BM$7*BM46)+(BN$7*BN46)+(BO$7*BO46)+(BP$7*BP46)+(BQ$7*BQ46)+(BR$7*BR46)+(BS$7*BS46))","v":""},null,null,null,{"$f":"IF(OR('Set UP'!$C44=0,'Set UP'!$D44=0,'Set UP'!$E44=0),\"\",(P46+AA46+AL46+AW46+BH46+BT46))","v":""},{"$f":"IF(OR('Set UP'!$C44=0,'Set UP'!$D44=0,'Set UP'!$E44=0),\"\",RANK(BX46,$BX$9:$BX$48,0))","v":""},{"$f":"IF(OR('Set UP'!K44<>1,'Set UP'!C44=0,'Set UP'!D44=0,'Set UP'!E44=0,'Set UP'!F44=0),\"\",$BX46)","v":""},{"$f":"IF(OR('Set UP'!K44<>1,'Set UP'!C44=0,'Set UP'!D44=0,'Set UP'!E44=0,'Set UP'!F44=0),\"\",RANK(BZ46,$BZ$9:$BZ$48,0))","v":""},{"$f":"IF(OR('Set UP'!K44<>2,'Set UP'!C44=0,'Set UP'!D44=0,'Set UP'!E44=0,'Set UP'!F44=0),\"\",$BX46)","v":""},{"$f":"IF(OR('Set UP'!K44<>2,'Set UP'!C44=0,'Set UP'!D44=0,'Set UP'!E44=0,'Set UP'!F44=0),\"\",RANK(CB46,$CB$9:$CB$48,0))","v":""}]
[null,39,{"$f":"IF(OR('Set UP'!$C45=0,'Set UP'!$D45=0,'Set UP'!$E45=0,'Set UP'!F45=0),\"  --\",'Set UP'!C45)","v":"  --"},{"$f":"IF(OR('Set UP'!$C45=0,'Set UP'!$D45=0,'Set UP'!$E45=0,'Set UP'!F45=0),\"  --\",'Set UP'!D45&\" \"&'Set UP'!E45)","v":"  --"},{"$f":"IF(OR('Set UP'!$C45=0,'Set UP'!$D45=0,'Set UP'!$E45=0,'Set UP'!F45=0),\"  --\",'Set UP'!F45)","v":"  --"},null,null,null,null,null,null,null,null,null,null,{"$f":"IF(OR('Set UP'!$C45=0,'Set UP'!$D45=0,'Set UP'!$E45=0),\"\",(F$7*F47)+(G$7*G47)+(H$7*H47)+(I$7*I47)+(J$7*J47)+(K$7*K47)+(L$7*L47)+(M$7*M47)+(N$7*N47)+(O$7*O47))","v":""},null,null,null,null,null,null,null,null,null,null,{"$f":"IF(OR('Set UP'!$C45=0,'Set UP'!$D45=0,'Set UP'!$E45=0),\"\",(Q$7*Q47)+(R$7*R47)+(S$7*S47)+(T$7*T47)+(U$7*U47)+(V$7*V47)+(W$7*W47)+(X$7*X47)+(Y$7*Y47)+(Z$7*Z47))","v":""},null,null,null,null,null,null,null,null,null,null,{"$f":"IF(OR('Set UP'!$C45=0,'Set UP'!$D45=0,'Set UP'!$E45=0),\"\",(AB$7*AB47)+(AC$7*AC47)+(AD$7*AD47)+(AE$7*AE47)+(AF$7*AF47)+(AG$7*AG47)+(AH$7*AH47)+(AI$7*AI47)+(AJ$7*AJ47)+(AK$7*AK47))","v":""},null,null,null,null,null,null,null,null,null,null,{"$f":"IF(OR('Set UP'!$C45=0,'Set UP'!$D45=0,'Set UP'!$E45=0),\"\",(AM$7*AM47)+(AN$7*AN47)+(AO$7*AO47)+(AP$7*AP47)+(AQ$7*AQ47)+(AR$7*AR47)+(AS$7*AS47)+(AT$7*AT47)+(AU$7*AU47)+(AV$7*AV47))","v":""},null,null,null,null,null,null,null,null,null,null,{"$f":"IF(OR('Set UP'!$C45=0,'Set UP'!$D45=0,'Set UP'!$E45=0),\"\",(AX$7*AX47)+(AY$7*AY47)+(AZ$7*AZ47)+(BA$7*BA47)+(BB$7*BB47)+(BC$7*BC47)+(BD$7*BD47)+(BE$7*BE47)+(BF$7*BF47)+(BG$7*BG47))","v":""},null,null,null,null,null,null,null,null,null,null,null,{"$f":"IF(OR('Set UP'!$C45=0,'Set UP'!$D45=0,'Set UP'!$E45=0),\"\",(BI$7*BI47)+(BJ$7*BJ47)+(BK$7*BK47)+(BL$7*BL47)+(BM$7*BM47)+(BN$7*BN47)+(BO$7*BO47)+(BP$7*BP47)+(BQ$7*BQ47)+(BR$7*BR47)+(BS$7*BS47))","v":""},null,null,null,{"$f":"IF(OR('Set UP'!$C45=0,'Set UP'!$D45=0,'Set UP'!$E45=0),\"\",(P47+AA47+AL47+AW47+BH47+BT47))","v":""},{"$f":"IF(OR('Set UP'!$C45=0,'Set UP'!$D45=0,'Set UP'!$E45=0),\"\",RANK(BX47,$BX$9:$BX$48,0))","v":""},{"$f":"IF(OR('Set UP'!K45<>1,'Set UP'!C45=0,'Set UP'!D45=0,'Set UP'!E45=0,'Set UP'!F45=0),\"\",$BX47)","v":""},{"$f":"IF(OR('Set UP'!K45<>1,'Set UP'!C45=0,'Set UP'!D45=0,'Set UP'!E45=0,'Set UP'!F45=0),\"\",RANK(BZ47,$BZ$9:$BZ$48,0))","v":""},{"$f":"IF(OR('Set UP'!K45<>2,'Set UP'!C45=0,'Set UP'!D45=0,'Set UP'!E45=0,'Set UP'!F45=0),\"\",$BX47)","v":""},{"$f":"IF(OR('Set UP'!K45<>2,'Set UP'!C45=0,'Set UP'!D45=0,'Set UP'!E45=0,'Set UP'!F45=0),\"\",RANK(CB47,$CB$9:$CB$48,0))","v":""}]
[null,40,{"$f":"IF(OR('Set UP'!$C46=0,'Set UP'!$D46=0,'Set UP'!$E46=0,'Set UP'!F46=0),\"  --\",'Set UP'!C46)","v":"  --"},{"$f":"IF(OR('Set UP'!$C46=0,'Set UP'!$D46=0,'Set UP'!$E46=0,'Set UP'!F46=0),\"  --\",'Set UP'!D46&\" \"&'Set UP'!E46)","v":"  --"},{"$f":"IF(OR('Set UP'!$C46=0,'Set UP'!$D46=0,'Set UP'!$E46=0,'Set UP'!F46=0),\"  --\",'Set UP'!F46)","v":"  --"},null,null,null,null,null,null,null,null,null,null,{"$f":"IF(OR('Set UP'!$C46=0,'Set UP'!$D46=0,'Set UP'!$E46=0),\"\",(F$7*F48)+(G$7*G48)+(H$7*H48)+(I$7*I48)+(J$7*J48)+(K$7*K48)+(L$7*L48)+(M$7*M48)+(N$7*N48)+(O$7*O48))","v":""},null,null,null,null,null,null,null,null,null,null,{"$f":"IF(OR('Set UP'!$C46=0,'Set UP'!$D46=0,'Set UP'!$E46=0),\"\",(Q$7*Q48)+(R$7*R48)+(S$7*S48)+(T$7*T48)+(U$7*U48)+(V$7*V48)+(W$7*W48)+(X$7*X48)+(Y$7*Y48)+(Z$7*Z48))","v":""},null,null,null,null,null,null,null,null,null,null,{"$f":"IF(OR('Set UP'!$C46=0,'Set UP'!$D46=0,'Set UP'!$E46=0),\"\",(AB$7*AB48)+(AC$7*AC48)+(AD$7*AD48)+(AE$7*AE48)+(AF$7*AF48)+(AG$7*AG48)+(AH$7*AH48)+(AI$7*AI48)+(AJ$7*AJ48)+(AK$7*AK48))","v":""},null,null,null,null,null,null,null,null,null,null,{"$f":"IF(OR('Set UP'!$C46=0,'Set UP'!$D46=0,'Set UP'!$E46=0),\"\",(AM$7*AM48)+(AN$7*AN48)+(AO$7*AO48)+(AP$7*AP48)+(AQ$7*AQ48)+(AR$7*AR48)+(AS$7*AS48)+(AT$7*AT48)+(AU$7*AU48)+(AV$7*AV48))","v":""},null,null,null,null,null,null,null,null,null,null,{"$f":"IF(OR('Set UP'!$C46=0,'Set UP'!$D46=0,'Set UP'!$E46=0),\"\",(AX$7*AX48)+(AY$7*AY48)+(AZ$7*AZ48)+(BA$7*BA48)+(BB$7*BB48)+(BC$7*BC48)+(BD$7*BD48)+(BE$7*BE48)+(BF$7*BF48)+(BG$7*BG48))","v":""},null,null,null,null,null,null,null,null,null,null,null,{"$f":"IF(OR('Set UP'!$C46=0,'Set UP'!$D46=0,'Set UP'!$E46=0),\"\",(BI$7*BI48)+(BJ$7*BJ48)+(BK$7*BK48)+(BL$7*BL48)+(BM$7*BM48)+(BN$7*BN48)+(BO$7*BO48)+(BP$7*BP48)+(BQ$7*BQ48)+(BR$7*BR48)+(BS$7*BS48))","v":""},null,null,null,{"$f":"IF(OR('Set UP'!$C46=0,'Set UP'!$D46=0,'Set UP'!$E46=0),\"\",(P48+AA48+AL48+AW48+BH48+BT48))","v":""},{"$f":"IF(OR('Set UP'!$C46=0,'Set UP'!$D46=0,'Set UP'!$E46=0),\"\",RANK(BX48,$BX$9:$BX$48,0))","v":""},{"$f":"IF(OR('Set UP'!K46<>1,'Set UP'!C46=0,'Set UP'!D46=0,'Set UP'!E46=0,'Set UP'!F46=0),\"\",$BX48)","v":""},{"$f":"IF(OR('Set UP'!K46<>1,'Set UP'!C46=0,'Set UP'!D46=0,'Set UP'!E46=0,'Set UP'!F46=0),\"\",RANK(BZ48,$BZ$9:$BZ$48,0))","v":""},{"$f":"IF(OR('Set UP'!K46<>2,'Set UP'!C46=0,'Set UP'!D46=0,'Set UP'!E46=0,'Set UP'!F46=0),\"\",$BX48)","v":""},{"$f":"IF(OR('Set UP'!K46<>2,'Set UP'!C46=0,'Set UP'!D46=0,'Set UP'!E46=0,'Set UP'!F46=0),\"\",RANK(CB48,$CB$9:$CB$48,0))","v":""}]

{"sheet":"Dry Incident","index":4,"n_rows":48,"n_cols":80,"rows_kept":48,"cut":false,"hidden":false,"merged":[[3,78,7,78],[3,79,7,79],[3,5,3,15],[3,27,3,37],[3,16,3,26],[5,59,7,59],[4,49,4,59],[3,38,3,48],[3,49,3,59],[3,77,7,77],[4,60,4,70],[3,60,3,70],[3,76,7,76],[3,75,7,75],[5,70,7,70],[3,74,7,74],[4,38,4,48],[5,48,7,48],[5,15,7,15],[5,26,7,26],[5,37,7,37],[4,5,4,15],[4,16,4,26],[4,27,4,37]]}
[]
[]
[null,null,null,{"$f":"'Set UP'!Q7","v":"Dry Incident"}]
[null,null,null,null,null,"JUDGE 1",null,null,null,null,null,null,null,null,null,null,"JUDGE 2",null,null,null,null,null,null,null,null,null,null,"JUDGE 3",null,null,null,null,null,null,null,null,null,null,"JUDGE 4",null,null,null,null,null,null,null,null,null,null,"JUDGE 5",null,null,null,null,null,null,null,null,null,null,"JUDGE 6",null,null,null,null,null,null,null,null,null,null,null,null,null,"¬ OVERALL TOTAL","¬ POSITION (COMPETITION)","¬ OVERALL (A LEAGUE RANK)","¬ POSITION ( A LEAGUE)","¬ OVERALL (B LEAGUE RANK)","POSITION ( BLEAGUE)"]
[null,null,null,null,null,"Judge 1 Overall",null,null,null,null,null,null,null,null,null,null,"Judge 2 Anaphylactic and Broken Arm",null,null,null,null,null,null,null,null,null,null,"Judge 3 Choking and Asthmatic",null,null,null,null,null,null,null,null,null,null,"Judge 4 Burns/Unc non-breathing and Back wound/Shock"]
[null,null,null,null,null,"Assessment and prioritisation","Communication and teamwork","Captaincy","Control of the scenario","Phone","Phone details",null,null,null,null,"¬ JUDGE 1  TOTAL","Anaphylactic Casualty assessment","Anaphylactic Casualty treatment - conscious only","Anaphylactic Aftercare - conscious only","Anaphylactic treatment if unconscious","Broken Arm Casualty assessment","Broken Arm Casualty treatment","Broken Arm Casualty aftercare",null,null,null,"¬ JUDGE 2  TOTAL","Choking Casualty assessment","Choking Casualty treatment","ChokingCasualty aftercare","Asthmatic Casualty assessment","Asthmatic Casualty treatment","Asthmatic Casualty aftercare",null,null,null,null,"¬ JUDGE 3  TOTAL","Unc Casualty assessment","Unc - use of equipment","Unc Casualty treatment","Unc Burns ","Back wound Casualty assessment","Back wound Casualty treatment","Back wound Casualty treatment of bleeding wound","Back wound Casualty aftercare - conscious only","Back wound UNC treatment",null,"¬ JUDGE 4  TOTAL"]
[null,null,null,null,"MARK WEIGHTING →",2,1.5,1,1,2,2,null,null,null,null,null,2,2,1,1,1,1,1,null,null,null,null,1,2,1,1,2,1,null,null,null,null,null,2,2,2,1,2,1.5,2,1.5,1]
[null,null,"WEB","TEAM","CLASS"]
[null,1,{"$f":"IF(OR('Set UP'!$C7=0,'Set UP'!$D7=0,'Set UP'!$E7=0,'Set UP'!F7=0),\"  --\",'Set UP'!C7)","v":537},{"$f":"IF(OR('Set UP'!$C7=0,'Set UP'!$D7=0,'Set UP'!$E7=0,'Set UP'!F7=0),\"  --\",'Set UP'!D7&\" \"&'Set UP'!E7)","v":"Heanor A"},{"$f":"IF(OR('Set UP'!$C7=0,'Set UP'!$D7=0,'Set UP'!$E7=0,'Set UP'!F7=0),\"  --\",'Set UP'!F7)","v":"NS"},4,3,5,3,0,0,null,null,null,null,{"$f":"IF(OR('Set UP'!$C7=0,'Set UP'!$D7=0,'Set UP'!$E7=0),\"\",(F$7*F9)+(G$7*G9)+(H$7*H9)+(I$7*I9)+(J$7*J9)+(K$7*K9)+(L$7*L9)+(M$7*M9)+(N$7*N9)+(O$7*O9))","v":20.5},0,0,0,0,2,0,0,null,null,null,{"$f":"IF(OR('Set UP'!$C7=0,'Set UP'!$D7=0,'Set UP'!$E7=0),\"\",(Q$7*Q9)+(R$7*R9)+(S$7*S9)+(T$7*T9)+(U$7*U9)+(V$7*V9)+(W$7*W9)+(X$7*X9)+(Y$7*Y9)+(Z$7*Z9))","v":2},3,3,3,0,0,0,null,null,null,null,{"$f":"IF(OR('Set UP'!$C7=0,'Set UP'!$D7=0,'Set UP'!$E7=0),\"\",(AB$7*AB9)+(AC$7*AC9)+(AD$7*AD9)+(AE$7*AE9)+(AF$7*AF9)+(AG$7*AG9)+(AH$7*AH9)+(AI$7*AI9)+(AJ$7*AJ9)+(AK$7*AK9))","v":12},8,0,6,0,1,0,0,0,0,null,{"$f":"IF(OR('Set UP'!$C7=0,'Set UP'!$D7=0,'Set UP'!$E7=0),\"\",(AM$7*AM9)+(AN$7*AN9)+(AO$7*AO9)+(AP$7*AP9)+(AQ$7*AQ9)+(AR$7*AR9)+(AS$7*AS9)+(AT$7*AT9)+(AU$7*AU9)+(AV$7*AV9))","v":30},null,null,null,null,null,null,null,null,null,null,{"$f":"IF(OR('Set UP'!$C7=0,'Set UP'!$D7=0,'Set UP'!$E7=0),\"\",(AX$7*AX9)+(AY$7*AY9)+(AZ$7*AZ9)+(BA$7*BA9)+(BB$7*BB9)+(BC$7*BC9)+(BD$7*BD9)+(BE$7*BE9)+(BF$7*BF9)+(BG$7*BG9))","v":0},null,null,null,null,null,null,null,null,null,null,{"$f":"IF(OR('Set UP'!$C7=0,'Set UP'!$D7=0,'Set UP'!$E7=0),\"\",(BI$7*BI9)+(BJ$7*BJ9)+(BK$7*BK9)+(BL$7*BL9)+(BM$7*BM9)+(BN$7*BN9)+(BO$7*BO9)+(BP$7*BP9)+(BQ$7*BQ9)+(BR$7*BR9))","v":0},null,null,null,{"$f":"IF(OR('Set UP'!$C7=0,'Set UP'!$D7=0,'Set UP'!$E7=0),\"\",(P9+AA9+AL9+AW9+BH9+BS9))","v":64.5},{"$f":"IF(OR('Set UP'!$C7=0,'Set UP'!$D7=0,'Set UP'!$E7=0),\"\",RANK(BW9,$BW$9:$BW$48,0))","v":30},{"$f":"IF(OR('Set UP'!K7<>1,'Set UP'!C7=0,'Set UP'!D7=0,'Set UP'!E7=0,'Set UP'!F7=0),\"\",$BW9)","v":""},{"$f":"IF(OR('Set UP'!K7<>1,'Set UP'!C7=0,'Set UP'!D7=0,'Set UP'!E7=0,'Set UP'!F7=0),\"\",RANK(BY9,$BY$9:$BY$48,0))","v":""},{"$f":"IF(OR('Set UP'!K7<>2,'Set UP'!C7=0,'Set UP'!D7=0,'Set UP'!E7=0,'Set UP'!F7=0),\"\",$BW9)","v":""},{"$f":"IF(OR('Set UP'!K7<>2,'Set UP'!C7=0,'Set UP'!D7=0,'Set UP'!E7=0,'Set UP'!F7=0),\"\",RANK(CA9,$CA$9:$CA$48,0))","v":""}]
[null,2,{"$f":"IF(OR('Set UP'!$C8=0,'Set UP'!$D8=0,'Set UP'!$E8=0,'Set UP'!F8=0),\"  --\",'Set UP'!C8)","v":483},{"$f":"IF(OR('Set UP'!$C8=0,'Set UP'!$D8=0,'Set UP'!$E8=0,'Set UP'!F8=0),\"  --\",'Set UP'!D8&\" \"&'Set UP'!E8)","v":"University of Cambridge C"},{"$f":"IF(OR('Set UP'!$C8=0,'Set UP'!$D8=0,'Set UP'!$E8=0,'Set UP'!F8=0),\"  --\",'Set UP'!F8)","v":"S"},5,4,3,3,0,0,null,null,null,null,{"$f":"IF(OR('Set UP'!$C8=0,'Set UP'!$D8=0,'Set UP'!$E8=0),\"\",(F$7*F10)+(G$7*G10)+(H$7*H10)+(I$7*I10)+(J$7*J10)+(K$7*K10)+(L$7*L10)+(M$7*M10)+(N$7*N10)+(O$7*O10))","v":22},0,0,0,0,5,0,0,null,null,null,{"$f":"IF(OR('Set UP'!$C8=0,'Set UP'!$D8=0,'Set UP'!$E8=0),\"\",(Q$7*Q10)+(R$7*R10)+(S$7*S10)+(T$7*T10)+(U$7*U10)+(V$7*V10)+(W$7*W10)+(X$7*X10)+(Y$7*Y10)+(Z$7*Z10))","v":5},8,7,4,3,0,0,null,null,null,null,{"$f":"IF(OR('Set UP'!$C8=0,'Set UP'!$D8=0,'Set UP'!$E8=0),\"\",(AB$7*AB10)+(AC$7*AC10)+(AD$7*AD10)+(AE$7*AE10)+(AF$7*AF10)+(AG$7*AG10)+(AH$7*AH10)+(AI$7*AI10)+(AJ$7*AJ10)+(AK$7*AK10))","v":29},5,0,5,0,2,0,0,0,0,null,{"$f":"IF(OR('Set UP'!$C8=0,'Set UP'!$D8=0,'Set UP'!$E8=0),\"\",(AM$7*AM10)+(AN$7*AN10)+(AO$7*AO10)+(AP$7*AP10)+(AQ$7*AQ10)+(AR$7*AR10)+(AS$7*AS10)+(AT$7*AT10)+(AU$7*AU10)+(AV$7*AV10))","v":24},null,null,null,null,null,null,null,null,null,null,{"$f":"IF(OR('Set UP'!$C8=0,'Set UP'!$D8=0,'Set UP'!$E8=0),\"\",(AX$7*AX10)+(AY$7*AY10)+(AZ$7*AZ10)+(BA$7*BA10)+(BB$7*BB10)+(BC$7*BC10)+(BD$7*BD10)+(BE$7*BE10)+(BF$7*BF10)+(BG$7*BG10))","v":0},null,null,null,null,null,null,null,null,null,null,{"$f":"IF(OR('Set UP'!$C8=0,'Set UP'!$D8=0,'Set UP'!$E8=0),\"\",(BI$7*BI10)+(BJ$7*BJ10)+(BK$7*BK10)+(BL$7*BL10)+(BM$7*BM10)+(BN$7*BN10)+(BO$7*BO10)+(BP$7*BP10)+(BQ$7*BQ10)+(BR$7*BR10))","v":0},null,null,null,{"$f":"IF(OR('Set UP'!$C8=0,'Set UP'!$D8=0,'Set UP'!$E8=0),\"\",(P10+AA10+AL10+AW10+BH10+BS10))","v":80},{"$f":"IF(OR('Set UP'!$C8=0,'Set UP'!$D8=0,'Set UP'!$E8=0),\"\",RANK(BW10,$BW$9:$BW$48,0))","v":28},{"$f":"IF(OR('Set UP'!K8<>1,'Set UP'!C8=0,'Set UP'!D8=0,'Set UP'!E8=0,'Set UP'!F8=0),\"\",$BW10)","v":""},{"$f":"IF(OR('Set UP'!K8<>1,'Set UP'!C8=0,'Set UP'!D8=0,'Set UP'!E8=0,'Set UP'!F8=0),\"\",RANK(BY10,$BY$9:$BY$48,0))","v":""},{"$f":"IF(OR('Set UP'!K8<>2,'Set UP'!C8=0,'Set UP'!D8=0,'Set UP'!E8=0,'Set UP'!F8=0),\"\",$BW10)","v":80},{"$f":"IF(OR('Set UP'!K8<>2,'Set UP'!C8=0,'Set UP'!D8=0,'Set UP'!E8=0,'Set UP'!F8=0),\"\",RANK(CA10,$CA$9:$CA$48,0))","v":14}]
[null,3,{"$f":"IF(OR('Set UP'!$C9=0,'Set UP'!$D9=0,'Set UP'!$E9=0,'Set UP'!F9=0),\"  --\",'Set UP'!C9)","v":474},{"$f":"IF(OR('Set UP'!$C9=0,'Set UP'!$D9=0,'Set UP'!$E9=0,'Set UP'!F9=0),\"  --\",'Set UP'!D9&\" \"&'Set UP'!E9)","v":"University of Cambridge B"},{"$f":"IF(OR('Set UP'!$C9=0,'Set UP'!$D9=0,'Set UP'!$E9=0,'Set UP'!F9=0),\"  --\",'Set UP'!F9)","v":"S"},6,6,7,7,4,0,null,null,null,null,{"$f":"IF(OR('Set UP'!$C9=0,'Set UP'!$D9=0,'Set UP'!$E9=0),\"\",(F$7*F11)+(G$7*G11)+(H$7*H11)+(I$7*I11)+(J$7*J11)+(K$7*K11)+(L$7*L11)+(M$7*M11)+(N$7*N11)+(O$7*O11))","v":43},8,8,0,0,0,0,0,null,null,null,{"$f":"IF(OR('Set UP'!$C9=0,'Set UP'!$D9=0,'Set UP'!$E9=0),\"\",(Q$7*Q11)+(R$7*R11)+(S$7*S11)+(T$7*T11)+(U$7*U11)+(V$7*V11)+(W$7*W11)+(X$7*X11)+(Y$7*Y11)+(Z$7*Z11))","v":32},7,6,7,7,7,8,null,null,null,null,{"$f":"IF(OR('Set UP'!$C9=0,'Set UP'!$D9=0,'Set UP'!$E9=0),\"\",(AB$7*AB11)+(AC$7*AC11)+(AD$7*AD11)+(AE$7*AE11)+(AF$7*AF11)+(AG$7*AG11)+(AH$7*AH11)+(AI$7*AI11)+(AJ$7*AJ11)+(AK$7*AK11))","v":55},6,3,8,0,4,2,3,0,0,null,{"$f":"IF(OR('Set UP'!$C9=0,'Set UP'!$D9=0,'Set UP'!$E9=0),\"\",(AM$7*AM11)+(AN$7*AN11)+(AO$7*AO11)+(AP$7*AP11)+(AQ$7*AQ11)+(AR$7*AR11)+(AS$7*AS11)+(AT$7*AT11)+(AU$7*AU11)+(AV$7*AV11))","v":51},null,null,null,null,null,null,null,null,null,null,{"$f":"IF(OR('Set UP'!$C9=0,'Set UP'!$D9=0,'Set UP'!$E9=0),\"\",(AX$7*AX11)+(AY$7*AY11)+(AZ$7*AZ11)+(BA$7*BA11)+(BB$7*BB11)+(BC$7*BC11)+(BD$7*BD11)+(BE$7*BE11)+(BF$7*BF11)+(BG$7*BG11))","v":0},null,null,null,null,null,null,null,null,null,null,{"$f":"IF(OR('Set UP'!$C9=0,'Set UP'!$D9=0,'Set UP'!$E9=0),\"\",(BI$7*BI11)+(BJ$7*BJ11)+(BK$7*BK11)+(BL$7*BL11)+(BM$7*BM11)+(BN$7*BN11)+(BO$7*BO11)+(BP$7*BP11)+(BQ$7*BQ11)+(BR$7*BR11))","v":0},null,null,null,{"$f":"IF(OR('Set UP'!$C9=0,'Set UP'!$D9=0,'Set UP'!$E9=0),\"\",(P11+AA11+AL11+AW11+BH11+BS11))","v":181},{"$f":"IF(OR('Set UP'!$C9=0,'Set UP'!$D9=0,'Set UP'!$E9=0),\"\",RANK(BW11,$BW$9:$BW$48,0))","v":8},{"$f":"IF(OR('Set UP'!K9<>1,'Set UP'!C9=0,'Set UP'!D9=0,'Set UP'!E9=0,'Set UP'!F9=0),\"\",$BW11)","v":""},{"$f":"IF(OR('Set UP'!K9<>1,'Set UP'!C9=0,'Set UP'!D9=0,'Set UP'!E9=0,'Set UP'!F9=0),\"\",RANK(BY11,$BY$9:$BY$48,0))","v":""},{"$f":"IF(OR('Set UP'!K9<>2,'Set UP'!C9=0,'Set UP'!D9=0,'Set UP'!E9=0,'Set UP'!F9=0),\"\",$BW11)","v":181},{"$f":"IF(OR('Set UP'!K9<>2,'Set UP'!C9=0,'Set UP'!D9=0,'Set UP'!E9=0,'Set UP'!F9=0),\"\",RANK(CA11,$CA$9:$CA$48,0))","v":2}]
[null,4,{"$f":"IF(OR('Set UP'!$C10=0,'Set UP'!$D10=0,'Set UP'!$E10=0,'Set UP'!F10=0),\"  --\",'Set UP'!C10)","v":513},{"$f":"IF(OR('Set UP'!$C10=0,'Set UP'!$D10=0,'Set UP'!$E10=0,'Set UP'!F10=0),\"  --\",'Set UP'!D10&\" \"&'Set UP'!E10)","v":"University of Warwick D"},{"$f":"IF(OR('Set UP'!$C10=0,'Set UP'!$D10=0,'Set UP'!$E10=0,'Set UP'!F10=0),\"  --\",'Set UP'!F10)","v":"S"},null,null,null,null,null,null,null,null,null,null,{"$f":"IF(OR('Set UP'!$C10=0,'Set UP'!$D10=0,'Set UP'!$E10=0),\"\",(F$7*F12)+(G$7*G12)+(H$7*H12)+(I$7*I12)+(J$7*J12)+(K$7*K12)+(L$7*L12)+(M$7*M12)+(N$7*N12)+(O$7*O12))","v":0},null,null,null,null,null,null,null,null,null,null,{"$f":"IF(OR('Set UP'!$C10=0,'Set UP'!$D10=0,'Set UP'!$E10=0),\"\",(Q$7*Q12)+(R$7*R12)+(S$7*S12)+(T$7*T12)+(U$7*U12)+(V$7*V12)+(W$7*W12)+(X$7*X12)+(Y$7*Y12)+(Z$7*Z12))","v":0},null,null,null,null,null,null,null,null,null,null,{"$f":"IF(OR('Set UP'!$C10=0,'Set UP'!$D10=0,'Set UP'!$E10=0),\"\",(AB$7*AB12)+(AC$7*AC12)+(AD$7*AD12)+(AE$7*AE12)+(AF$7*AF12)+(AG$7*AG12)+(AH$7*AH12)+(AI$7*AI12)+(AJ$7*AJ12)+(AK$7*AK12))","v":0},null,null,null,null,null,null,null,null,null,null,{"$f":"IF(OR('Set UP'!$C10=0,'Set UP'!$D10=0,'Set UP'!$E10=0),\"\",(AM$7*AM12)+(AN$7*AN12)+(AO$7*AO12)+(AP$7*AP12)+(AQ$7*AQ12)+(AR$7*AR12)+(AS$7*AS12)+(AT$7*AT12)+(AU$7*AU12)+(AV$7*AV12))","v":0},null,null,null,null,null,null,null,null,null,null,{"$f":"IF(OR('Set UP'!$C10=0,'Set UP'!$D10=0,'Set UP'!$E10=0),\"\",(AX$7*AX12)+(AY$7*AY12)+(AZ$7*AZ12)+(BA$7*BA12)+(BB$7*BB12)+(BC$7*BC12)+(BD$7*BD12)+(BE$7*BE12)+(BF$7*BF12)+(BG$7*BG12))","v":0},null,null,null,null,null,null,null,null,null,null,{"$f":"IF(OR('Set UP'!$C10=0,'Set UP'!$D10=0,'Set UP'!$E10=0),\"\",(BI$7*BI12)+(BJ$7*BJ12)+(BK$7*BK12)+(BL$7*BL12)+(BM$7*BM12)+(BN$7*BN12)+(BO$7*BO12)+(BP$7*BP12)+(BQ$7*BQ12)+(BR$7*BR12))","v":0},null,null,null,{"$f":"IF(OR('Set UP'!$C10=0,'Set UP'!$D10=0,'Set UP'!$E10=0),\"\",(P12+AA12+AL12+AW12+BH12+BS12))","v":0},{"$f":"IF(OR('Set UP'!$C10=0,'Set UP'!$D10=0,'Set UP'!$E10=0),\"\",RANK(BW12,$BW$9:$BW$48,0))","v":31},{"$f":"IF(OR('Set UP'!K10<>1,'Set UP'!C10=0,'Set UP'!D10=0,'Set UP'!E10=0,'Set UP'!F10=0),\"\",$BW12)","v":""},{"$f":"IF(OR('Set UP'!K10<>1,'Set UP'!C10=0,'Set UP'!D10=0,'Set UP'!E10=0,'Set UP'!F10=0),\"\",RANK(BY12,$BY$9:$BY$48,0))","v":""},{"$f":"IF(OR('Set UP'!K10<>2,'Set UP'!C10=0,'Set UP'!D10=0,'Set UP'!E10=0,'Set UP'!F10=0),\"\",$BW12)","v":0},{"$f":"IF(OR('Set UP'!K10<>2,'Set UP'!C10=0,'Set UP'!D10=0,'Set UP'!E10=0,'Set UP'!F10=0),\"\",RANK(CA12,$CA$9:$CA$48,0))","v":15}]
[null,5,{"$f":"IF(OR('Set UP'!$C11=0,'Set UP'!$D11=0,'Set UP'!$E11=0,'Set UP'!F11=0),\"  --\",'Set UP'!C11)","v":499},{"$f":"IF(OR('Set UP'!$C11=0,'Set UP'!$D11=0,'Set UP'!$E11=0,'Set UP'!F11=0),\"  --\",'Set UP'!D11&\" \"&'Set UP'!E11)","v":"University of St Andrews B"},{"$f":"IF(OR('Set UP'!$C11=0,'Set UP'!$D11=0,'Set UP'!$E11=0,'Set UP'!F11=0),\"  --\",'Set UP'!F11)","v":"NC"},null,null,null,null,null,null,null,null,null,null,{"$f":"IF(OR('Set UP'!$C11=0,'Set UP'!$D11=0,'Set UP'!$E11=0),\"\",(F$7*F13)+(G$7*G13)+(H$7*H13)+(I$7*I13)+(J$7*J13)+(K$7*K13)+(L$7*L13)+(M$7*M13)+(N$7*N13)+(O$7*O13))","v":0},null,null,null,null,null,null,null,null,null,null,{"$f":"IF(OR('Set UP'!$C11=0,'Set UP'!$D11=0,'Set UP'!$E11=0),\"\",(Q$7*Q13)+(R$7*R13)+(S$7*S13)+(T$7*T13)+(U$7*U13)+(V$7*V13)+(W$7*W13)+(X$7*X13)+(Y$7*Y13)+(Z$7*Z13))","v":0},null,null,null,null,null,null,null,null,null,null,{"$f":"IF(OR('Set UP'!$C11=0,'Set UP'!$D11=0,'Set UP'!$E11=0),\"\",(AB$7*AB13)+(AC$7*AC13)+(AD$7*AD13)+(AE$7*AE13)+(AF$7*AF13)+(AG$7*AG13)+(AH$7*AH13)+(AI$7*AI13)+(AJ$7*AJ13)+(AK$7*AK13))","v":0},null,null,null,null,null,null,null,null,null,null,{"$f":"IF(OR('Set UP'!$C11=0,'Set UP'!$D11=0,'Set UP'!$E11=0),\"\",(AM$7*AM13)+(AN$7*AN13)+(AO$7*AO13)+(AP$7*AP13)+(AQ$7*AQ13)+(AR$7*AR13)+(AS$7*AS13)+(AT$7*AT13)+(AU$7*AU13)+(AV$7*AV13))","v":0},null,null,null,null,null,null,null,null,null,null,{"$f":"IF(OR('Set UP'!$C11=0,'Set UP'!$D11=0,'Set UP'!$E11=0),\"\",(AX$7*AX13)+(AY$7*AY13)+(AZ$7*AZ13)+(BA$7*BA13)+(BB$7*BB13)+(BC$7*BC13)+(BD$7*BD13)+(BE$7*BE13)+(BF$7*BF13)+(BG$7*BG13))","v":0},null,null,null,null,null,null,null,null,null,null,{"$f":"IF(OR('Set UP'!$C11=0,'Set UP'!$D11=0,'Set UP'!$E11=0),\"\",(BI$7*BI13)+(BJ$7*BJ13)+(BK$7*BK13)+(BL$7*BL13)+(BM$7*BM13)+(BN$7*BN13)+(BO$7*BO13)+(BP$7*BP13)+(BQ$7*BQ13)+(BR$7*BR13))","v":0},null,null,null,{"$f":"IF(OR('Set UP'!$C11=0,'Set UP'!$D11=0,'Set UP'!$E11=0),\"\",(P13+AA13+AL13+AW13+BH13+BS13))","v":0},{"$f":"IF(OR('Set UP'!$C11=0,'Set UP'!$D11=0,'Set UP'!$E11=0),\"\",RANK(BW13,$BW$9:$BW$48,0))","v":31},{"$f":"IF(OR('Set UP'!K11<>1,'Set UP'!C11=0,'Set UP'!D11=0,'Set UP'!E11=0,'Set UP'!F11=0),\"\",$BW13)","v":""},{"$f":"IF(OR('Set UP'!K11<>1,'Set UP'!C11=0,'Set UP'!D11=0,'Set UP'!E11=0,'Set UP'!F11=0),\"\",RANK(BY13,$BY$9:$BY$48,0))","v":""},{"$f":"IF(OR('Set UP'!K11<>2,'Set UP'!C11=0,'Set UP'!D11=0,'Set UP'!E11=0,'Set UP'!F11=0),\"\",$BW13)","v":""},{"$f":"IF(OR('Set UP'!K11<>2,'Set UP'!C11=0,'Set UP'!D11=0,'Set UP'!E11=0,'Set UP'!F11=0),\"\",RANK(CA13,$CA$9:$CA$48,0))","v":""}]
[null,6,{"$f":"IF(OR('Set UP'!$C12=0,'Set UP'!$D12=0,'Set UP'!$E12=0,'Set UP'!F12=0),\"  --\",'Set UP'!C12)","v":507},{"$f":"IF(OR('Set UP'!$C12=0,'Set UP'!$D12=0,'Set UP'!$E12=0,'Set UP'!F12=0),\"  --\",'Set UP'!D12&\" \"&'Set UP'!E12)","v":"University of Plymouth C"},{"$f":"IF(OR('Set UP'!$C12=0,'Set UP'!$D12=0,'Set UP'!$E12=0,'Set UP'!F12=0),\"  --\",'Set UP'!F12)","v":"S"},5,5,5,4,7,5,null,null,null,null,{"$f":"IF(OR('Set UP'!$C12=0,'Set UP'!$D12=0,'Set UP'!$E12=0),\"\",(F$7*F14)+(G$7*G14)+(H$7*H14)+(I$7*I14)+(J$7*J14)+(K$7*K14)+(L$7*L14)+(M$7*M14)+(N$7*N14)+(O$7*O14))","v":50.5},7,8,4,0,3,0,0,null,null,null,{"$f":"IF(OR('Set UP'!$C12=0,'Set UP'!$D12=0,'Set UP'!$E12=0),\"\",(Q$7*Q14)+(R$7*R14)+(S$7*S14)+(T$7*T14)+(U$7*U14)+(V$7*V14)+(W$7*W14)+(X$7*X14)+(Y$7*Y14)+(Z$7*Z14))","v":37},7,6,6,7,3,5,null,null,null,null,{"$f":"IF(OR('Set UP'!$C12=0,'Set UP'!$D12=0,'Set UP'!$E12=0),\"\",(AB$7*AB14)+(AC$7*AC14)+(AD$7*AD14)+(AE$7*AE14)+(AF$7*AF14)+(AG$7*AG14)+(AH$7*AH14)+(AI$7*AI14)+(AJ$7*AJ14)+(AK$7*AK14))","v":43},6,0,4,0,3,0,0,0,0,null,{"$f":"IF(OR('Set UP'!$C12=0,'Set UP'!$D12=0,'Set UP'!$E12=0),\"\",(AM$7*AM14)+(AN$7*AN14)+(AO$7*AO14)+(AP$7*AP14)+(AQ$7*AQ14)+(AR$7*AR14)+(AS$7*AS14)+(AT$7*AT14)+(AU$7*AU14)+(AV$7*AV14))","v":26},null,null,null,null,null,null,null,null,null,null,{"$f":"IF(OR('Set UP'!$C12=0,'Set UP'!$D12=0,'Set UP'!$E12=0),\"\",(AX$7*AX14)+(AY$7*AY14)+(AZ$7*AZ14)+(BA$7*BA14)+(BB$7*BB14)+(BC$7*BC14)+(BD$7*BD14)+(BE$7*BE14)+(BF$7*BF14)+(BG$7*BG14))","v":0},null,null,null,null,null,null,null,null,null,null,{"$f":"IF(OR('Set UP'!$C12=0,'Set UP'!$D12=0,'Set UP'!$E12=0),\"\",(BI$7*BI14)+(BJ$7*BJ14)+(BK$7*BK14)+(BL$7*BL14)+(BM$7*BM14)+(BN$7*BN14)+(BO$7*BO14)+(BP$7*BP14)+(BQ$7*BQ14)+(BR$7*BR14))","v":0},null,null,null,{"$f":"IF(OR('Set UP'!$C12=0,'Set UP'!$D12=0,'Set UP'!$E12=0),\"\",(P14+AA14+AL14+AW14+BH14+BS14))","v":156.5},{"$f":"IF(OR('Set UP'!$C12=0,'Set UP'!$D12=0,'Set UP'!$E12=0),\"\",RANK(BW14,$BW$9:$BW$48,0))","v":15},{"$f":"IF(OR('Set UP'!K12<>1,'Set UP'!C12=0,'Set UP'!D12=0,'Set UP'!E12=0,'Set UP'!F12=0),\"\",$BW14)","v":""},{"$f":"IF(OR('Set UP'!K12<>1,'Set UP'!C12=0,'Set UP'!D12=0,'Set UP'!E12=0,'Set UP'!F12=0),\"\",RANK(BY14,$BY$9:$BY$48,0))","v":""},{"$f":"IF(OR('Set UP'!K12<>2,'Set UP'!C12=0,'Set UP'!D12=0,'Set UP'!E12=0,'Set UP'!F12=0),\"\",$BW14)","v":156.5},{"$f":"IF(OR('Set UP'!K12<>2,'Set UP'!C12=0,'Set UP'!D12=0,'Set UP'!E12=0,'Set UP'!F12=0),\"\",RANK(CA14,$CA$9:$CA$48,0))","v":4}]
[null,7,{"$f":"IF(OR('Set UP'!$C13=0,'Set UP'!$D13=0,'Set UP'!$E13=0,'Set UP'!F13=0),\"  --\",'Set UP'!C13)","v":519},{"$f":"IF(OR('Set UP'!$C13=0,'Set UP'!$D13=0,'Set UP'!$E13=0,'Set UP'!F13=0),\"  --\",'Set UP'!D13&\" \"&'Set UP'!E13)","v":"University of Aberdeen B"},{"$f":"IF(OR('Set UP'!$C13=0,'Set UP'!$D13=0,'Set UP'!$E13=0,'Set UP'!F13=0),\"  --\",'Set UP'!F13)","v":"NC"},4,4,4,5,0,0,null,null,null,null,{"$f":"IF(OR('Set UP'!$C13=0,'Set UP'!$D13=0,'Set UP'!$E13=0),\"\",(F$7*F15)+(G$7*G15)+(H$7*H15)+(I$7*I15)+(J$7*J15)+(K$7*K15)+(L$7*L15)+(M$7*M15)+(N$7*N15)+(O$7*O15))","v":23},2,0,0,0,2,0,0,null,null,null,{"$f":"IF(OR('Set UP'!$C13=0,'Set UP'!$D13=0,'Set UP'!$E13=0),\"\",(Q$7*Q15)+(R$7*R15)+(S$7*S15)+(T$7*T15)+(U$7*U15)+(V$7*V15)+(W$7*W15)+(X$7*X15)+(Y$7*Y15)+(Z$7*Z15))","v":6},6,8,7,5,4,4,null,null,null,null,{"$f":"IF(OR('Set UP'!$C13=0,'Set UP'!$D13=0,'Set UP'!$E13=0),\"\",(AB$7*AB15)+(AC$7*AC15)+(AD$7*AD15)+(AE$7*AE15)+(AF$7*AF15)+(AG$7*AG15)+(AH$7*AH15)+(AI$7*AI15)+(AJ$7*AJ15)+(AK$7*AK15))","v":46},1,0,0,0,1,0,0,0,3,null,{"$f":"IF(OR('Set UP'!$C13=0,'Set UP'!$D13=0,'Set UP'!$E13=0),\"\",(AM$7*AM15)+(AN$7*AN15)+(AO$7*AO15)+(AP$7*AP15)+(AQ$7*AQ15)+(AR$7*AR15)+(AS$7*AS15)+(AT$7*AT15)+(AU$7*AU15)+(AV$7*AV15))","v":7},null,null,null,null,null,null,null,null,null,null,{"$f":"IF(OR('Set UP'!$C13=0,'Set UP'!$D13=0,'Set UP'!$E13=0),\"\",(AX$7*AX15)+(AY$7*AY15)+(AZ$7*AZ15)+(BA$7*BA15)+(BB$7*BB15)+(BC$7*BC15)+(BD$7*BD15)+(BE$7*BE15)+(BF$7*BF15)+(BG$7*BG15))","v":0},null,null,null,null,null,null,null,null,null,null,{"$f":"IF(OR('Set UP'!$C13=0,'Set UP'!$D13=0,'Set UP'!$E13=0),\"\",(BI$7*BI15)+(BJ$7*BJ15)+(BK$7*BK15)+(BL$7*BL15)+(BM$7*BM15)+(BN$7*BN15)+(BO$7*BO15)+(BP$7*BP15)+(BQ$7*BQ15)+(BR$7*BR15))","v":0},null,null,null,{"$f":"IF(OR('Set UP'!$C13=0,'Set UP'!$D13=0,'Set UP'!$E13=0),\"\",(P15+AA15+AL15+AW15+BH15+BS15))","v":82},{"$f":"IF(OR('Set UP'!$C13=0,'Set UP'!$D13=0,'Set UP'!$E13=0),\"\",RANK(BW15,$BW$9:$BW$48,0))","v":27},{"$f":"IF(OR('Set UP'!K13<>1,'Set UP'!C13=0,'Set UP'!D13=0,'Set UP'!E13=0,'Set UP'!F13=0),\"\",$BW15)","v":""},{"$f":"IF(OR('Set UP'!K13<>1,'Set UP'!C13=0,'Set UP'!D13=0,'Set UP'!E13=0,'Set UP'!F13=0),\"\",RANK(BY15,$BY$9:$BY$48,0))","v":""},{"$f":"IF(OR('Set UP'!K13<>2,'Set UP'!C13=0,'Set UP'!D13=0,'Set UP'!E13=0,'Set UP'!F13=0),\"\",$BW15)","v":""},{"$f":"IF(OR('Set UP'!K13<>2,'Set UP'!C13=0,'Set UP'!D13=0,'Set UP'!E13=0,'Set UP'!F13=0),\"\",RANK(CA15,$CA$9:$CA$48,0))","v":""}]
[null,8,{"$f":"IF(OR('Set UP'!$C14=0,'Set UP'!$D14=0,'Set UP'!$E14=0,'Set UP'!F14=0),\"  --\",'Set UP'!C14)","v":532},{"$f":"IF(OR('Set UP'!$C14=0,'Set UP'!$D14=0,'Set UP'!$E14=0,'Set UP'!F14=0),\"  --\",'Set UP'!D14&\" \"&'Set UP'!E14)","v":"University of London Union E"},{"$f":"IF(OR('Set UP'!$C14=0,'Set UP'!$D14=0,'Set UP'!$E14=0,'Set UP'!F14=0),\"  --\",'Set UP'!F14)","v":"S"},5,5,5,7,4,4,null,null,null,null,{"$f":"IF(OR('Set UP'!$C14=0,'Set UP'!$D14=0,'Set UP'!$E14=0),\"\",(F$7*F16)+(G$7*G16)+(H$7*H16)+(I$7*I16)+(J$7*J16)+(K$7*K16)+(L$7*L16)+(M$7*M16)+(N$7*N16)+(O$7*O16))","v":45.5},5,5,1,0,2,0,0,null,null,null,{"$f":"IF(OR('Set UP'!$C14=0,'Set UP'!$D14=0,'Set UP'!$E14=0),\"\",(Q$7*Q16)+(R$7*R16)+(S$7*S16)+(T$7*T16)+(U$7*U16)+(V$7*V16)+(W$7*W16)+(X$7*X16)+(Y$7*Y16)+(Z$7*Z16))","v":23},6,6,5,2,0,0,null,null,null,null,{"$f":"IF(OR('Set UP'!$C14=0,'Set UP'!$D14=0,'Set UP'!$E14=0),\"\",(AB$7*AB16)+(AC$7*AC16)+(AD$7*AD16)+(AE$7*AE16)+(AF$7*AF16)+(AG$7*AG16)+(AH$7*AH16)+(AI$7*AI16)+(AJ$7*AJ16)+(AK$7*AK16))","v":25},4,1,0,0,3,1,0,0,1,null,{"$f":"IF(OR('Set UP'!$C14=0,'Set UP'!$D14=0,'Set UP'!$E14=0),\"\",(AM$7*AM16)+(AN$7*AN16)+(AO$7*AO16)+(AP$7*AP16)+(AQ$7*AQ16)+(AR$7*AR16)+(AS$7*AS16)+(AT$7*AT16)+(AU$7*AU16)+(AV$7*AV16))","v":18.5},null,null,null,null,null,null,null,null,null,null,{"$f":"IF(OR('Set UP'!$C14=0,'Set UP'!$D14=0,'Set UP'!$E14=0),\"\",(AX$7*AX16)+(AY$7*AY16)+(AZ$7*AZ16)+(BA$7*BA16)+(BB$7*BB16)+(BC$7*BC16)+(BD$7*BD16)+(BE$7*BE16)+(BF$7*BF16)+(BG$7*BG16))","v":0},null,null,null,null,null,null,null,null,null,null,{"$f":"IF(OR('Set UP'!$C14=0,'Set UP'!$D14=0,'Set UP'!$E14=0),\"\",(BI$7*BI16)+(BJ$7*BJ16)+(BK$7*BK16)+(BL$7*BL16)+(BM$7*BM16)+(BN$7*BN16)+(BO$7*BO16)+(BP$7*BP16)+(BQ$7*BQ16)+(BR$7*BR16))","v":0},null,null,null,{"$f":"IF(OR('Set UP'!$C14=0,'Set UP'!$D14=0,'Set UP'!$E14=0),\"\",(P16+AA16+AL16+AW16+BH16+BS16))","v":112},{"$f":"IF(OR('Set UP'!$C14=0,'Set UP'!$D14=0,'Set UP'!$E14=0),\"\",RANK(BW16,$BW$9:$BW$48,0))","v":24},{"$f":"IF(OR('Set UP'!K14<>1,'Set UP'!C14=0,'Set UP'!D14=0,'Set UP'!E14=0,'Set UP'!F14=0),\"\",$BW16)","v":""},{"$f":"IF(OR('Set UP'!K14<>1,'Set UP'!C14=0,'Set UP'!D14=0,'Set UP'!E14=0,'Set UP'!F14=0),\"\",RANK(BY16,$BY$9:$BY$48,0))","v":""},{"$f":"IF(OR('Set UP'!K14<>2,'Set UP'!C14=0,'Set UP'!D14=0,'Set UP'!E14=0,'Set UP'!F14=0),\"\",$BW16)","v":112},{"$f":"IF(OR('Set UP'!K14<>2,'Set UP'!C14=0,'Set UP'!D14=0,'Set UP'!E14=0,'Set UP'!F14=0),\"\",RANK(CA16,$CA$9:$CA$48,0))","v":12}]
[null,9,{"$f":"IF(OR('Set UP'!$C15=0,'Set UP'!$D15=0,'Set UP'!$E15=0,'Set UP'!F15=0),\"  --\",'Set UP'!C15)","v":530},{"$f":"IF(OR('Set UP'!$C15=0,'Set UP'!$D15=0,'Set UP'!$E15=0,'Set UP'!F15=0),\"  --\",'Set UP'!D15&\" \"&'Set UP'!E15)","v":"University of London Union C"},{"$f":"IF(OR('Set UP'!$C15=0,'Set UP'!$D15=0,'Set UP'!$E15=0,'Set UP'!F15=0),\"  --\",'Set UP'!F15)","v":"S"},4,5,6,8,6,5,null,null,null,null,{"$f":"IF(OR('Set UP'!$C15=0,'Set UP'!$D15=0,'Set UP'!$E15=0),\"\",(F$7*F17)+(G$7*G17)+(H$7*H17)+(I$7*I17)+(J$7*J17)+(K$7*K17)+(L$7*L17)+(M$7*M17)+(N$7*N17)+(O$7*O17))","v":51.5},5,5,0,0,2,0,0,null,null,null,{"$f":"IF(OR('Set UP'!$C15=0,'Set UP'!$D15=0,'Set UP'!$E15=0),\"\",(Q$7*Q17)+(R$7*R17)+(S$7*S17)+(T$7*T17)+(U$7*U17)+(V$7*V17)+(W$7*W17)+(X$7*X17)+(Y$7*Y17)+(Z$7*Z17))","v":22},6,7,4,0,0,0,null,null,null,null,{"$f":"IF(OR('Set UP'!$C15=0,'Set UP'!$D15=0,'Set UP'!$E15=0),\"\",(AB$7*AB17)+(AC$7*AC17)+(AD$7*AD17)+(AE$7*AE17)+(AF$7*AF17)+(AG$7*AG17)+(AH$7*AH17)+(AI$7*AI17)+(AJ$7*AJ17)+(AK$7*AK17))","v":24},4,2,2,1,3,0,0,0,4,null,{"$f":"IF(OR('Set UP'!$C15=0,'Set UP'!$D15=0,'Set UP'!$E15=0),\"\",(AM$7*AM17)+(AN$7*AN17)+(AO$7*AO17)+(AP$7*AP17)+(AQ$7*AQ17)+(AR$7*AR17)+(AS$7*AS17)+(AT$7*AT17)+(AU$7*AU17)+(AV$7*AV17))","v":27},null,null,null,null,null,null,null,null,null,null,{"$f":"IF(OR('Set UP'!$C15=0,'Set UP'!$D15=0,'Set UP'!$E15=0),\"\",(AX$7*AX17)+(AY$7*AY17)+(AZ$7*AZ17)+(BA$7*BA17)+(BB$7*BB17)+(BC$7*BC17)+(BD$7*BD17)+(BE$7*BE17)+(BF$7*BF17)+(BG$7*BG17))","v":0},null,null,null,null,null,null,null,null,null,null,{"$f":"IF(OR('Set UP'!$C15=0,'Set UP'!$D15=0,'Set UP'!$E15=0),\"\",(BI$7*BI17)+(BJ$7*BJ17)+(BK$7*BK17)+(BL$7*BL17)+(BM$7*BM17)+(BN$7*BN17)+(BO$7*BO17)+(BP$7*BP17)+(BQ$7*BQ17)+(BR$7*BR17))","v":0},null,null,null,{"$f":"IF(OR('Set UP'!$C15=0,'Set UP'!$D15=0,'Set UP'!$E15=0),\"\",(P17+AA17+AL17+AW17+BH17+BS17))","v":124.5},{"$f":"IF(OR('Set UP'!$C15=0,'Set UP'!$D15=0,'Set UP'!$E15=0),\"\",RANK(BW17,$BW$9:$BW$48,0))","v":21},{"$f":"IF(OR('Set UP'!K15<>1,'Set UP'!C15=0,'Set UP'!D15=0,'Set UP'!E15=0,'Set UP'!F15=0),\"\",$BW17)","v":""},{"$f":"IF(OR('Set UP'!K15<>1,'Set UP'!C15=0,'Set UP'!D15=0,'Set UP'!E15=0,'Set UP'!F15=0),\"\",RANK(BY17,$BY$9:$BY$48,0))","v":""},{"$f":"IF(OR('Set UP'!K15<>2,'Set UP'!C15=0,'Set UP'!D15=0,'Set UP'!E15=0,'Set UP'!F15=0),\"\",$BW17)","v":124.5},{"$f":"IF(OR('Set UP'!K15<>2,'Set UP'!C15=0,'Set UP'!D15=0,'Set UP'!E15=0,'Set UP'!F15=0),\"\",RANK(CA17,$CA$9:$CA$48,0))","v":10}]
[null,10,{"$f":"IF(OR('Set UP'!$C16=0,'Set UP'!$D16=0,'Set UP'!$E16=0,'Set UP'!F16=0),\"  --\",'Set UP'!C16)","v":506},{"$f":"IF(OR('Set UP'!$C16=0,'Set UP'!$D16=0,'Set UP'!$E16=0,'Set UP'!F16=0),\"  --\",'Set UP'!D16&\" \"&'Set UP'!E16)","v":"University of Plymouth B"},{"$f":"IF(OR('Set UP'!$C16=0,'Set UP'!$D16=0,'Set UP'!$E16=0,'Set UP'!F16=0),\"  --\",'Set UP'!F16)","v":"S"},2,2,4,0,0,0,null,null,null,null,{"$f":"IF(OR('Set UP'!$C16=0,'Set UP'!$D16=0,'Set UP'!$E16=0),\"\",(F$7*F18)+(G$7*G18)+(H$7*H18)+(I$7*I18)+(J$7*J18)+(K$7*K18)+(L$7*L18)+(M$7*M18)+(N$7*N18)+(O$7*O18))","v":11},0,0,0,0,2,0,0,null,null,null,{"$f":"IF(OR('Set UP'!$C16=0,'Set UP'!$D16=0,'Set UP'!$E16=0),\"\",(Q$7*Q18)+(R$7*R18)+(S$7*S18)+(T$7*T18)+(U$7*U18)+(V$7*V18)+(W$7*W18)+(X$7*X18)+(Y$7*Y18)+(Z$7*Z18))","v":2},5,4,5,4,5,7,null,null,null,null,{"$f":"IF(OR('Set UP'!$C16=0,'Set UP'!$D16=0,'Set UP'!$E16=0),\"\",(AB$7*AB18)+(AC$7*AC18)+(AD$7*AD18)+(AE$7*AE18)+(AF$7*AF18)+(AG$7*AG18)+(AH$7*AH18)+(AI$7*AI18)+(AJ$7*AJ18)+(AK$7*AK18))","v":39},5,6,3,0,6,6,7,2,0,null,{"$f":"IF(OR('Set UP'!$C16=0,'Set UP'!$D16=0,'Set UP'!$E16=0),\"\",(AM$7*AM18)+(AN$7*AN18)+(AO$7*AO18)+(AP$7*AP18)+(AQ$7*AQ18)+(AR$7*AR18)+(AS$7*AS18)+(AT$7*AT18)+(AU$7*AU18)+(AV$7*AV18))","v":66},null,null,null,null,null,null,null,null,null,null,{"$f":"IF(OR('Set UP'!$C16=0,'Set UP'!$D16=0,'Set UP'!$E16=0),\"\",(AX$7*AX18)+(AY$7*AY18)+(AZ$7*AZ18)+(BA$7*BA18)+(BB$7*BB18)+(BC$7*BC18)+(BD$7*BD18)+(BE$7*BE18)+(BF$7*BF18)+(BG$7*BG18))","v":0},null,null,null,null,null,null,null,null,null,null,{"$f":"IF(OR('Set UP'!$C16=0,'Set UP'!$D16=0,'Set UP'!$E16=0),\"\",(BI$7*BI18)+(BJ$7*BJ18)+(BK$7*BK18)+(BL$7*BL18)+(BM$7*BM18)+(BN$7*BN18)+(BO$7*BO18)+(BP$7*BP18)+(BQ$7*BQ18)+(BR$7*BR18))","v":0},null,null,null,{"$f":"IF(OR('Set UP'!$C16=0,'Set UP'!$D16=0,'Set UP'!$E16=0),\"\",(P18+AA18+AL18+AW18+BH18+BS18))","v":118},{"$f":"IF(OR('Set UP'!$C16=0,'Set UP'!$D16=0,'Set UP'!$E16=0),\"\",RANK(BW18,$BW$9:$BW$48,0))","v":22},{"$f":"IF(OR('Set UP'!K16<>1,'Set UP'!C16=0,'Set UP'!D16=0,'Set UP'!E16=0,'Set UP'!F16=0),\"\",$BW18)","v":""},{"$f":"IF(OR('Set UP'!K16<>1,'Set UP'!C16=0,'Set UP'!D16=0,'Set UP'!E16=0,'Set UP'!F16=0),\"\",RANK(BY18,$BY$9:$BY$48,0))","v":""},{"$f":"IF(OR('Set UP'!K16<>2,'Set UP'!C16=0,'Set UP'!D16=0,'Set UP'!E16=0,'Set UP'!F16=0),\"\",$BW18)","v":118},{"$f":"IF(OR('Set UP'!K16<>2,'Set UP'!C16=0,'Set UP'!D16=0,'Set UP'!E16=0,'Set UP'!F16=0),\"\",RANK(CA18,$CA$9:$CA$48,0))","v":11}]
[null,11,{"$f":"IF(OR('Set UP'!$C17=0,'Set UP'!$D17=0,'Set UP'!$E17=0,'Set UP'!F17=0),\"  --\",'Set UP'!C17)","v":518},{"$f":"IF(OR('Set UP'!$C17=0,'Set UP'!$D17=0,'Set UP'!$E17=0,'Set UP'!F17=0),\"  --\",'Set UP'!D17&\" \"&'Set UP'!E17)","v":"University of Aberdeen A"},{"$f":"IF(OR('Set UP'!$C17=0,'Set UP'!$D17=0,'Set UP'!$E17=0,'Set UP'!F17=0),\"  --\",'Set UP'!F17)","v":"S"},5,6,6,6,4,5,null,null,null,null,{"$f":"IF(OR('Set UP'!$C17=0,'Set UP'!$D17=0,'Set UP'!$E17=0),\"\",(F$7*F19)+(G$7*G19)+(H$7*H19)+(I$7*I19)+(J$7*J19)+(K$7*K19)+(L$7*L19)+(M$7*M19)+(N$7*N19)+(O$7*O19))","v":49},8,8,0,0,2,2,1,null,null,null,{"$f":"IF(OR('Set UP'!$C17=0,'Set UP'!$D17=0,'Set UP'!$E17=0),\"\",(Q$7*Q19)+(R$7*R19)+(S$7*S19)+(T$7*T19)+(U$7*U19)+(V$7*V19)+(W$7*W19)+(X$7*X19)+(Y$7*Y19)+(Z$7*Z19))","v":37},7,8,7,8,6,7,null,null,null,null,{"$f":"IF(OR('Set UP'!$C17=0,'Set UP'!$D17=0,'Set UP'!$E17=0),\"\",(AB$7*AB19)+(AC$7*AC19)+(AD$7*AD19)+(AE$7*AE19)+(AF$7*AF19)+(AG$7*AG19)+(AH$7*AH19)+(AI$7*AI19)+(AJ$7*AJ19)+(AK$7*AK19))","v":57},5,0,6,1,2,0,0,0,1,null,{"$f":"IF(OR('Set UP'!$C17=0,'Set UP'!$D17=0,'Set UP'!$E17=0),\"\",(AM$7*AM19)+(AN$7*AN19)+(AO$7*AO19)+(AP$7*AP19)+(AQ$7*AQ19)+(AR$7*AR19)+(AS$7*AS19)+(AT$7*AT19)+(AU$7*AU19)+(AV$7*AV19))","v":28},null,null,null,null,null,null,null,null,null,null,{"$f":"IF(OR('Set UP'!$C17=0,'Set UP'!$D17=0,'Set UP'!$E17=0),\"\",(AX$7*AX19)+(AY$7*AY19)+(AZ$7*AZ19)+(BA$7*BA19)+(BB$7*BB19)+(BC$7*BC19)+(BD$7*BD19)+(BE$7*BE19)+(BF$7*BF19)+(BG$7*BG19))","v":0},null,null,null,null,null,null,null,null,null,null,{"$f":"IF(OR('Set UP'!$C17=0,'Set UP'!$D17=0,'Set UP'!$E17=0),\"\",(BI$7*BI19)+(BJ$7*BJ19)+(BK$7*BK19)+(BL$7*BL19)+(BM$7*BM19)+(BN$7*BN19)+(BO$7*BO19)+(BP$7*BP19)+(BQ$7*BQ19)+(BR$7*BR19))","v":0},null,null,null,{"$f":"IF(OR('Set UP'!$C17=0,'Set UP'!$D17=0,'Set UP'!$E17=0),\"\",(P19+AA19+AL19+AW19+BH19+BS19))","v":171},{"$f":"IF(OR('Set UP'!$C17=0,'Set UP'!$D17=0,'Set UP'!$E17=0),\"\",RANK(BW19,$BW$9:$BW$48,0))","v":10},{"$f":"IF(OR('Set UP'!K17<>1,'Set UP'!C17=0,'Set UP'!D17=0,'Set UP'!E17=0,'Set UP'!F17=0),\"\",$BW19)","v":171},{"$f":"IF(OR('Set UP'!K17<>1,'Set UP'!C17=0,'Set UP'!D17=0,'Set UP'!E17=0,'Set UP'!F17=0),\"\",RANK(BY19,$BY$9:$BY$48,0))","v":6},{"$f":"IF(OR('Set UP'!K17<>2,'Set UP'!C17=0,'Set UP'!D17=0,'Set UP'!E17=0,'Set UP'!F17=0),\"\",$BW19)","v":""},{"$f":"IF(OR('Set UP'!K17<>2,'Set UP'!C17=0,'Set UP'!D17=0,'Set UP'!E17=0,'Set UP'!F17=0),\"\",RANK(CA19,$CA$9:$CA$48,0))","v":""}]
[null,12,{"$f":"IF(OR('Set UP'!$C18=0,'Set UP'!$D18=0,'Set UP'!$E18=0,'Set UP'!F18=0),\"  --\",'Set UP'!C18)","v":538},{"$f":"IF(OR('Set UP'!$C18=0,'Set UP'!$D18=0,'Set UP'!$E18=0,'Set UP'!F18=0),\"  --\",'Set UP'!D18&\" \"&'Set UP'!E18)","v":"University of Southampton C"},{"$f":"IF(OR('Set UP'!$C18=0,'Set UP'!$D18=0,'Set UP'!$E18=0,'Set UP'!F18=0),\"  --\",'Set UP'!F18)","v":"S"},5,5,5,8,7,5,null,null,null,null,{"$f":"IF(OR('Set UP'!$C18=0,'Set UP'!$D18=0,'Set UP'!$E18=0),\"\",(F$7*F20)+(G$7*G20)+(H$7*H20)+(I$7*I20)+(J$7*J20)+(K$7*K20)+(L$7*L20)+(M$7*M20)+(N$7*N20)+(O$7*O20))","v":54.5},5,5,0,0,1,0,0,null,null,null,{"$f":"IF(OR('Set UP'!$C18=0,'Set UP'!$D18=0,'Set UP'!$E18=0),\"\",(Q$7*Q20)+(R$7*R20)+(S$7*S20)+(T$7*T20)+(U$7*U20)+(V$7*V20)+(W$7*W20)+(X$7*X20)+(Y$7*Y20)+(Z$7*Z20))","v":21},6,5,4,6,3,6,null,null,null,null,{"$f":"IF(OR('Set UP'!$C18=0,'Set UP'!$D18=0,'Set UP'!$E18=0),\"\",(AB$7*AB20)+(AC$7*AC20)+(AD$7*AD20)+(AE$7*AE20)+(AF$7*AF20)+(AG$7*AG20)+(AH$7*AH20)+(AI$7*AI20)+(AJ$7*AJ20)+(AK$7*AK20))","v":38},1,5,7,0,2,0,0,0,1,null,{"$f":"IF(OR('Set UP'!$C18=0,'Set UP'!$D18=0,'Set UP'!$E18=0),\"\",(AM$7*AM20)+(AN$7*AN20)+(AO$7*AO20)+(AP$7*AP20)+(AQ$7*AQ20)+(AR$7*AR20)+(AS$7*AS20)+(AT$7*AT20)+(AU$7*AU20)+(AV$7*AV20))","v":31},null,null,null,null,null,null,null,null,null,null,{"$f":"IF(OR('Set UP'!$C18=0,'Set UP'!$D18=0,'Set UP'!$E18=0),\"\",(AX$7*AX20)+(AY$7*AY20)+(AZ$7*AZ20)+(BA$7*BA20)+(BB$7*BB20)+(BC$7*BC20)+(BD$7*BD20)+(BE$7*BE20)+(BF$7*BF20)+(BG$7*BG20))","v":0},null,null,null,null,null,null,null,null,null,null,{"$f":"IF(OR('Set UP'!$C18=0,'Set UP'!$D18=0,'Set UP'!$E18=0),\"\",(BI$7*BI20)+(BJ$7*BJ20)+(BK$7*BK20)+(BL$7*BL20)+(BM$7*BM20)+(BN$7*BN20)+(BO$7*BO20)+(BP$7*BP20)+(BQ$7*BQ20)+(BR$7*BR20))","v":0},null,null,null,{"$f":"IF(OR('Set UP'!$C18=0,'Set UP'!$D18=0,'Set UP'!$E18=0),\"\",(P20+AA20+AL20+AW20+BH20+BS20))","v":144.5},{"$f":"IF(OR('Set UP'!$C18=0,'Set UP'!$D18=0,'Set UP'!$E18=0),\"\",RANK(BW20,$BW$9:$BW$48,0))","v":17},{"$f":"IF(OR('Set UP'!K18<>1,'Set UP'!C18=0,'Set UP'!D18=0,'Set UP'!E18=0,'Set UP'!F18=0),\"\",$BW20)","v":""},{"$f":"IF(OR('Set UP'!K18<>1,'Set UP'!C18=0,'Set UP'!D18=0,'Set UP'!E18=0,'Set UP'!F18=0),\"\",RANK(BY20,$BY$9:$BY$48,0))","v":""},{"$f":"IF(OR('Set UP'!K18<>2,'Set UP'!C18=0,'Set UP'!D18=0,'Set UP'!E18=0,'Set UP'!F18=0),\"\",$BW20)","v":144.5},{"$f":"IF(OR('Set UP'!K18<>2,'Set UP'!C18=0,'Set UP'!D18=0,'Set UP'!E18=0,'Set UP'!F18=0),\"\",RANK(CA20,$CA$9:$CA$48,0))","v":6}]
[null,13,{"$f":"IF(OR('Set UP'!$C19=0,'Set UP'!$D19=0,'Set UP'!$E19=0,'Set UP'!F19=0),\"  --\",'Set UP'!C19)","v":515},{"$f":"IF(OR('Set UP'!$C19=0,'Set UP'!$D19=0,'Set UP'!$E19=0,'Set UP'!F19=0),\"  --\",'Set UP'!D19&\" \"&'Set UP'!E19)","v":"Loughborough University C"},{"$f":"IF(OR('Set UP'!$C19=0,'Set UP'!$D19=0,'Set UP'!$E19=0,'Set UP'!F19=0),\"  --\",'Set UP'!F19)","v":"S"},6,7,5,8,0,0,null,null,null,null,{"$f":"IF(OR('Set UP'!$C19=0,'Set UP'!$D19=0,'Set UP'!$E19=0),\"\",(F$7*F21)+(G$7*G21)+(H$7*H21)+(I$7*I21)+(J$7*J21)+(K$7*K21)+(L$7*L21)+(M$7*M21)+(N$7*N21)+(O$7*O21))","v":35.5},4,8,1,0,10,0,0,null,null,null,{"$f":"IF(OR('Set UP'!$C19=0,'Set UP'!$D19=0,'Set UP'!$E19=0),\"\",(Q$7*Q21)+(R$7*R21)+(S$7*S21)+(T$7*T21)+(U$7*U21)+(V$7*V21)+(W$7*W21)+(X$7*X21)+(Y$7*Y21)+(Z$7*Z21))","v":35},7,6,5,7,8,8,null,null,null,null,{"$f":"IF(OR('Set UP'!$C19=0,'Set UP'!$D19=0,'Set UP'!$E19=0),\"\",(AB$7*AB21)+(AC$7*AC21)+(AD$7*AD21)+(AE$7*AE21)+(AF$7*AF21)+(AG$7*AG21)+(AH$7*AH21)+(AI$7*AI21)+(AJ$7*AJ21)+(AK$7*AK21))","v":55},3,0,0,0,1,0,0,0,0,null,{"$f":"IF(OR('Set UP'!$C19=0,'Set UP'!$D19=0,'Set UP'!$E19=0),\"\",(AM$7*AM21)+(AN$7*AN21)+(AO$7*AO21)+(AP$7*AP21)+(AQ$7*AQ21)+(AR$7*AR21)+(AS$7*AS21)+(AT$7*AT21)+(AU$7*AU21)+(AV$7*AV21))","v":8},null,null,null,null,null,null,null,null,null,null,{"$f":"IF(OR('Set UP'!$C19=0,'Set UP'!$D19=0,'Set UP'!$E19=0),\"\",(AX$7*AX21)+(AY$7*AY21)+(AZ$7*AZ21)+(BA$7*BA21)+(BB$7*BB21)+(BC$7*BC21)+(BD$7*BD21)+(BE$7*BE21)+(BF$7*BF21)+(BG$7*BG21))","v":0},null,null,null,null,null,null,null,null,null,null,{"$f":"IF(OR('Set UP'!$C19=0,'Set UP'!$D19=0,'Set UP'!$E19=0),\"\",(BI$7*BI21)+(BJ$7*BJ21)+(BK$7*BK21)+(BL$7*BL21)+(BM$7*BM21)+(BN$7*BN21)+(BO$7*BO21)+(BP$7*BP21)+(BQ$7*BQ21)+(BR$7*BR21))","v":0},null,null,null,{"$f":"IF(OR('Set UP'!$C19=0,'Set UP'!$D19=0,'Set UP'!$E19=0),\"\",(P21+AA21+AL21+AW21+BH21+BS21))","v":133.5},{"$f":"IF(OR('Set UP'!$C19=0,'Set UP'!$D19=0,'Set UP'!$E19=0),\"\",RANK(BW21,$BW$9:$BW$48,0))","v":20},{"$f":"IF(OR('Set UP'!K19<>1,'Set UP'!C19=0,'Set UP'!D19=0,'Set UP'!E19=0,'Set UP'!F19=0),\"\",$BW21)","v":""},{"$f":"IF(OR('Set UP'!K19<>1,'Set UP'!C19=0,'Set UP'!D19=0,'Set UP'!E19=0,'Set UP'!F19=0),\"\",RANK(BY21,$BY$9:$BY$48,0))","v":""},{"$f":"IF(OR('Set UP'!K19<>2,'Set UP'!C19=0,'Set UP'!D19=0,'Set UP'!E19=0,'Set UP'!F19=0),\"\",$BW21)","v":133.5},{"$f":"IF(OR('Set UP'!K19<>2,'Set UP'!C19=0,'Set UP'!D19=0,'Set UP'!E19=0,'Set UP'!F19=0),\"\",RANK(CA21,$CA$9:$CA$48,0))","v":9}]
[null,14,{"$f":"IF(OR('Set UP'!$C20=0,'Set UP'!$D20=0,'Set UP'!$E20=0,'Set UP'!F20=0),\"  --\",'Set UP'!C20)","v":520},{"$f":"IF(OR('Set UP'!$C20=0,'Set UP'!$D20=0,'Set UP'!$E20=0,'Set UP'!F20=0),\"  --\",'Set UP'!D20&\" \"&'Set UP'!E20)","v":"Loughborough University D"},{"$f":"IF(OR('Set UP'!$C20=0,'Set UP'!$D20=0,'Set UP'!$E20=0,'Set UP'!F20=0),\"  --\",'Set UP'!F20)","v":"NS"},4,5,5,6,3,4,null,null,null,null,{"$f":"IF(OR('Set UP'!$C20=0,'Set UP'!$D20=0,'Set UP'!$E20=0),\"\",(F$7*F22)+(G$7*G22)+(H$7*H22)+(I$7*I22)+(J$7*J22)+(K$7*K22)+(L$7*L22)+(M$7*M22)+(N$7*N22)+(O$7*O22))","v":40.5},6,8,0,0,8,0,0,null,null,null,{"$f":"IF(OR('Set UP'!$C20=0,'Set UP'!$D20=0,'Set UP'!$E20=0),\"\",(Q$7*Q22)+(R$7*R22)+(S$7*S22)+(T$7*T22)+(U$7*U22)+(V$7*V22)+(W$7*W22)+(X$7*X22)+(Y$7*Y22)+(Z$7*Z22))","v":36},4,3,3,3,3,4,null,null,null,null,{"$f":"IF(OR('Set UP'!$C20=0,'Set UP'!$D20=0,'Set UP'!$E20=0),\"\",(AB$7*AB22)+(AC$7*AC22)+(AD$7*AD22)+(AE$7*AE22)+(AF$7*AF22)+(AG$7*AG22)+(AH$7*AH22)+(AI$7*AI22)+(AJ$7*AJ22)+(AK$7*AK22))","v":26},0,0,0,0,2,0,0,0,2,null,{"$f":"IF(OR('Set UP'!$C20=0,'Set UP'!$D20=0,'Set UP'!$E20=0),\"\",(AM$7*AM22)+(AN$7*AN22)+(AO$7*AO22)+(AP$7*AP22)+(AQ$7*AQ22)+(AR$7*AR22)+(AS$7*AS22)+(AT$7*AT22)+(AU$7*AU22)+(AV$7*AV22))","v":6},null,null,null,null,null,null,null,null,null,null,{"$f":"IF(OR('Set UP'!$C20=0,'Set UP'!$D20=0,'Set UP'!$E20=0),\"\",(AX$7*AX22)+(AY$7*AY22)+(AZ$7*AZ22)+(BA$7*BA22)+(BB$7*BB22)+(BC$7*BC22)+(BD$7*BD22)+(BE$7*BE22)+(BF$7*BF22)+(BG$7*BG22))","v":0},null,null,null,null,null,null,null,null,null,null,{"$f":"IF(OR('Set UP'!$C20=0,'Set UP'!$D20=0,'Set UP'!$E20=0),\"\",(BI$7*BI22)+(BJ$7*BJ22)+(BK$7*BK22)+(BL$7*BL22)+(BM$7*BM22)+(BN$7*BN22)+(BO$7*BO22)+(BP$7*BP22)+(BQ$7*BQ22)+(BR$7*BR22))","v":0},null,null,null,{"$f":"IF(OR('Set UP'!$C20=0,'Set UP'!$D20=0,'Set UP'!$E20=0),\"\",(P22+AA22+AL22+AW22+BH22+BS22))","v":108.5},{"$f":"IF(OR('Set UP'!$C20=0,'Set UP'!$D20=0,'Set UP'!$E20=0),\"\",RANK(BW22,$BW$9:$BW$48,0))","v":25},{"$f":"IF(OR('Set UP'!K20<>1,'Set UP'!C20=0,'Set UP'!D20=0,'Set UP'!E20=0,'Set UP'!F20=0),\"\",$BW22)","v":""},{"$f":"IF(OR('Set UP'!K20<>1,'Set UP'!C20=0,'Set UP'!D20=0,'Set UP'!E20=0,'Set UP'!F20=0),\"\",RANK(BY22,$BY$9:$BY$48,0))","v":""},{"$f":"IF(OR('Set UP'!K20<>2,'Set UP'!C20=0,'Set UP'!D20=0,'Set UP'!E20=0,'Set UP'!F20=0),\"\",$BW22)","v":""},{"$f":"IF(OR('Set UP'!K20<>2,'Set UP'!C20=0,'Set UP'!D20=0,'Set UP'!E20=0,'Set UP'!F20=0),\"\",RANK(CA22,$CA$9:$CA$48,0))","v":""}]
[null,15,{"$f":"IF(OR('Set UP'!$C21=0,'Set UP'!$D21=0,'Set UP'!$E21=0,'Set UP'!F21=0),\"  --\",'Set UP'!C21)","v":512},{"$f":"IF(OR('Set UP'!$C21=0,'Set UP'!$D21=0,'Set UP'!$E21=0,'Set UP'!F21=0),\"  --\",'Set UP'!D21&\" \"&'Set UP'!E21)","v":"University of Warwick C"},{"$f":"IF(OR('Set UP'!$C21=0,'Set UP'!$D21=0,'Set UP'!$E21=0,'Set UP'!F21=0),\"  --\",'Set UP'!F21)","v":"NC"},7,8,7,8,5,6,null,null,null,null,{"$f":"IF(OR('Set UP'!$C21=0,'Set UP'!$D21=0,'Set UP'!$E21=0),\"\",(F$7*F23)+(G$7*G23)+(H$7*H23)+(I$7*I23)+(J$7*J23)+(K$7*K23)+(L$7*L23)+(M$7*M23)+(N$7*N23)+(O$7*O23))","v":63},4,4,2,0,0,0,0,null,null,null,{"$f":"IF(OR('Set UP'!$C21=0,'Set UP'!$D21=0,'Set UP'!$E21=0),\"\",(Q$7*Q23)+(R$7*R23)+(S$7*S23)+(T$7*T23)+(U$7*U23)+(V$7*V23)+(W$7*W23)+(X$7*X23)+(Y$7*Y23)+(Z$7*Z23))","v":18},8,8,8,7,8,8,null,null,null,null,{"$f":"IF(OR('Set UP'!$C21=0,'Set UP'!$D21=0,'Set UP'!$E21=0),\"\",(AB$7*AB23)+(AC$7*AC23)+(AD$7*AD23)+(AE$7*AE23)+(AF$7*AF23)+(AG$7*AG23)+(AH$7*AH23)+(AI$7*AI23)+(AJ$7*AJ23)+(AK$7*AK23))","v":63},8,0,9,0,3,0,0,0,8,null,{"$f":"IF(OR('Set UP'!$C21=0,'Set UP'!$D21=0,'Set UP'!$E21=0),\"\",(AM$7*AM23)+(AN$7*AN23)+(AO$7*AO23)+(AP$7*AP23)+(AQ$7*AQ23)+(AR$7*AR23)+(AS$7*AS23)+(AT$7*AT23)+(AU$7*AU23)+(AV$7*AV23))","v":48},null,null,null,null,null,null,null,null,null,null,{"$f":"IF(OR('Set UP'!$C21=0,'Set UP'!$D21=0,'Set UP'!$E21=0),\"\",(AX$7*AX23)+(AY$7*AY23)+(AZ$7*AZ23)+(BA$7*BA23)+(BB$7*BB23)+(BC$7*BC23)+(BD$7*BD23)+(BE$7*BE23)+(BF$7*BF23)+(BG$7*BG23))","v":0},null,null,null,null,null,null,null,null,null,null,{"$f":"IF(OR('Set UP'!$C21=0,'Set UP'!$D21=0,'Set UP'!$E21=0),\"\",(BI$7*BI23)+(BJ$7*BJ23)+(BK$7*BK23)+(BL$7*BL23)+(BM$7*BM23)+(BN$7*BN23)+(BO$7*BO23)+(BP$7*BP23)+(BQ$7*BQ23)+(BR$7*BR23))","v":0},null,null,null,{"$f":"IF(OR('Set UP'!$C21=0,'Set UP'!$D21=0,'Set UP'!$E21=0),\"\",(P23+AA23+AL23+AW23+BH23+BS23))","v":192},{"$f":"IF(OR('Set UP'!$C21=0,'Set UP'!$D21=0,'Set UP'!$E21=0),\"\",RANK(BW23,$BW$9:$BW$48,0))","v":7},{"$f":"IF(OR('Set UP'!K21<>1,'Set UP'!C21=0,'Set UP'!D21=0,'Set UP'!E21=0,'Set UP'!F21=0),\"\",$BW23)","v":""},{"$f":"IF(OR('Set UP'!K21<>1,'Set UP'!C21=0,'Set UP'!D21=0,'Set UP'!E21=0,'Set UP'!F21=0),\"\",RANK(BY23,$BY$9:$BY$48,0))","v":""},{"$f":"IF(OR('Set UP'!K21<>2,'Set UP'!C21=0,'Set UP'!D21=0,'Set UP'!E21=0,'Set UP'!F21=0),\"\",$BW23)","v":""},{"$f":"IF(OR('Set UP'!K21<>2,'Set UP'!C21=0,'Set UP'!D21=0,'Set UP'!E21=0,'Set UP'!F21=0),\"\",RANK(CA23,$CA$9:$CA$48,0))","v":""}]
[null,16,{"$f":"IF(OR('Set UP'!$C22=0,'Set UP'!$D22=0,'Set UP'!$E22=0,'Set UP'!F22=0),\"  --\",'Set UP'!C22)","v":531},{"$f":"IF(OR('Set UP'!$C22=0,'Set UP'!$D22=0,'Set UP'!$E22=0,'Set UP'!F22=0),\"  --\",'Set UP'!D22&\" \"&'Set UP'!E22)","v":"University of London Union D"},{"$f":"IF(OR('Set UP'!$C22=0,'Set UP'!$D22=0,'Set UP'!$E22=0,'Set UP'!F22=0),\"  --\",'Set UP'!F22)","v":"NC"},7,5,5,4,5,6,null,null,null,null,{"$f":"IF(OR('Set UP'!$C22=0,'Set UP'!$D22=0,'Set UP'!$E22=0),\"\",(F$7*F24)+(G$7*G24)+(H$7*H24)+(I$7*I24)+(J$7*J24)+(K$7*K24)+(L$7*L24)+(M$7*M24)+(N$7*N24)+(O$7*O24))","v":52.5},8,8,1,0,2,0,0,null,null,null,{"$f":"IF(OR('Set UP'!$C22=0,'Set UP'!$D22=0,'Set UP'!$E22=0),\"\",(Q$7*Q24)+(R$7*R24)+(S$7*S24)+(T$7*T24)+(U$7*U24)+(V$7*V24)+(W$7*W24)+(X$7*X24)+(Y$7*Y24)+(Z$7*Z24))","v":35},9,8,6,8,8,6,null,null,null,null,{"$f":"IF(OR('Set UP'!$C22=0,'Set UP'!$D22=0,'Set UP'!$E22=0),\"\",(AB$7*AB24)+(AC$7*AC24)+(AD$7*AD24)+(AE$7*AE24)+(AF$7*AF24)+(AG$7*AG24)+(AH$7*AH24)+(AI$7*AI24)+(AJ$7*AJ24)+(AK$7*AK24))","v":61},7,7,7,0,2,0,0,0,3,null,{"$f":"IF(OR('Set UP'!$C22=0,'Set UP'!$D22=0,'Set UP'!$E22=0),\"\",(AM$7*AM24)+(AN$7*AN24)+(AO$7*AO24)+(AP$7*AP24)+(AQ$7*AQ24)+(AR$7*AR24)+(AS$7*AS24)+(AT$7*AT24)+(AU$7*AU24)+(AV$7*AV24))","v":49},null,null,null,null,null,null,null,null,null,null,{"$f":"IF(OR('Set UP'!$C22=0,'Set UP'!$D22=0,'Set UP'!$E22=0),\"\",(AX$7*AX24)+(AY$7*AY24)+(AZ$7*AZ24)+(BA$7*BA24)+(BB$7*BB24)+(BC$7*BC24)+(BD$7*BD24)+(BE$7*BE24)+(BF$7*BF24)+(BG$7*BG24))","v":0},null,null,null,null,null,null,null,null,null,null,{"$f":"IF(OR('Set UP'!$C22=0,'Set UP'!$D22=0,'Set UP'!$E22=0),\"\",(BI$7*BI24)+(BJ$7*BJ24)+(BK$7*BK24)+(BL$7*BL24)+(BM$7*BM24)+(BN$7*BN24)+(BO$7*BO24)+(BP$7*BP24)+(BQ$7*BQ24)+(BR$7*BR24))","v":0},null,null,null,{"$f":"IF(OR('Set UP'!$C22=0,'Set UP'!$D22=0,'Set UP'!$E22=0),\"\",(P24+AA24+AL24+AW24+BH24+BS24))","v":197.5},{"$f":"IF(OR('Set UP'!$C22=0,'Set UP'!$D22=0,'Set UP'!$E22=0),\"\",RANK(BW24,$BW$9:$BW$48,0))","v":6},{"$f":"IF(OR('Set UP'!K22<>1,'Set UP'!C22=0,'Set UP'!D22=0,'Set UP'!E22=0,'Set UP'!F22=0),\"\",$BW24)","v":""},{"$f":"IF(OR('Set UP'!K22<>1,'Set UP'!C22=0,'Set UP'!D22=0,'Set UP'!E22=0,'Set UP'!F22=0),\"\",RANK(BY24,$BY$9:$BY$48,0))","v":""},{"$f":"IF(OR('Set UP'!K22<>2,'Set UP'!C22=0,'Set UP'!D22=0,'Set UP'!E22=0,'Set UP'!F22=0),\"\",$BW24)","v":""},{"$f":"IF(OR('Set UP'!K22<>2,'Set UP'!C22=0,'Set UP'!D22=0,'Set UP'!E22=0,'Set UP'!F22=0),\"\",RANK(CA24,$CA$9:$CA$48,0))","v":""}]
[null,17,{"$f":"IF(OR('Set UP'!$C23=0,'Set UP'!$D23=0,'Set UP'!$E23=0,'Set UP'!F23=0),\"  --\",'Set UP'!C23)","v":471},{"$f":"IF(OR('Set UP'!$C23=0,'Set UP'!$D23=0,'Set UP'!$E23=0,'Set UP'!F23=0),\"  --\",'Set UP'!D23&\" \"&'Set UP'!E23)","v":"University of Cambridge A"},{"$f":"IF(OR('Set UP'!$C23=0,'Set UP'!$D23=0,'Set UP'!$E23=0,'Set UP'!F23=0),\"  --\",'Set UP'!F23)","v":"S"},8,8,8,8,7,4,null,null,null,null,{"$f":"IF(OR('Set UP'!$C23=0,'Set UP'!$D23=0,'Set UP'!$E23=0),\"\",(F$7*F25)+(G$7*G25)+(H$7*H25)+(I$7*I25)+(J$7*J25)+(K$7*K25)+(L$7*L25)+(M$7*M25)+(N$7*N25)+(O$7*O25))","v":66},5,5,2,0,1,0,0,null,null,null,{"$f":"IF(OR('Set UP'!$C23=0,'Set UP'!$D23=0,'Set UP'!$E23=0),\"\",(Q$7*Q25)+(R$7*R25)+(S$7*S25)+(T$7*T25)+(U$7*U25)+(V$7*V25)+(W$7*W25)+(X$7*X25)+(Y$7*Y25)+(Z$7*Z25))","v":23},5,5,6,7,8,7,null,null,null,null,{"$f":"IF(OR('Set UP'!$C23=0,'Set UP'!$D23=0,'Set UP'!$E23=0),\"\",(AB$7*AB25)+(AC$7*AC25)+(AD$7*AD25)+(AE$7*AE25)+(AF$7*AF25)+(AG$7*AG25)+(AH$7*AH25)+(AI$7*AI25)+(AJ$7*AJ25)+(AK$7*AK25))","v":51},2,3,4,0,4,0,0,0,0,null,{"$f":"IF(OR('Set UP'!$C23=0,'Set UP'!$D23=0,'Set UP'!$E23=0),\"\",(AM$7*AM25)+(AN$7*AN25)+(AO$7*AO25)+(AP$7*AP25)+(AQ$7*AQ25)+(AR$7*AR25)+(AS$7*AS25)+(AT$7*AT25)+(AU$7*AU25)+(AV$7*AV25))","v":26},null,null,null,null,null,null,null,null,null,null,{"$f":"IF(OR('Set UP'!$C23=0,'Set UP'!$D23=0,'Set UP'!$E23=0),\"\",(AX$7*AX25)+(AY$7*AY25)+(AZ$7*AZ25)+(BA$7*BA25)+(BB$7*BB25)+(BC$7*BC25)+(BD$7*BD25)+(BE$7*BE25)+(BF$7*BF25)+(BG$7*BG25))","v":0},null,null,null,null,null,null,null,null,null,null,{"$f":"IF(OR('Set UP'!$C23=0,'Set UP'!$D23=0,'Set UP'!$E23=0),\"\",(BI$7*BI25)+(BJ$7*BJ25)+(BK$7*BK25)+(BL$7*BL25)+(BM$7*BM25)+(BN$7*BN25)+(BO$7*BO25)+(BP$7*BP25)+(BQ$7*BQ25)+(BR$7*BR25))","v":0},null,null,null,{"$f":"IF(OR('Set UP'!$C23=0,'Set UP'!$D23=0,'Set UP'!$E23=0),\"\",(P25+AA25+AL25+AW25+BH25+BS25))","v":166},{"$f":"IF(OR('Set UP'!$C23=0,'Set UP'!$D23=0,'Set UP'!$E23=0),\"\",RANK(BW25,$BW$9:$BW$48,0))","v":12},{"$f":"IF(OR('Set UP'!K23<>1,'Set UP'!C23=0,'Set UP'!D23=0,'Set UP'!E23=0,'Set UP'!F23=0),\"\",$BW25)","v":166},{"$f":"IF(OR('Set UP'!K23<>1,'Set UP'!C23=0,'Set UP'!D23=0,'Set UP'!E23=0,'Set UP'!F23=0),\"\",RANK(BY25,$BY$9:$BY$48,0))","v":8},{"$f":"IF(OR('Set UP'!K23<>2,'Set UP'!C23=0,'Set UP'!D23=0,'Set UP'!E23=0,'Set UP'!F23=0),\"\",$BW25)","v":""},{"$f":"IF(OR('Set UP'!K23<>2,'Set UP'!C23=0,'Set UP'!D23=0,'Set UP'!E23=0,'Set UP'!F23=0),\"\",RANK(CA25,$CA$9:$CA$48,0))","v":""}]
[null,18,{"$f":"IF(OR('Set UP'!$C24=0,'Set UP'!$D24=0,'Set UP'!$E24=0,'Set UP'!F24=0),\"  --\",'Set UP'!C24)","v":522},{"$f":"IF(OR('Set UP'!$C24=0,'Set UP'!$D24=0,'Set UP'!$E24=0,'Set UP'!F24=0),\"  --\",'Set UP'!D24&\" \"&'Set UP'!E24)","v":"University of Birmingham B"},{"$f":"IF(OR('Set UP'!$C24=0,'Set UP'!$D24=0,'Set UP'!$E24=0,'Set UP'!F24=0),\"  --\",'Set UP'!F24)","v":"S"},5,6,5,6,7,5,null,null,null,null,{"$f":"IF(OR('Set UP'!$C24=0,'Set UP'!$D24=0,'Set UP'!$E24=0),\"\",(F$7*F26)+(G$7*G26)+(H$7*H26)+(I$7*I26)+(J$7*J26)+(K$7*K26)+(L$7*L26)+(M$7*M26)+(N$7*N26)+(O$7*O26))","v":54},6,8,4,0,8,5,2,null,null,null,{"$f":"IF(OR('Set UP'!$C24=0,'Set UP'!$D24=0,'Set UP'!$E24=0),\"\",(Q$7*Q26)+(R$7*R26)+(S$7*S26)+(T$7*T26)+(U$7*U26)+(V$7*V26)+(W$7*W26)+(X$7*X26)+(Y$7*Y26)+(Z$7*Z26))","v":47},5,5,5,0,0,0,null,null,null,null,{"$f":"IF(OR('Set UP'!$C24=0,'Set UP'!$D24=0,'Set UP'!$E24=0),\"\",(AB$7*AB26)+(AC$7*AC26)+(AD$7*AD26)+(AE$7*AE26)+(AF$7*AF26)+(AG$7*AG26)+(AH$7*AH26)+(AI$7*AI26)+(AJ$7*AJ26)+(AK$7*AK26))","v":20},3,2,3,0,7,4,1,0,4,null,{"$f":"IF(OR('Set UP'!$C24=0,'Set UP'!$D24=0,'Set UP'!$E24=0),\"\",(AM$7*AM26)+(AN$7*AN26)+(AO$7*AO26)+(AP$7*AP26)+(AQ$7*AQ26)+(AR$7*AR26)+(AS$7*AS26)+(AT$7*AT26)+(AU$7*AU26)+(AV$7*AV26))","v":42},null,null,null,null,null,null,null,null,null,null,{"$f":"IF(OR('Set UP'!$C24=0,'Set UP'!$D24=0,'Set UP'!$E24=0),\"\",(AX$7*AX26)+(AY$7*AY26)+(AZ$7*AZ26)+(BA$7*BA26)+(BB$7*BB26)+(BC$7*BC26)+(BD$7*BD26)+(BE$7*BE26)+(BF$7*BF26)+(BG$7*BG26))","v":0},null,null,null,null,null,null,null,null,null,null,{"$f":"IF(OR('Set UP'!$C24=0,'Set UP'!$D24=0,'Set UP'!$E24=0),\"\",(BI$7*BI26)+(BJ$7*BJ26)+(BK$7*BK26)+(BL$7*BL26)+(BM$7*BM26)+(BN$7*BN26)+(BO$7*BO26)+(BP$7*BP26)+(BQ$7*BQ26)+(BR$7*BR26))","v":0},null,null,null,{"$f":"IF(OR('Set UP'!$C24=0,'Set UP'!$D24=0,'Set UP'!$E24=0),\"\",(P26+AA26+AL26+AW26+BH26+BS26))","v":163},{"$f":"IF(OR('Set UP'!$C24=0,'Set UP'!$D24=0,'Set UP'!$E24=0),\"\",RANK(BW26,$BW$9:$BW$48,0))","v":13},{"$f":"IF(OR('Set UP'!K24<>1,'Set UP'!C24=0,'Set UP'!D24=0,'Set UP'!E24=0,'Set UP'!F24=0),\"\",$BW26)","v":""},{"$f":"IF(OR('Set UP'!K24<>1,'Set UP'!C24=0,'Set UP'!D24=0,'Set UP'!E24=0,'Set UP'!F24=0),\"\",RANK(BY26,$BY$9:$BY$48,0))","v":""},{"$f":"IF(OR('Set UP'!K24<>2,'Set UP'!C24=0,'Set UP'!D24=0,'Set UP'!E24=0,'Set UP'!F24=0),\"\",$BW26)","v":163},{"$f":"IF(OR('Set UP'!K24<>2,'Set UP'!C24=0,'Set UP'!D24=0,'Set UP'!E24=0,'Set UP'!F24=0),\"\",RANK(CA26,$CA$9:$CA$48,0))","v":3}]
[null,19,{"$f":"IF(OR('Set UP'!$C25=0,'Set UP'!$D25=0,'Set UP'!$E25=0,'Set UP'!F25=0),\"  --\",'Set UP'!C25)","v":498},{"$f":"IF(OR('Set UP'!$C25=0,'Set UP'!$D25=0,'Set UP'!$E25=0,'Set UP'!F25=0),\"  --\",'Set UP'!D25&\" \"&'Set UP'!E25)","v":"University of St Andrews A"},{"$f":"IF(OR('Set UP'!$C25=0,'Set UP'!$D25=0,'Set UP'!$E25=0,'Set UP'!F25=0),\"  --\",'Set UP'!F25)","v":"S"},8,8,7,8,0,0,null,null,null,null,{"$f":"IF(OR('Set UP'!$C25=0,'Set UP'!$D25=0,'Set UP'!$E25=0),\"\",(F$7*F27)+(G$7*G27)+(H$7*H27)+(I$7*I27)+(J$7*J27)+(K$7*K27)+(L$7*L27)+(M$7*M27)+(N$7*N27)+(O$7*O27))","v":43},8,8,2,0,9,0,0,null,null,null,{"$f":"IF(OR('Set UP'!$C25=0,'Set UP'!$D25=0,'Set UP'!$E25=0),\"\",(Q$7*Q27)+(R$7*R27)+(S$7*S27)+(T$7*T27)+(U$7*U27)+(V$7*V27)+(W$7*W27)+(X$7*X27)+(Y$7*Y27)+(Z$7*Z27))","v":43},8,8,8,7,6,8,null,null,null,null,{"$f":"IF(OR('Set UP'!$C25=0,'Set UP'!$D25=0,'Set UP'!$E25=0),\"\",(AB$7*AB27)+(AC$7*AC27)+(AD$7*AD27)+(AE$7*AE27)+(AF$7*AF27)+(AG$7*AG27)+(AH$7*AH27)+(AI$7*AI27)+(AJ$7*AJ27)+(AK$7*AK27))","v":59},8,7,8,0,10,7,3,0,0,null,{"$f":"IF(OR('Set UP'!$C25=0,'Set UP'!$D25=0,'Set UP'!$E25=0),\"\",(AM$7*AM27)+(AN$7*AN27)+(AO$7*AO27)+(AP$7*AP27)+(AQ$7*AQ27)+(AR$7*AR27)+(AS$7*AS27)+(AT$7*AT27)+(AU$7*AU27)+(AV$7*AV27))","v":82.5},null,null,null,null,null,null,null,null,null,null,{"$f":"IF(OR('Set UP'!$C25=0,'Set UP'!$D25=0,'Set UP'!$E25=0),\"\",(AX$7*AX27)+(AY$7*AY27)+(AZ$7*AZ27)+(BA$7*BA27)+(BB$7*BB27)+(BC$7*BC27)+(BD$7*BD27)+(BE$7*BE27)+(BF$7*BF27)+(BG$7*BG27))","v":0},null,null,null,null,null,null,null,null,null,null,{"$f":"IF(OR('Set UP'!$C25=0,'Set UP'!$D25=0,'Set UP'!$E25=0),\"\",(BI$7*BI27)+(BJ$7*BJ27)+(BK$7*BK27)+(BL$7*BL27)+(BM$7*BM27)+(BN$7*BN27)+(BO$7*BO27)+(BP$7*BP27)+(BQ$7*BQ27)+(BR$7*BR27))","v":0},null,null,null,{"$f":"IF(OR('Set UP'!$C25=0,'Set UP'!$D25=0,'Set UP'!$E25=0),\"\",(P27+AA27+AL27+AW27+BH27+BS27))","v":227.5},{"$f":"IF(OR('Set UP'!$C25=0,'Set UP'!$D25=0,'Set UP'!$E25=0),\"\",RANK(BW27,$BW$9:$BW$48,0))","v":2},{"$f":"IF(OR('Set UP'!K25<>1,'Set UP'!C25=0,'Set UP'!D25=0,'Set UP'!E25=0,'Set UP'!F25=0),\"\",$BW27)","v":227.5},{"$f":"IF(OR('Set UP'!K25<>1,'Set UP'!C25=0,'Set UP'!D25=0,'Set UP'!E25=0,'Set UP'!F25=0),\"\",RANK(BY27,$BY$9:$BY$48,0))","v":2},{"$f":"IF(OR('Set UP'!K25<>2,'Set UP'!C25=0,'Set UP'!D25=0,'Set UP'!E25=0,'Set UP'!F25=0),\"\",$BW27)","v":""},{"$f":"IF(OR('Set UP'!K25<>2,'Set UP'!C25=0,'Set UP'!D25=0,'Set UP'!E25=0,'Set UP'!F25=0),\"\",RANK(CA27,$CA$9:$CA$48,0))","v":""}]
[null,20,{"$f":"IF(OR('Set UP'!$C26=0,'Set UP'!$D26=0,'Set UP'!$E26=0,'Set UP'!F26=0),\"  --\",'Set UP'!C26)","v":535},{"$f":"IF(OR('Set UP'!$C26=0,'Set UP'!$D26=0,'Set UP'!$E26=0,'Set UP'!F26=0),\"  --\",'Set UP'!D26&\" \"&'Set UP'!E26)","v":"University of Birmingham A"},{"$f":"IF(OR('Set UP'!$C26=0,'Set UP'!$D26=0,'Set UP'!$E26=0,'Set UP'!F26=0),\"  --\",'Set UP'!F26)","v":"S"},8,8,8,9,5,6,null,null,null,null,{"$f":"IF(OR('Set UP'!$C26=0,'Set UP'!$D26=0,'Set UP'!$E26=0),\"\",(F$7*F28)+(G$7*G28)+(H$7*H28)+(I$7*I28)+(J$7*J28)+(K$7*K28)+(L$7*L28)+(M$7*M28)+(N$7*N28)+(O$7*O28))","v":67},9,9,0,0,1,0,0,null,null,null,{"$f":"IF(OR('Set UP'!$C26=0,'Set UP'!$D26=0,'Set UP'!$E26=0),\"\",(Q$7*Q28)+(R$7*R28)+(S$7*S28)+(T$7*T28)+(U$7*U28)+(V$7*V28)+(W$7*W28)+(X$7*X28)+(Y$7*Y28)+(Z$7*Z28))","v":37},8,6,4,5,5,4,null,null,null,null,{"$f":"IF(OR('Set UP'!$C26=0,'Set UP'!$D26=0,'Set UP'!$E26=0),\"\",(AB$7*AB28)+(AC$7*AC28)+(AD$7*AD28)+(AE$7*AE28)+(AF$7*AF28)+(AG$7*AG28)+(AH$7*AH28)+(AI$7*AI28)+(AJ$7*AJ28)+(AK$7*AK28))","v":43},3,0,0,0,3,0,0,0,1,null,{"$f":"IF(OR('Set UP'!$C26=0,'Set UP'!$D26=0,'Set UP'!$E26=0),\"\",(AM$7*AM28)+(AN$7*AN28)+(AO$7*AO28)+(AP$7*AP28)+(AQ$7*AQ28)+(AR$7*AR28)+(AS$7*AS28)+(AT$7*AT28)+(AU$7*AU28)+(AV$7*AV28))","v":13},null,null,null,null,null,null,null,null,null,null,{"$f":"IF(OR('Set UP'!$C26=0,'Set UP'!$D26=0,'Set UP'!$E26=0),\"\",(AX$7*AX28)+(AY$7*AY28)+(AZ$7*AZ28)+(BA$7*BA28)+(BB$7*BB28)+(BC$7*BC28)+(BD$7*BD28)+(BE$7*BE28)+(BF$7*BF28)+(BG$7*BG28))","v":0},null,null,null,null,null,null,null,null,null,null,{"$f":"IF(OR('Set UP'!$C26=0,'Set UP'!$D26=0,'Set UP'!$E26=0),\"\",(BI$7*BI28)+(BJ$7*BJ28)+(BK$7*BK28)+(BL$7*BL28)+(BM$7*BM28)+(BN$7*BN28)+(BO$7*BO28)+(BP$7*BP28)+(BQ$7*BQ28)+(BR$7*BR28))","v":0},null,null,null,{"$f":"IF(OR('Set UP'!$C26=0,'Set UP'!$D26=0,'Set UP'!$E26=0),\"\",(P28+AA28+AL28+AW28+BH28+BS28))","v":160},{"$f":"IF(OR('Set UP'!$C26=0,'Set UP'!$D26=0,'Set UP'!$E26=0),\"\",RANK(BW28,$BW$9:$BW$48,0))","v":14},{"$f":"IF(OR('Set UP'!K26<>1,'Set UP'!C26=0,'Set UP'!D26=0,'Set UP'!E26=0,'Set UP'!F26=0),\"\",$BW28)","v":160},{"$f":"IF(OR('Set UP'!K26<>1,'Set UP'!C26=0,'Set UP'!D26=0,'Set UP'!E26=0,'Set UP'!F26=0),\"\",RANK(BY28,$BY$9:$BY$48,0))","v":9},{"$f":"IF(OR('Set UP'!K26<>2,'Set UP'!C26=0,'Set UP'!D26=0,'Set UP'!E26=0,'Set UP'!F26=0),\"\",$BW28)","v":""},{"$f":"IF(OR('Set UP'!K26<>2,'Set UP'!C26=0,'Set UP'!D26=0,'Set UP'!E26=0,'Set UP'!F26=0),\"\",RANK(CA28,$CA$9:$CA$48,0))","v":""}]
[null,21,{"$f":"IF(OR('Set UP'!$C27=0,'Set UP'!$D27=0,'Set UP'!$E27=0,'Set UP'!F27=0),\"  --\",'Set UP'!C27)","v":508},{"$f":"IF(OR('Set UP'!$C27=0,'Set UP'!$D27=0,'Set UP'!$E27=0,'Set UP'!F27=0),\"  --\",'Set UP'!D27&\" \"&'Set UP'!E27)","v":"University of Nottingham A"},{"$f":"IF(OR('Set UP'!$C27=0,'Set UP'!$D27=0,'Set UP'!$E27=0,'Set UP'!F27=0),\"  --\",'Set UP'!F27)","v":"S"},6,6,5,5,4,6,null,null,null,null,{"$f":"IF(OR('Set UP'!$C27=0,'Set UP'!$D27=0,'Set UP'!$E27=0),\"\",(F$7*F29)+(G$7*G29)+(H$7*H29)+(I$7*I29)+(J$7*J29)+(K$7*K29)+(L$7*L29)+(M$7*M29)+(N$7*N29)+(O$7*O29))","v":51},9,10,5,0,9,0,0,null,null,null,{"$f":"IF(OR('Set UP'!$C27=0,'Set UP'!$D27=0,'Set UP'!$E27=0),\"\",(Q$7*Q29)+(R$7*R29)+(S$7*S29)+(T$7*T29)+(U$7*U29)+(V$7*V29)+(W$7*W29)+(X$7*X29)+(Y$7*Y29)+(Z$7*Z29))","v":52},6,8,5,5,5,5,null,null,null,null,{"$f":"IF(OR('Set UP'!$C27=0,'Set UP'!$D27=0,'Set UP'!$E27=0),\"\",(AB$7*AB29)+(AC$7*AC29)+(AD$7*AD29)+(AE$7*AE29)+(AF$7*AF29)+(AG$7*AG29)+(AH$7*AH29)+(AI$7*AI29)+(AJ$7*AJ29)+(AK$7*AK29))","v":47},7,2,0,1,5,0,0,0,0,null,{"$f":"IF(OR('Set UP'!$C27=0,'Set UP'!$D27=0,'Set UP'!$E27=0),\"\",(AM$7*AM29)+(AN$7*AN29)+(AO$7*AO29)+(AP$7*AP29)+(AQ$7*AQ29)+(AR$7*AR29)+(AS$7*AS29)+(AT$7*AT29)+(AU$7*AU29)+(AV$7*AV29))","v":29},null,null,null,null,null,null,null,null,null,null,{"$f":"IF(OR('Set UP'!$C27=0,'Set UP'!$D27=0,'Set UP'!$E27=0),\"\",(AX$7*AX29)+(AY$7*AY29)+(AZ$7*AZ29)+(BA$7*BA29)+(BB$7*BB29)+(BC$7*BC29)+(BD$7*BD29)+(BE$7*BE29)+(BF$7*BF29)+(BG$7*BG29))","v":0},null,null,null,null,null,null,null,null,null,null,{"$f":"IF(OR('Set UP'!$C27=0,'Set UP'!$D27=0,'Set UP'!$E27=0),\"\",(BI$7*BI29)+(BJ$7*BJ29)+(BK$7*BK29)+(BL$7*BL29)+(BM$7*BM29)+(BN$7*BN29)+(BO$7*BO29)+(BP$7*BP29)+(BQ$7*BQ29)+(BR$7*BR29))","v":0},null,null,null,{"$f":"IF(OR('Set UP'!$C27=0,'Set UP'!$D27=0,'Set UP'!$E27=0),\"\",(P29+AA29+AL29+AW29+BH29+BS29))","v":179},{"$f":"IF(OR('Set UP'!$C27=0,'Set UP'!$D27=0,'Set UP'!$E27=0),\"\",RANK(BW29,$BW$9:$BW$48,0))","v":9},{"$f":"IF(OR('Set UP'!K27<>1,'Set UP'!C27=0,'Set UP'!D27=0,'Set UP'!E27=0,'Set UP'!F27=0),\"\",$BW29)","v":179},{"$f":"IF(OR('Set UP'!K27<>1,'Set UP'!C27=0,'Set UP'!D27=0,'Set UP'!E27=0,'Set UP'!F27=0),\"\",RANK(BY29,$BY$9:$BY$48,0))","v":5},{"$f":"IF(OR('Set UP'!K27<>2,'Set UP'!C27=0,'Set UP'!D27=0,'Set UP'!E27=0,'Set UP'!F27=0),\"\",$BW29)","v":""},{"$f":"IF(OR('Set UP'!K27<>2,'Set UP'!C27=0,'Set UP'!D27=0,'Set UP'!E27=0,'Set UP'!F27=0),\"\",RANK(CA29,$CA$9:$CA$48,0))","v":""}]
[null,22,{"$f":"IF(OR('Set UP'!$C28=0,'Set UP'!$D28=0,'Set UP'!$E28=0,'Set UP'!F28=0),\"  --\",'Set UP'!C28)","v":528},{"$f":"IF(OR('Set UP'!$C28=0,'Set UP'!$D28=0,'Set UP'!$E28=0,'Set UP'!F28=0),\"  --\",'Set UP'!D28&\" \"&'Set UP'!E28)","v":"University of London Union B"},{"$f":"IF(OR('Set UP'!$C28=0,'Set UP'!$D28=0,'Set UP'!$E28=0,'Set UP'!F28=0),\"  --\",'Set UP'!F28)","v":"S"},5,5,5,5,0,0,null,null,null,null,{"$f":"IF(OR('Set UP'!$C28=0,'Set UP'!$D28=0,'Set UP'!$E28=0),\"\",(F$7*F30)+(G$7*G30)+(H$7*H30)+(I$7*I30)+(J$7*J30)+(K$7*K30)+(L$7*L30)+(M$7*M30)+(N$7*N30)+(O$7*O30))","v":27.5},2,0,0,0,1,0,0,null,null,null,{"$f":"IF(OR('Set UP'!$C28=0,'Set UP'!$D28=0,'Set UP'!$E28=0),\"\",(Q$7*Q30)+(R$7*R30)+(S$7*S30)+(T$7*T30)+(U$7*U30)+(V$7*V30)+(W$7*W30)+(X$7*X30)+(Y$7*Y30)+(Z$7*Z30))","v":5},6,6,7,1,0,0,null,null,null,null,{"$f":"IF(OR('Set UP'!$C28=0,'Set UP'!$D28=0,'Set UP'!$E28=0),\"\",(AB$7*AB30)+(AC$7*AC30)+(AD$7*AD30)+(AE$7*AE30)+(AF$7*AF30)+(AG$7*AG30)+(AH$7*AH30)+(AI$7*AI30)+(AJ$7*AJ30)+(AK$7*AK30))","v":26},5,0,8,0,3,0,0,0,5,null,{"$f":"IF(OR('Set UP'!$C28=0,'Set UP'!$D28=0,'Set UP'!$E28=0),\"\",(AM$7*AM30)+(AN$7*AN30)+(AO$7*AO30)+(AP$7*AP30)+(AQ$7*AQ30)+(AR$7*AR30)+(AS$7*AS30)+(AT$7*AT30)+(AU$7*AU30)+(AV$7*AV30))","v":37},null,null,null,null,null,null,null,null,null,null,{"$f":"IF(OR('Set UP'!$C28=0,'Set UP'!$D28=0,'Set UP'!$E28=0),\"\",(AX$7*AX30)+(AY$7*AY30)+(AZ$7*AZ30)+(BA$7*BA30)+(BB$7*BB30)+(BC$7*BC30)+(BD$7*BD30)+(BE$7*BE30)+(BF$7*BF30)+(BG$7*BG30))","v":0},null,null,null,null,null,null,null,null,null,null,{"$f":"IF(OR('Set UP'!$C28=0,'Set UP'!$D28=0,'Set UP'!$E28=0),\"\",(BI$7*BI30)+(BJ$7*BJ30)+(BK$7*BK30)+(BL$7*BL30)+(BM$7*BM30)+(BN$7*BN30)+(BO$7*BO30)+(BP$7*BP30)+(BQ$7*BQ30)+(BR$7*BR30))","v":0},null,null,null,{"$f":"IF(OR('Set UP'!$C28=0,'Set UP'!$D28=0,'Set UP'!$E28=0),\"\",(P30+AA30+AL30+AW30+BH30+BS30))","v":95.5},{"$f":"IF(OR('Set UP'!$C28=0,'Set UP'!$D28=0,'Set UP'!$E28=0),\"\",RANK(BW30,$BW$9:$BW$48,0))","v":26},{"$f":"IF(OR('Set UP'!K28<>1,'Set UP'!C28=0,'Set UP'!D28=0,'Set UP'!E28=0,'Set UP'!F28=0),\"\",$BW30)","v":""},{"$f":"IF(OR('Set UP'!K28<>1,'Set UP'!C28=0,'Set UP'!D28=0,'Set UP'!E28=0,'Set UP'!F28=0),\"\",RANK(BY30,$BY$9:$BY$48,0))","v":""},{"$f":"IF(OR('Set UP'!K28<>2,'Set UP'!C28=0,'Set UP'!D28=0,'Set UP'!E28=0,'Set UP'!F28=0),\"\",$BW30)","v":95.5},{"$f":"IF(OR('Set UP'!K28<>2,'Set UP'!C28=0,'Set UP'!D28=0,'Set UP'!E28=0,'Set UP'!F28=0),\"\",RANK(CA30,$CA$9:$CA$48,0))","v":13}]
[null,23,{"$f":"IF(OR('Set UP'!$C29=0,'Set UP'!$D29=0,'Set UP'!$E29=0,'Set UP'!F29=0),\"  --\",'Set UP'!C29)","v":511},{"$f":"IF(OR('Set UP'!$C29=0,'Set UP'!$D29=0,'Set UP'!$E29=0,'Set UP'!F29=0),\"  --\",'Set UP'!D29&\" \"&'Set UP'!E29)","v":"University of Warwick B"},{"$f":"IF(OR('Set UP'!$C29=0,'Set UP'!$D29=0,'Set UP'!$E29=0,'Set UP'!F29=0),\"  --\",'Set UP'!F29)","v":"S"},5,4,5,7,4,3,null,null,null,null,{"$f":"IF(OR('Set UP'!$C29=0,'Set UP'!$D29=0,'Set UP'!$E29=0),\"\",(F$7*F31)+(G$7*G31)+(H$7*H31)+(I$7*I31)+(J$7*J31)+(K$7*K31)+(L$7*L31)+(M$7*M31)+(N$7*N31)+(O$7*O31))","v":42},5,5,1,0,0,0,0,null,null,null,{"$f":"IF(OR('Set UP'!$C29=0,'Set UP'!$D29=0,'Set UP'!$E29=0),\"\",(Q$7*Q31)+(R$7*R31)+(S$7*S31)+(T$7*T31)+(U$7*U31)+(V$7*V31)+(W$7*W31)+(X$7*X31)+(Y$7*Y31)+(Z$7*Z31))","v":21},4,4,3,1,0,0,null,null,null,null,{"$f":"IF(OR('Set UP'!$C29=0,'Set UP'!$D29=0,'Set UP'!$E29=0),\"\",(AB$7*AB31)+(AC$7*AC31)+(AD$7*AD31)+(AE$7*AE31)+(AF$7*AF31)+(AG$7*AG31)+(AH$7*AH31)+(AI$7*AI31)+(AJ$7*AJ31)+(AK$7*AK31))","v":16},10,6,9,1,5,0,2,0,6,null,{"$f":"IF(OR('Set UP'!$C29=0,'Set UP'!$D29=0,'Set UP'!$E29=0),\"\",(AM$7*AM31)+(AN$7*AN31)+(AO$7*AO31)+(AP$7*AP31)+(AQ$7*AQ31)+(AR$7*AR31)+(AS$7*AS31)+(AT$7*AT31)+(AU$7*AU31)+(AV$7*AV31))","v":71},null,null,null,null,null,null,null,null,null,null,{"$f":"IF(OR('Set UP'!$C29=0,'Set UP'!$D29=0,'Set UP'!$E29=0),\"\",(AX$7*AX31)+(AY$7*AY31)+(AZ$7*AZ31)+(BA$7*BA31)+(BB$7*BB31)+(BC$7*BC31)+(BD$7*BD31)+(BE$7*BE31)+(BF$7*BF31)+(BG$7*BG31))","v":0},null,null,null,null,null,null,null,null,null,null,{"$f":"IF(OR('Set UP'!$C29=0,'Set UP'!$D29=0,'Set UP'!$E29=0),\"\",(BI$7*BI31)+(BJ$7*BJ31)+(BK$7*BK31)+(BL$7*BL31)+(BM$7*BM31)+(BN$7*BN31)+(BO$7*BO31)+(BP$7*BP31)+(BQ$7*BQ31)+(BR$7*BR31))","v":0},null,null,null,{"$f":"IF(OR('Set UP'!$C29=0,'Set UP'!$D29=0,'Set UP'!$E29=0),\"\",(P31+AA31+AL31+AW31+BH31+BS31))","v":150},{"$f":"IF(OR('Set UP'!$C29=0,'Set UP'!$D29=0,'Set UP'!$E29=0),\"\",RANK(BW31,$BW$9:$BW$48,0))","v":16},{"$f":"IF(OR('Set UP'!K29<>1,'Set UP'!C29=0,'Set UP'!D29=0,'Set UP'!E29=0,'Set UP'!F29=0),\"\",$BW31)","v":""},{"$f":"IF(OR('Set UP'!K29<>1,'Set UP'!C29=0,'Set UP'!D29=0,'Set UP'!E29=0,'Set UP'!F29=0),\"\",RANK(BY31,$BY$9:$BY$48,0))","v":""},{"$f":"IF(OR('Set UP'!K29<>2,'Set UP'!C29=0,'Set UP'!D29=0,'Set UP'!E29=0,'Set UP'!F29=0),\"\",$BW31)","v":150},{"$f":"IF(OR('Set UP'!K29<>2,'Set UP'!C29=0,'Set UP'!D29=0,'Set UP'!E29=0,'Set UP'!F29=0),\"\",RANK(CA31,$CA$9:$CA$48,0))","v":5}]
[null,24,{"$f":"IF(OR('Set UP'!$C30=0,'Set UP'!$D30=0,'Set UP'!$E30=0,'Set UP'!F30=0),\"  --\",'Set UP'!C30)","v":509},{"$f":"IF(OR('Set UP'!$C30=0,'Set UP'!$D30=0,'Set UP'!$E30=0,'Set UP'!F30=0),\"  --\",'Set UP'!D30&\" \"&'Set UP'!E30)","v":"University of Nottingham B"},{"$f":"IF(OR('Set UP'!$C30=0,'Set UP'!$D30=0,'Set UP'!$E30=0,'Set UP'!F30=0),\"  --\",'Set UP'!F30)","v":"S"},7,6,6,6,6,7,null,null,null,null,{"$f":"IF(OR('Set UP'!$C30=0,'Set UP'!$D30=0,'Set UP'!$E30=0),\"\",(F$7*F32)+(G$7*G32)+(H$7*H32)+(I$7*I32)+(J$7*J32)+(K$7*K32)+(L$7*L32)+(M$7*M32)+(N$7*N32)+(O$7*O32))","v":61},8,8,5,0,2,0,0,null,null,null,{"$f":"IF(OR('Set UP'!$C30=0,'Set UP'!$D30=0,'Set UP'!$E30=0),\"\",(Q$7*Q32)+(R$7*R32)+(S$7*S32)+(T$7*T32)+(U$7*U32)+(V$7*V32)+(W$7*W32)+(X$7*X32)+(Y$7*Y32)+(Z$7*Z32))","v":39},7,6,8,7,9,9,null,null,null,null,{"$f":"IF(OR('Set UP'!$C30=0,'Set UP'!$D30=0,'Set UP'!$E30=0),\"\",(AB$7*AB32)+(AC$7*AC32)+(AD$7*AD32)+(AE$7*AE32)+(AF$7*AF32)+(AG$7*AG32)+(AH$7*AH32)+(AI$7*AI32)+(AJ$7*AJ32)+(AK$7*AK32))","v":61},6,2,8,0,3,0,0,0,0,null,{"$f":"IF(OR('Set UP'!$C30=0,'Set UP'!$D30=0,'Set UP'!$E30=0),\"\",(AM$7*AM32)+(AN$7*AN32)+(AO$7*AO32)+(AP$7*AP32)+(AQ$7*AQ32)+(AR$7*AR32)+(AS$7*AS32)+(AT$7*AT32)+(AU$7*AU32)+(AV$7*AV32))","v":38},null,null,null,null,null,null,null,null,null,null,{"$f":"IF(OR('Set UP'!$C30=0,'Set UP'!$D30=0,'Set UP'!$E30=0),\"\",(AX$7*AX32)+(AY$7*AY32)+(AZ$7*AZ32)+(BA$7*BA32)+(BB$7*BB32)+(BC$7*BC32)+(BD$7*BD32)+(BE$7*BE32)+(BF$7*BF32)+(BG$7*BG32))","v":0},null,null,null,null,null,null,null,null,null,null,{"$f":"IF(OR('Set UP'!$C30=0,'Set UP'!$D30=0,'Set UP'!$E30=0),\"\",(BI$7*BI32)+(BJ$7*BJ32)+(BK$7*BK32)+(BL$7*BL32)+(BM$7*BM32)+(BN$7*BN32)+(BO$7*BO32)+(BP$7*BP32)+(BQ$7*BQ32)+(BR$7*BR32))","v":0},null,null,null,{"$f":"IF(OR('Set UP'!$C30=0,'Set UP'!$D30=0,'Set UP'!$E30=0),\"\",(P32+AA32+AL32+AW32+BH32+BS32))","v":199},{"$f":"IF(OR('Set UP'!$C30=0,'Set UP'!$D30=0,'Set UP'!$E30=0),\"\",RANK(BW32,$BW$9:$BW$48,0))","v":3},{"$f":"IF(OR('Set UP'!K30<>1,'Set UP'!C30=0,'Set UP'!D30=0,'Set UP'!E30=0,'Set UP'!F30=0),\"\",$BW32)","v":""},{"$f":"IF(OR('Set UP'!K30<>1,'Set UP'!C30=0,'Set UP'!D30=0,'Set UP'!E30=0,'Set UP'!F30=0),\"\",RANK(BY32,$BY$9:$BY$48,0))","v":""},{"$f":"IF(OR('Set UP'!K30<>2,'Set UP'!C30=0,'Set UP'!D30=0,'Set UP'!E30=0,'Set UP'!F30=0),\"\",$BW32)","v":199},{"$f":"IF(OR('Set UP'!K30<>2,'Set UP'!C30=0,'Set UP'!D30=0,'Set UP'!E30=0,'Set UP'!F30=0),\"\",RANK(CA32,$CA$9:$CA$48,0))","v":1}]
[null,25,{"$f":"IF(OR('Set UP'!$C31=0,'Set UP'!$D31=0,'Set UP'!$E31=0,'Set UP'!F31=0),\"  --\",'Set UP'!C31)","v":517},{"$f":"IF(OR('Set UP'!$C31=0,'Set UP'!$D31=0,'Set UP'!$E31=0,'Set UP'!F31=0),\"  --\",'Set UP'!D31&\" \"&'Set UP'!E31)","v":"Loughborough University B"},{"$f":"IF(OR('Set UP'!$C31=0,'Set UP'!$D31=0,'Set UP'!$E31=0,'Set UP'!F31=0),\"  --\",'Set UP'!F31)","v":"S"},8,8,7,8,8,5,null,null,null,null,{"$f":"IF(OR('Set UP'!$C31=0,'Set UP'!$D31=0,'Set UP'!$E31=0),\"\",(F$7*F33)+(G$7*G33)+(H$7*H33)+(I$7*I33)+(J$7*J33)+(K$7*K33)+(L$7*L33)+(M$7*M33)+(N$7*N33)+(O$7*O33))","v":69},5,0,5,0,5,0,0,null,null,null,{"$f":"IF(OR('Set UP'!$C31=0,'Set UP'!$D31=0,'Set UP'!$E31=0),\"\",(Q$7*Q33)+(R$7*R33)+(S$7*S33)+(T$7*T33)+(U$7*U33)+(V$7*V33)+(W$7*W33)+(X$7*X33)+(Y$7*Y33)+(Z$7*Z33))","v":20},4,4,3,5,4,3,null,null,null,null,{"$f":"IF(OR('Set UP'!$C31=0,'Set UP'!$D31=0,'Set UP'!$E31=0),\"\",(AB$7*AB33)+(AC$7*AC33)+(AD$7*AD33)+(AE$7*AE33)+(AF$7*AF33)+(AG$7*AG33)+(AH$7*AH33)+(AI$7*AI33)+(AJ$7*AJ33)+(AK$7*AK33))","v":31},5,1,1,0,3,0,0,0,0,null,{"$f":"IF(OR('Set UP'!$C31=0,'Set UP'!$D31=0,'Set UP'!$E31=0),\"\",(AM$7*AM33)+(AN$7*AN33)+(AO$7*AO33)+(AP$7*AP33)+(AQ$7*AQ33)+(AR$7*AR33)+(AS$7*AS33)+(AT$7*AT33)+(AU$7*AU33)+(AV$7*AV33))","v":20},null,null,null,null,null,null,null,null,null,null,{"$f":"IF(OR('Set UP'!$C31=0,'Set UP'!$D31=0,'Set UP'!$E31=0),\"\",(AX$7*AX33)+(AY$7*AY33)+(AZ$7*AZ33)+(BA$7*BA33)+(BB$7*BB33)+(BC$7*BC33)+(BD$7*BD33)+(BE$7*BE33)+(BF$7*BF33)+(BG$7*BG33))","v":0},null,null,null,null,null,null,null,null,null,null,{"$f":"IF(OR('Set UP'!$C31=0,'Set UP'!$D31=0,'Set UP'!$E31=0),\"\",(BI$7*BI33)+(BJ$7*BJ33)+(BK$7*BK33)+(BL$7*BL33)+(BM$7*BM33)+(BN$7*BN33)+(BO$7*BO33)+(BP$7*BP33)+(BQ$7*BQ33)+(BR$7*BR33))","v":0},null,null,null,{"$f":"IF(OR('Set UP'!$C31=0,'Set UP'!$D31=0,'Set UP'!$E31=0),\"\",(P33+AA33+AL33+AW33+BH33+BS33))","v":140},{"$f":"IF(OR('Set UP'!$C31=0,'Set UP'!$D31=0,'Set UP'!$E31=0),\"\",RANK(BW33,$BW$9:$BW$48,0))","v":18},{"$f":"IF(OR('Set UP'!K31<>1,'Set UP'!C31=0,'Set UP'!D31=0,'Set UP'!E31=0,'Set UP'!F31=0),\"\",$BW33)","v":""},{"$f":"IF(OR('Set UP'!K31<>1,'Set UP'!C31=0,'Set UP'!D31=0,'Set UP'!E31=0,'Set UP'!F31=0),\"\",RANK(BY33,$BY$9:$BY$48,0))","v":""},{"$f":"IF(OR('Set UP'!K31<>2,'Set UP'!C31=0,'Set UP'!D31=0,'Set UP'!E31=0,'Set UP'!F31=0),\"\",$BW33)","v":140},{"$f":"IF(OR('Set UP'!K31<>2,'Set UP'!C31=0,'Set UP'!D31=0,'Set UP'!E31=0,'Set UP'!F31=0),\"\",RANK(CA33,$CA$9:$CA$48,0))","v":7}]
[null,26,{"$f":"IF(OR('Set UP'!$C32=0,'Set UP'!$D32=0,'Set UP'!$E32=0,'Set UP'!F32=0),\"  --\",'Set UP'!C32)","v":534},{"$f":"IF(OR('Set UP'!$C32=0,'Set UP'!$D32=0,'Set UP'!$E32=0,'Set UP'!F32=0),\"  --\",'Set UP'!D32&\" \"&'Set UP'!E32)","v":"University of Southampton B"},{"$f":"IF(OR('Set UP'!$C32=0,'Set UP'!$D32=0,'Set UP'!$E32=0,'Set UP'!F32=0),\"  --\",'Set UP'!F32)","v":"S"},5,6,5,5,7,8,null,null,null,null,{"$f":"IF(OR('Set UP'!$C32=0,'Set UP'!$D32=0,'Set UP'!$E32=0),\"\",(F$7*F34)+(G$7*G34)+(H$7*H34)+(I$7*I34)+(J$7*J34)+(K$7*K34)+(L$7*L34)+(M$7*M34)+(N$7*N34)+(O$7*O34))","v":59},2,0,0,6,4,0,0,null,null,null,{"$f":"IF(OR('Set UP'!$C32=0,'Set UP'!$D32=0,'Set UP'!$E32=0),\"\",(Q$7*Q34)+(R$7*R34)+(S$7*S34)+(T$7*T34)+(U$7*U34)+(V$7*V34)+(W$7*W34)+(X$7*X34)+(Y$7*Y34)+(Z$7*Z34))","v":14},7,8,8,5,6,5,null,null,null,null,{"$f":"IF(OR('Set UP'!$C32=0,'Set UP'!$D32=0,'Set UP'!$E32=0),\"\",(AB$7*AB34)+(AC$7*AC34)+(AD$7*AD34)+(AE$7*AE34)+(AF$7*AF34)+(AG$7*AG34)+(AH$7*AH34)+(AI$7*AI34)+(AJ$7*AJ34)+(AK$7*AK34))","v":53},1,0,1,0,2,0,0,0,0,null,{"$f":"IF(OR('Set UP'!$C32=0,'Set UP'!$D32=0,'Set UP'!$E32=0),\"\",(AM$7*AM34)+(AN$7*AN34)+(AO$7*AO34)+(AP$7*AP34)+(AQ$7*AQ34)+(AR$7*AR34)+(AS$7*AS34)+(AT$7*AT34)+(AU$7*AU34)+(AV$7*AV34))","v":8},null,null,null,null,null,null,null,null,null,null,{"$f":"IF(OR('Set UP'!$C32=0,'Set UP'!$D32=0,'Set UP'!$E32=0),\"\",(AX$7*AX34)+(AY$7*AY34)+(AZ$7*AZ34)+(BA$7*BA34)+(BB$7*BB34)+(BC$7*BC34)+(BD$7*BD34)+(BE$7*BE34)+(BF$7*BF34)+(BG$7*BG34))","v":0},null,null,null,null,null,null,null,null,null,null,{"$f":"IF(OR('Set UP'!$C32=0,'Set UP'!$D32=0,'Set UP'!$E32=0),\"\",(BI$7*BI34)+(BJ$7*BJ34)+(BK$7*BK34)+(BL$7*BL34)+(BM$7*BM34)+(BN$7*BN34)+(BO$7*BO34)+(BP$7*BP34)+(BQ$7*BQ34)+(BR$7*BR34))","v":0},null,null,null,{"$f":"IF(OR('Set UP'!$C32=0,'Set UP'!$D32=0,'Set UP'!$E32=0),\"\",(P34+AA34+AL34+AW34+BH34+BS34))","v":134},{"$f":"IF(OR('Set UP'!$C32=0,'Set UP'!$D32=0,'Set UP'!$E32=0),\"\",RANK(BW34,$BW$9:$BW$48,0))","v":19},{"$f":"IF(OR('Set UP'!K32<>1,'Set UP'!C32=0,'Set UP'!D32=0,'Set UP'!E32=0,'Set UP'!F32=0),\"\",$BW34)","v":""},{"$f":"IF(OR('Set UP'!K32<>1,'Set UP'!C32=0,'Set UP'!D32=0,'Set UP'!E32=0,'Set UP'!F32=0),\"\",RANK(BY34,$BY$9:$BY$48,0))","v":""},{"$f":"IF(OR('Set UP'!K32<>2,'Set UP'!C32=0,'Set UP'!D32=0,'Set UP'!E32=0,'Set UP'!F32=0),\"\",$BW34)","v":134},{"$f":"IF(OR('Set UP'!K32<>2,'Set UP'!C32=0,'Set UP'!D32=0,'Set UP'!E32=0,'Set UP'!F32=0),\"\",RANK(CA34,$CA$9:$CA$48,0))","v":8}]
[null,27,{"$f":"IF(OR('Set UP'!$C33=0,'Set UP'!$D33=0,'Set UP'!$E33=0,'Set UP'!F33=0),\"  --\",'Set UP'!C33)","v":479},{"$f":"IF(OR('Set UP'!$C33=0,'Set UP'!$D33=0,'Set UP'!$E33=0,'Set UP'!F33=0),\"  --\",'Set UP'!D33&\" \"&'Set UP'!E33)","v":"Loughborough University A"},{"$f":"IF(OR('Set UP'!$C33=0,'Set UP'!$D33=0,'Set UP'!$E33=0,'Set UP'!F33=0),\"  --\",'Set UP'!F33)","v":"S"},6,6,5,6,5,3,null,null,null,null,{"$f":"IF(OR('Set UP'!$C33=0,'Set UP'!$D33=0,'Set UP'!$E33=0),\"\",(F$7*F35)+(G$7*G35)+(H$7*H35)+(I$7*I35)+(J$7*J35)+(K$7*K35)+(L$7*L35)+(M$7*M35)+(N$7*N35)+(O$7*O35))","v":48},5,10,6,0,2,0,0,null,null,null,{"$f":"IF(OR('Set UP'!$C33=0,'Set UP'!$D33=0,'Set UP'!$E33=0),\"\",(Q$7*Q35)+(R$7*R35)+(S$7*S35)+(T$7*T35)+(U$7*U35)+(V$7*V35)+(W$7*W35)+(X$7*X35)+(Y$7*Y35)+(Z$7*Z35))","v":38},8,7,6,7,5,6,null,null,null,null,{"$f":"IF(OR('Set UP'!$C33=0,'Set UP'!$D33=0,'Set UP'!$E33=0),\"\",(AB$7*AB35)+(AC$7*AC35)+(AD$7*AD35)+(AE$7*AE35)+(AF$7*AF35)+(AG$7*AG35)+(AH$7*AH35)+(AI$7*AI35)+(AJ$7*AJ35)+(AK$7*AK35))","v":51},5,2,5,0,2,0,0,0,2,null,{"$f":"IF(OR('Set UP'!$C33=0,'Set UP'!$D33=0,'Set UP'!$E33=0),\"\",(AM$7*AM35)+(AN$7*AN35)+(AO$7*AO35)+(AP$7*AP35)+(AQ$7*AQ35)+(AR$7*AR35)+(AS$7*AS35)+(AT$7*AT35)+(AU$7*AU35)+(AV$7*AV35))","v":30},null,null,null,null,null,null,null,null,null,null,{"$f":"IF(OR('Set UP'!$C33=0,'Set UP'!$D33=0,'Set UP'!$E33=0),\"\",(AX$7*AX35)+(AY$7*AY35)+(AZ$7*AZ35)+(BA$7*BA35)+(BB$7*BB35)+(BC$7*BC35)+(BD$7*BD35)+(BE$7*BE35)+(BF$7*BF35)+(BG$7*BG35))","v":0},null,null,null,null,null,null,null,null,null,null,{"$f":"IF(OR('Set UP'!$C33=0,'Set UP'!$D33=0,'Set UP'!$E33=0),\"\",(BI$7*BI35)+(BJ$7*BJ35)+(BK$7*BK35)+(BL$7*BL35)+(BM$7*BM35)+(BN$7*BN35)+(BO$7*BO35)+(BP$7*BP35)+(BQ$7*BQ35)+(BR$7*BR35))","v":0},null,null,null,{"$f":"IF(OR('Set UP'!$C33=0,'Set UP'!$D33=0,'Set UP'!$E33=0),\"\",(P35+AA35+AL35+AW35+BH35+BS35))","v":167},{"$f":"IF(OR('Set UP'!$C33=0,'Set UP'!$D33=0,'Set UP'!$E33=0),\"\",RANK(BW35,$BW$9:$BW$48,0))","v":11},{"$f":"IF(OR('Set UP'!K33<>1,'Set UP'!C33=0,'Set UP'!D33=0,'Set UP'!E33=0,'Set UP'!F33=0),\"\",$BW35)","v":167},{"$f":"IF(OR('Set UP'!K33<>1,'Set UP'!C33=0,'Set UP'!D33=0,'Set UP'!E33=0,'Set UP'!F33=0),\"\",RANK(BY35,$BY$9:$BY$48,0))","v":7},{"$f":"IF(OR('Set UP'!K33<>2,'Set UP'!C33=0,'Set UP'!D33=0,'Set UP'!E33=0,'Set UP'!F33=0),\"\",$BW35)","v":""},{"$f":"IF(OR('Set UP'!K33<>2,'Set UP'!C33=0,'Set UP'!D33=0,'Set UP'!E33=0,'Set UP'!F33=0),\"\",RANK(CA35,$CA$9:$CA$48,0))","v":""}]
[null,28,{"$f":"IF(OR('Set UP'!$C34=0,'Set UP'!$D34=0,'Set UP'!$E34=0,'Set UP'!F34=0),\"  --\",'Set UP'!C34)","v":545},{"$f":"IF(OR('Set UP'!$C34=0,'Set UP'!$D34=0,'Set UP'!$E34=0,'Set UP'!F34=0),\"  --\",'Set UP'!D34&\" \"&'Set UP'!E34)","v":"Colwick Park A"},{"$f":"IF(OR('Set UP'!$C34=0,'Set UP'!$D34=0,'Set UP'!$E34=0,'Set UP'!F34=0),\"  --\",'Set UP'!F34)","v":"NS"},4,4,4,4,2,0,null,null,null,null,{"$f":"IF(OR('Set UP'!$C34=0,'Set UP'!$D34=0,'Set UP'!$E34=0),\"\",(F$7*F36)+(G$7*G36)+(H$7*H36)+(I$7*I36)+(J$7*J36)+(K$7*K36)+(L$7*L36)+(M$7*M36)+(N$7*N36)+(O$7*O36))","v":26},1,0,0,3,0,0,0,null,null,null,{"$f":"IF(OR('Set UP'!$C34=0,'Set UP'!$D34=0,'Set UP'!$E34=0),\"\",(Q$7*Q36)+(R$7*R36)+(S$7*S36)+(T$7*T36)+(U$7*U36)+(V$7*V36)+(W$7*W36)+(X$7*X36)+(Y$7*Y36)+(Z$7*Z36))","v":5},0,0,0,5,4,2,null,null,null,null,{"$f":"IF(OR('Set UP'!$C34=0,'Set UP'!$D34=0,'Set UP'!$E34=0),\"\",(AB$7*AB36)+(AC$7*AC36)+(AD$7*AD36)+(AE$7*AE36)+(AF$7*AF36)+(AG$7*AG36)+(AH$7*AH36)+(AI$7*AI36)+(AJ$7*AJ36)+(AK$7*AK36))","v":15},5,0,4,0,2,0,0,0,2,null,{"$f":"IF(OR('Set UP'!$C34=0,'Set UP'!$D34=0,'Set UP'!$E34=0),\"\",(AM$7*AM36)+(AN$7*AN36)+(AO$7*AO36)+(AP$7*AP36)+(AQ$7*AQ36)+(AR$7*AR36)+(AS$7*AS36)+(AT$7*AT36)+(AU$7*AU36)+(AV$7*AV36))","v":24},null,null,null,null,null,null,null,null,null,null,{"$f":"IF(OR('Set UP'!$C34=0,'Set UP'!$D34=0,'Set UP'!$E34=0),\"\",(AX$7*AX36)+(AY$7*AY36)+(AZ$7*AZ36)+(BA$7*BA36)+(BB$7*BB36)+(BC$7*BC36)+(BD$7*BD36)+(BE$7*BE36)+(BF$7*BF36)+(BG$7*BG36))","v":0},null,null,null,null,null,null,null,null,null,null,{"$f":"IF(OR('Set UP'!$C34=0,'Set UP'!$D34=0,'Set UP'!$E34=0),\"\",(BI$7*BI36)+(BJ$7*BJ36)+(BK$7*BK36)+(BL$7*BL36)+(BM$7*BM36)+(BN$7*BN36)+(BO$7*BO36)+(BP$7*BP36)+(BQ$7*BQ36)+(BR$7*BR36))","v":0},null,null,null,{"$f":"IF(OR('Set UP'!$C34=0,'Set UP'!$D34=0,'Set UP'!$E34=0),\"\",(P36+AA36+AL36+AW36+BH36+BS36))","v":70},{"$f":"IF(OR('Set UP'!$C34=0,'Set UP'!$D34=0,'Set UP'!$E34=0),\"\",RANK(BW36,$BW$9:$BW$48,0))","v":29},{"$f":"IF(OR('Set UP'!K34<>1,'Set UP'!C34=0,'Set UP'!D34=0,'Set UP'!E34=0,'Set UP'!F34=0),\"\",$BW36)","v":""},{"$f":"IF(OR('Set UP'!K34<>1,'Set UP'!C34=0,'Set UP'!D34=0,'Set UP'!E34=0,'Set UP'!F34=0),\"\",RANK(BY36,$BY$9:$BY$48,0))","v":""},{"$f":"IF(OR('Set UP'!K34<>2,'Set UP'!C34=0,'Set UP'!D34=0,'Set UP'!E34=0,'Set UP'!F34=0),\"\",$BW36)","v":""},{"$f":"IF(OR('Set UP'!K34<>2,'Set UP'!C34=0,'Set UP'!D34=0,'Set UP'!E34=0,'Set UP'!F34=0),\"\",RANK(CA36,$CA$9:$CA$48,0))","v":""}]
[null,29,{"$f":"IF(OR('Set UP'!$C35=0,'Set UP'!$D35=0,'Set UP'!$E35=0,'Set UP'!F35=0),\"  --\",'Set UP'!C35)","v":533},{"$f":"IF(OR('Set UP'!$C35=0,'Set UP'!$D35=0,'Set UP'!$E35=0,'Set UP'!F35=0),\"  --\",'Set UP'!D35&\" \"&'Set UP'!E35)","v":"University of Southampton A"},{"$f":"IF(OR('Set UP'!$C35=0,'Set UP'!$D35=0,'Set UP'!$E35=0,'Set UP'!F35=0),\"  --\",'Set UP'!F35)","v":"S"},9,8,8,7,10,8,null,null,null,null,{"$f":"IF(OR('Set UP'!$C35=0,'Set UP'!$D35=0,'Set UP'!$E35=0),\"\",(F$7*F37)+(G$7*G37)+(H$7*H37)+(I$7*I37)+(J$7*J37)+(K$7*K37)+(L$7*L37)+(M$7*M37)+(N$7*N37)+(O$7*O37))","v":81},2,0,0,0,0,0,0,null,null,null,{"$f":"IF(OR('Set UP'!$C35=0,'Set UP'!$D35=0,'Set UP'!$E35=0),\"\",(Q$7*Q37)+(R$7*R37)+(S$7*S37)+(T$7*T37)+(U$7*U37)+(V$7*V37)+(W$7*W37)+(X$7*X37)+(Y$7*Y37)+(Z$7*Z37))","v":4},8,8,4,5,7,7,null,null,null,null,{"$f":"IF(OR('Set UP'!$C35=0,'Set UP'!$D35=0,'Set UP'!$E35=0),\"\",(AB$7*AB37)+(AC$7*AC37)+(AD$7*AD37)+(AE$7*AE37)+(AF$7*AF37)+(AG$7*AG37)+(AH$7*AH37)+(AI$7*AI37)+(AJ$7*AJ37)+(AK$7*AK37))","v":54},7,6,5,2,9,0,2,0,0,null,{"$f":"IF(OR('Set UP'!$C35=0,'Set UP'!$D35=0,'Set UP'!$E35=0),\"\",(AM$7*AM37)+(AN$7*AN37)+(AO$7*AO37)+(AP$7*AP37)+(AQ$7*AQ37)+(AR$7*AR37)+(AS$7*AS37)+(AT$7*AT37)+(AU$7*AU37)+(AV$7*AV37))","v":60},null,null,null,null,null,null,null,null,null,null,{"$f":"IF(OR('Set UP'!$C35=0,'Set UP'!$D35=0,'Set UP'!$E35=0),\"\",(AX$7*AX37)+(AY$7*AY37)+(AZ$7*AZ37)+(BA$7*BA37)+(BB$7*BB37)+(BC$7*BC37)+(BD$7*BD37)+(BE$7*BE37)+(BF$7*BF37)+(BG$7*BG37))","v":0},null,null,null,null,null,null,null,null,null,null,{"$f":"IF(OR('Set UP'!$C35=0,'Set UP'!$D35=0,'Set UP'!$E35=0),\"\",(BI$7*BI37)+(BJ$7*BJ37)+(BK$7*BK37)+(BL$7*BL37)+(BM$7*BM37)+(BN$7*BN37)+(BO$7*BO37)+(BP$7*BP37)+(BQ$7*BQ37)+(BR$7*BR37))","v":0},null,null,null,{"$f":"IF(OR('Set UP'!$C35=0,'Set UP'!$D35=0,'Set UP'!$E35=0),\"\",(P37+AA37+AL37+AW37+BH37+BS37))","v":199},{"$f":"IF(OR('Set UP'!$C35=0,'Set UP'!$D35=0,'Set UP'!$E35=0),\"\",RANK(BW37,$BW$9:$BW$48,0))","v":3},{"$f":"IF(OR('Set UP'!K35<>1,'Set UP'!C35=0,'Set UP'!D35=0,'Set UP'!E35=0,'Set UP'!F35=0),\"\",$BW37)","v":199},{"$f":"IF(OR('Set UP'!K35<>1,'Set UP'!C35=0,'Set UP'!D35=0,'Set UP'!E35=0,'Set UP'!F35=0),\"\",RANK(BY37,$BY$9:$BY$48,0))","v":3},{"$f":"IF(OR('Set UP'!K35<>2,'Set UP'!C35=0,'Set UP'!D35=0,'Set UP'!E35=0,'Set UP'!F35=0),\"\",$BW37)","v":""},{"$f":"IF(OR('Set UP'!K35<>2,'Set UP'!C35=0,'Set UP'!D35=0,'Set UP'!E35=0,'Set UP'!F35=0),\"\",RANK(CA37,$CA$9:$CA$48,0))","v":""}]
[null,30,{"$f":"IF(OR('Set UP'!$C36=0,'Set UP'!$D36=0,'Set UP'!$E36=0,'Set UP'!F36=0),\"  --\",'Set UP'!C36)","v":523},{"$f":"IF(OR('Set UP'!$C36=0,'Set UP'!$D36=0,'Set UP'!$E36=0,'Set UP'!F36=0),\"  --\",'Set UP'!D36&\" \"&'Set UP'!E36)","v":"University of London Union A"},{"$f":"IF(OR('Set UP'!$C36=0,'Set UP'!$D36=0,'Set UP'!$E36=0,'Set UP'!F36=0),\"  --\",'Set UP'!F36)","v":"S"},7,7,6,5,4,4,null,null,null,null,{"$f":"IF(OR('Set UP'!$C36=0,'Set UP'!$D36=0,'Set UP'!$E36=0),\"\",(F$7*F38)+(G$7*G38)+(H$7*H38)+(I$7*I38)+(J$7*J38)+(K$7*K38)+(L$7*L38)+(M$7*M38)+(N$7*N38)+(O$7*O38))","v":51.5},10,10,8,0,10,0,0,null,null,null,{"$f":"IF(OR('Set UP'!$C36=0,'Set UP'!$D36=0,'Set UP'!$E36=0),\"\",(Q$7*Q38)+(R$7*R38)+(S$7*S38)+(T$7*T38)+(U$7*U38)+(V$7*V38)+(W$7*W38)+(X$7*X38)+(Y$7*Y38)+(Z$7*Z38))","v":58},7,7,8,8,8,4,null,null,null,null,{"$f":"IF(OR('Set UP'!$C36=0,'Set UP'!$D36=0,'Set UP'!$E36=0),\"\",(AB$7*AB38)+(AC$7*AC38)+(AD$7*AD38)+(AE$7*AE38)+(AF$7*AF38)+(AG$7*AG38)+(AH$7*AH38)+(AI$7*AI38)+(AJ$7*AJ38)+(AK$7*AK38))","v":57},7,7,7,0,9,3,2,0,0,null,{"$f":"IF(OR('Set UP'!$C36=0,'Set UP'!$D36=0,'Set UP'!$E36=0),\"\",(AM$7*AM38)+(AN$7*AN38)+(AO$7*AO38)+(AP$7*AP38)+(AQ$7*AQ38)+(AR$7*AR38)+(AS$7*AS38)+(AT$7*AT38)+(AU$7*AU38)+(AV$7*AV38))","v":68.5},null,null,null,null,null,null,null,null,null,null,{"$f":"IF(OR('Set UP'!$C36=0,'Set UP'!$D36=0,'Set UP'!$E36=0),\"\",(AX$7*AX38)+(AY$7*AY38)+(AZ$7*AZ38)+(BA$7*BA38)+(BB$7*BB38)+(BC$7*BC38)+(BD$7*BD38)+(BE$7*BE38)+(BF$7*BF38)+(BG$7*BG38))","v":0},null,null,null,null,null,null,null,null,null,null,{"$f":"IF(OR('Set UP'!$C36=0,'Set UP'!$D36=0,'Set UP'!$E36=0),\"\",(BI$7*BI38)+(BJ$7*BJ38)+(BK$7*BK38)+(BL$7*BL38)+(BM$7*BM38)+(BN$7*BN38)+(BO$7*BO38)+(BP$7*BP38)+(BQ$7*BQ38)+(BR$7*BR38))","v":0},null,null,null,{"$f":"IF(OR('Set UP'!$C36=0,'Set UP'!$D36=0,'Set UP'!$E36=0),\"\",(P38+AA38+AL38+AW38+BH38+BS38))","v":235},{"$f":"IF(OR('Set UP'!$C36=0,'Set UP'!$D36=0,'Set UP'!$E36=0),\"\",RANK(BW38,$BW$9:$BW$48,0))","v":1},{"$f":"IF(OR('Set UP'!K36<>1,'Set UP'!C36=0,'Set UP'!D36=0,'Set UP'!E36=0,'Set UP'!F36=0),\"\",$BW38)","v":235},{"$f":"IF(OR('Set UP'!K36<>1,'Set UP'!C36=0,'Set UP'!D36=0,'Set UP'!E36=0,'Set UP'!F36=0),\"\",RANK(BY38,$BY$9:$BY$48,0))","v":1},{"$f":"IF(OR('Set UP'!K36<>2,'Set UP'!C36=0,'Set UP'!D36=0,'Set UP'!E36=0,'Set UP'!F36=0),\"\",$BW38)","v":""},{"$f":"IF(OR('Set UP'!K36<>2,'Set UP'!C36=0,'Set UP'!D36=0,'Set UP'!E36=0,'Set UP'!F36=0),\"\",RANK(CA38,$CA$9:$CA$48,0))","v":""}]
[null,31,{"$f":"IF(OR('Set UP'!$C37=0,'Set UP'!$D37=0,'Set UP'!$E37=0,'Set UP'!F37=0),\"  --\",'Set UP'!C37)","v":505},{"$f":"IF(OR('Set UP'!$C37=0,'Set UP'!$D37=0,'Set UP'!$E37=0,'Set UP'!F37=0),\"  --\",'Set UP'!D37&\" \"&'Set UP'!E37)","v":"University of Plymouth A"},{"$f":"IF(OR('Set UP'!$C37=0,'Set UP'!$D37=0,'Set UP'!$E37=0,'Set UP'!F37=0),\"  --\",'Set UP'!F37)","v":"S"},5,5,5,4,0,0,null,null,null,null,{"$f":"IF(OR('Set UP'!$C37=0,'Set UP'!$D37=0,'Set UP'!$E37=0),\"\",(F$7*F39)+(G$7*G39)+(H$7*H39)+(I$7*I39)+(J$7*J39)+(K$7*K39)+(L$7*L39)+(M$7*M39)+(N$7*N39)+(O$7*O39))","v":26.5},4,4,0,0,0,0,0,null,null,null,{"$f":"IF(OR('Set UP'!$C37=0,'Set UP'!$D37=0,'Set UP'!$E37=0),\"\",(Q$7*Q39)+(R$7*R39)+(S$7*S39)+(T$7*T39)+(U$7*U39)+(V$7*V39)+(W$7*W39)+(X$7*X39)+(Y$7*Y39)+(Z$7*Z39))","v":16},4,4,4,5,4,4,null,null,null,null,{"$f":"IF(OR('Set UP'!$C37=0,'Set UP'!$D37=0,'Set UP'!$E37=0),\"\",(AB$7*AB39)+(AC$7*AC39)+(AD$7*AD39)+(AE$7*AE39)+(AF$7*AF39)+(AG$7*AG39)+(AH$7*AH39)+(AI$7*AI39)+(AJ$7*AJ39)+(AK$7*AK39))","v":33},8,0,5,0,4,0,0,0,3,null,{"$f":"IF(OR('Set UP'!$C37=0,'Set UP'!$D37=0,'Set UP'!$E37=0),\"\",(AM$7*AM39)+(AN$7*AN39)+(AO$7*AO39)+(AP$7*AP39)+(AQ$7*AQ39)+(AR$7*AR39)+(AS$7*AS39)+(AT$7*AT39)+(AU$7*AU39)+(AV$7*AV39))","v":37},null,null,null,null,null,null,null,null,null,null,{"$f":"IF(OR('Set UP'!$C37=0,'Set UP'!$D37=0,'Set UP'!$E37=0),\"\",(AX$7*AX39)+(AY$7*AY39)+(AZ$7*AZ39)+(BA$7*BA39)+(BB$7*BB39)+(BC$7*BC39)+(BD$7*BD39)+(BE$7*BE39)+(BF$7*BF39)+(BG$7*BG39))","v":0},null,null,null,null,null,null,null,null,null,null,{"$f":"IF(OR('Set UP'!$C37=0,'Set UP'!$D37=0,'Set UP'!$E37=0),\"\",(BI$7*BI39)+(BJ$7*BJ39)+(BK$7*BK39)+(BL$7*BL39)+(BM$7*BM39)+(BN$7*BN39)+(BO$7*BO39)+(BP$7*BP39)+(BQ$7*BQ39)+(BR$7*BR39))","v":0},null,null,null,{"$f":"IF(OR('Set UP'!$C37=0,'Set UP'!$D37=0,'Set UP'!$E37=0),\"\",(P39+AA39+AL39+AW39+BH39+BS39))","v":112.5},{"$f":"IF(OR('Set UP'!$C37=0,'Set UP'!$D37=0,'Set UP'!$E37=0),\"\",RANK(BW39,$BW$9:$BW$48,0))","v":23},{"$f":"IF(OR('Set UP'!K37<>1,'Set UP'!C37=0,'Set UP'!D37=0,'Set UP'!E37=0,'Set UP'!F37=0),\"\",$BW39)","v":112.5},{"$f":"IF(OR('Set UP'!K37<>1,'Set UP'!C37=0,'Set UP'!D37=0,'Set UP'!E37=0,'Set UP'!F37=0),\"\",RANK(BY39,$BY$9:$BY$48,0))","v":10},{"$f":"IF(OR('Set UP'!K37<>2,'Set UP'!C37=0,'Set UP'!D37=0,'Set UP'!E37=0,'Set UP'!F37=0),\"\",$BW39)","v":""},{"$f":"IF(OR('Set UP'!K37<>2,'Set UP'!C37=0,'Set UP'!D37=0,'Set UP'!E37=0,'Set UP'!F37=0),\"\",RANK(CA39,$CA$9:$CA$48,0))","v":""}]
[null,32,{"$f":"IF(OR('Set UP'!$C38=0,'Set UP'!$D38=0,'Set UP'!$E38=0,'Set UP'!F38=0),\"  --\",'Set UP'!C38)","v":510},{"$f":"IF(OR('Set UP'!$C38=0,'Set UP'!$D38=0,'Set UP'!$E38=0,'Set UP'!F38=0),\"  --\",'Set UP'!D38&\" \"&'Set UP'!E38)","v":"University of Warwick A"},{"$f":"IF(OR('Set UP'!$C38=0,'Set UP'!$D38=0,'Set UP'!$E38=0,'Set UP'!F38=0),\"  --\",'Set UP'!F38)","v":"S"},5,6,6,5,7,6,null,null,null,null,{"$f":"IF(OR('Set UP'!$C38=0,'Set UP'!$D38=0,'Set UP'!$E38=0),\"\",(F$7*F40)+(G$7*G40)+(H$7*H40)+(I$7*I40)+(J$7*J40)+(K$7*K40)+(L$7*L40)+(M$7*M40)+(N$7*N40)+(O$7*O40))","v":56},10,10,10,0,0,0,0,null,null,null,{"$f":"IF(OR('Set UP'!$C38=0,'Set UP'!$D38=0,'Set UP'!$E38=0),\"\",(Q$7*Q40)+(R$7*R40)+(S$7*S40)+(T$7*T40)+(U$7*U40)+(V$7*V40)+(W$7*W40)+(X$7*X40)+(Y$7*Y40)+(Z$7*Z40))","v":50},7,8,7,6,7,7,null,null,null,null,{"$f":"IF(OR('Set UP'!$C38=0,'Set UP'!$D38=0,'Set UP'!$E38=0),\"\",(AB$7*AB40)+(AC$7*AC40)+(AD$7*AD40)+(AE$7*AE40)+(AF$7*AF40)+(AG$7*AG40)+(AH$7*AH40)+(AI$7*AI40)+(AJ$7*AJ40)+(AK$7*AK40))","v":57},9,2,0,0,5,0,0,0,4,null,{"$f":"IF(OR('Set UP'!$C38=0,'Set UP'!$D38=0,'Set UP'!$E38=0),\"\",(AM$7*AM40)+(AN$7*AN40)+(AO$7*AO40)+(AP$7*AP40)+(AQ$7*AQ40)+(AR$7*AR40)+(AS$7*AS40)+(AT$7*AT40)+(AU$7*AU40)+(AV$7*AV40))","v":36},null,null,null,null,null,null,null,null,null,null,{"$f":"IF(OR('Set UP'!$C38=0,'Set UP'!$D38=0,'Set UP'!$E38=0),\"\",(AX$7*AX40)+(AY$7*AY40)+(AZ$7*AZ40)+(BA$7*BA40)+(BB$7*BB40)+(BC$7*BC40)+(BD$7*BD40)+(BE$7*BE40)+(BF$7*BF40)+(BG$7*BG40))","v":0},null,null,null,null,null,null,null,null,null,null,{"$f":"IF(OR('Set UP'!$C38=0,'Set UP'!$D38=0,'Set UP'!$E38=0),\"\",(BI$7*BI40)+(BJ$7*BJ40)+(BK$7*BK40)+(BL$7*BL40)+(BM$7*BM40)+(BN$7*BN40)+(BO$7*BO40)+(BP$7*BP40)+(BQ$7*BQ40)+(BR$7*BR40))","v":0},null,null,null,{"$f":"IF(OR('Set UP'!$C38=0,'Set UP'!$D38=0,'Set UP'!$E38=0),\"\",(P40+AA40+AL40+AW40+BH40+BS40))","v":199},{"$f":"IF(OR('Set UP'!$C38=0,'Set UP'!$D38=0,'Set UP'!$E38=0),\"\",RANK(BW40,$BW$9:$BW$48,0))","v":3},{"$f":"IF(OR('Set UP'!K38<>1,'Set UP'!C38=0,'Set UP'!D38=0,'Set UP'!E38=0,'Set UP'!F38=0),\"\",$BW40)","v":199},{"$f":"IF(OR('Set UP'!K38<>1,'Set UP'!C38=0,'Set UP'!D38=0,'Set UP'!E38=0,'Set UP'!F38=0),\"\",RANK(BY40,$BY$9:$BY$48,0))","v":3},{"$f":"IF(OR('Set UP'!K38<>2,'Set UP'!C38=0,'Set UP'!D38=0,'Set UP'!E38=0,'Set UP'!F38=0),\"\",$BW40)","v":""},{"$f":"IF(OR('Set UP'!K38<>2,'Set UP'!C38=0,'Set UP'!D38=0,'Set UP'!E38=0,'Set UP'!F38=0),\"\",RANK(CA40,$CA$9:$CA$48,0))","v":""}]
[null,33,{"$f":"IF(OR('Set UP'!$C39=0,'Set UP'!$D39=0,'Set UP'!$E39=0,'Set UP'!F39=0),\"  --\",'Set UP'!C39)","v":"  --"},{"$f":"IF(OR('Set UP'!$C39=0,'Set UP'!$D39=0,'Set UP'!$E39=0,'Set UP'!F39=0),\"  --\",'Set UP'!D39&\" \"&'Set UP'!E39)","v":"  --"},{"$f":"IF(OR('Set UP'!$C39=0,'Set UP'!$D39=0,'Set UP'!$E39=0,'Set UP'!F39=0),\"  --\",'Set UP'!F39)","v":"  --"},null,null,null,null,null,null,null,null,null,null,{"$f":"IF(OR('Set UP'!$C39=0,'Set UP'!$D39=0,'Set UP'!$E39=0),\"\",(F$7*F41)+(G$7*G41)+(H$7*H41)+(I$7*I41)+(J$7*J41)+(K$7*K41)+(L$7*L41)+(M$7*M41)+(N$7*N41)+(O$7*O41))","v":""},null,null,null,null,null,null,null,null,null,null,{"$f":"IF(OR('Set UP'!$C39=0,'Set UP'!$D39=0,'Set UP'!$E39=0),\"\",(Q$7*Q41)+(R$7*R41)+(S$7*S41)+(T$7*T41)+(U$7*U41)+(V$7*V41)+(W$7*W41)+(X$7*X41)+(Y$7*Y41)+(Z$7*Z41))","v":""},null,null,null,null,null,null,null,null,null,null,{"$f":"IF(OR('Set UP'!$C39=0,'Set UP'!$D39=0,'Set UP'!$E39=0),\"\",(AB$7*AB41)+(AC$7*AC41)+(AD$7*AD41)+(AE$7*AE41)+(AF$7*AF41)+(AG$7*AG41)+(AH$7*AH41)+(AI$7*AI41)+(AJ$7*AJ41)+(AK$7*AK41))","v":""},null,null,null,null,null,null,null,null,null,null,{"$f":"IF(OR('Set UP'!$C39=0,'Set UP'!$D39=0,'Set UP'!$E39=0),\"\",(AM$7*AM41)+(AN$7*AN41)+(AO$7*AO41)+(AP$7*AP41)+(AQ$7*AQ41)+(AR$7*AR41)+(AS$7*AS41)+(AT$7*AT41)+(AU$7*AU41)+(AV$7*AV41))","v":""},null,null,null,null,null,null,null,null,null,null,{"$f":"IF(OR('Set UP'!$C39=0,'Set UP'!$D39=0,'Set UP'!$E39=0),\"\",(AX$7*AX41)+(AY$7*AY41)+(AZ$7*AZ41)+(BA$7*BA41)+(BB$7*BB41)+(BC$7*BC41)+(BD$7*BD41)+(BE$7*BE41)+(BF$7*BF41)+(BG$7*BG41))","v":""},null,null,null,null,null,null,null,null,null,null,{"$f":"IF(OR('Set UP'!$C39=0,'Set UP'!$D39=0,'Set UP'!$E39=0),\"\",(BI$7*BI41)+(BJ$7*BJ41)+(BK$7*BK41)+(BL$7*BL41)+(BM$7*BM41)+(BN$7*BN41)+(BO$7*BO41)+(BP$7*BP41)+(BQ$7*BQ41)+(BR$7*BR41))","v":""},null,null,null,{"$f":"IF(OR('Set UP'!$C39=0,'Set UP'!$D39=0,'Set UP'!$E39=0),\"\",(P41+AA41+AL41+AW41+BH41+BS41))","v":""},{"$f":"IF(OR('Set UP'!$C39=0,'Set UP'!$D39=0,'Set UP'!$E39=0),\"\",RANK(BW41,$BW$9:$BW$48,0))","v":""},{"$f":"IF(OR('Set UP'!K39<>1,'Set UP'!C39=0,'Set UP'!D39=0,'Set UP'!E39=0,'Set UP'!F39=0),\"\",$BW41)","v":""},{"$f":"IF(OR('Set UP'!K39<>1,'Set UP'!C39=0,'Set UP'!D39=0,'Set UP'!E39=0,'Set UP'!F39=0),\"\",RANK(BY41,$BY$9:$BY$48,0))","v":""},{"$f":"IF(OR('Set UP'!K39<>2,'Set UP'!C39=0,'Set UP'!D39=0,'Set UP'!E39=0,'Set UP'!F39=0),\"\",$BW41)","v":""},{"$f":"IF(OR('Set UP'!K39<>2,'Set UP'!C39=0,'Set UP'!D39=0,'Set UP'!E39=0,'Set UP'!F39=0),\"\",RANK(CA41,$CA$9:$CA$48,0))","v":""}]
[null,34,{"$f":"IF(OR('Set UP'!$C40=0,'Set UP'!$D40=0,'Set UP'!$E40=0,'Set UP'!F40=0),\"  --\",'Set UP'!C40)","v":"  --"},{"$f":"IF(OR('Set UP'!$C40=0,'Set UP'!$D40=0,'Set UP'!$E40=0,'Set UP'!F40=0),\"  --\",'Set UP'!D40&\" \"&'Set UP'!E40)","v":"  --"},{"$f":"IF(OR('Set UP'!$C40=0,'Set UP'!$D40=0,'Set UP'!$E40=0,'Set UP'!F40=0),\"  --\",'Set UP'!F40)","v":"  --"},null,null,null,null,null,null,null,null,null,null,{"$f":"IF(OR('Set UP'!$C40=0,'Set UP'!$D40=0,'Set UP'!$E40=0),\"\",(F$7*F42)+(G$7*G42)+(H$7*H42)+(I$7*I42)+(J$7*J42)+(K$7*K42)+(L$7*L42)+(M$7*M42)+(N$7*N42)+(O$7*O42))","v":""},null,null,null,null,null,null,null,null,null,null,{"$f":"IF(OR('Set UP'!$C40=0,'Set UP'!$D40=0,'Set UP'!$E40=0),\"\",(Q$7*Q42)+(R$7*R42)+(S$7*S42)+(T$7*T42)+(U$7*U42)+(V$7*V42)+(W$7*W42)+(X$7*X42)+(Y$7*Y42)+(Z$7*Z42))","v":""},null,null,null,null,null,null,null,null,null,null,{"$f":"IF(OR('Set UP'!$C40=0,'Set UP'!$D40=0,'Set UP'!$E40=0),\"\",(AB$7*AB42)+(AC$7*AC42)+(AD$7*AD42)+(AE$7*AE42)+(AF$7*AF42)+(AG$7*AG42)+(AH$7*AH42)+(AI$7*AI42)+(AJ$7*AJ42)+(AK$7*AK42))","v":""},null,null,null,null,null,null,null,null,null,null,{"$f":"IF(OR('Set UP'!$C40=0,'Set UP'!$D40=0,'Set UP'!$E40=0),\"\",(AM$7*AM42)+(AN$7*AN42)+(AO$7*AO42)+(AP$7*AP42)+(AQ$7*AQ42)+(AR$7*AR42)+(AS$7*AS42)+(AT$7*AT42)+(AU$7*AU42)+(AV$7*AV42))","v":""},null,null,null,null,null,null,null,null,null,null,{"$f":"IF(OR('Set UP'!$C40=0,'Set UP'!$D40=0,'Set UP'!$E40=0),\"\",(AX$7*AX42)+(AY$7*AY42)+(AZ$7*AZ42)+(BA$7*BA42)+(BB$7*BB42)+(BC$7*BC42)+(BD$7*BD42)+(BE$7*BE42)+(BF$7*BF42)+(BG$7*BG42))","v":""},null,null,null,null,null,null,null,null,null,null,{"$f":"IF(OR('Set UP'!$C40=0,'Set UP'!$D40=0,'Set UP'!$E40=0),\"\",(BI$7*BI42)+(BJ$7*BJ42)+(BK$7*BK42)+(BL$7*BL42)+(BM$7*BM42)+(BN$7*BN42)+(BO$7*BO42)+(BP$7*BP42)+(BQ$7*BQ42)+(BR$7*BR42))","v":""},null,null,null,{"$f":"IF(OR('Set UP'!$C40=0,'Set UP'!$D40=0,'Set UP'!$E40=0),\"\",(P42+AA42+AL42+AW42+BH42+BS42))","v":""},{"$f":"IF(OR('Set UP'!$C40=0,'Set UP'!$D40=0,'Set UP'!$E40=0),\"\",RANK(BW42,$BW$9:$BW$48,0))","v":""},{"$f":"IF(OR('Set UP'!K40<>1,'Set UP'!C40=0,'Set UP'!D40=0,'Set UP'!E40=0,'Set UP'!F40=0),\"\",$BW42)","v":""},{"$f":"IF(OR('Set UP'!K40<>1,'Set UP'!C40=0,'Set UP'!D40=0,'Set UP'!E40=0,'Set UP'!F40=0),\"\",RANK(BY42,$BY$9:$BY$48,0))","v":""},{"$f":"IF(OR('Set UP'!K40<>2,'Set UP'!C40=0,'Set UP'!D40=0,'Set UP'!E40=0,'Set UP'!F40=0),\"\",$BW42)","v":""},{"$f":"IF(OR('Set UP'!K40<>2,'Set UP'!C40=0,'Set UP'!D40=0,'Set UP'!E40=0,'Set UP'!F40=0),\"\",RANK(CA42,$CA$9:$CA$48,0))","v":""}]
[null,35,{"$f":"IF(OR('Set UP'!$C41=0,'Set UP'!$D41=0,'Set UP'!$E41=0,'Set UP'!F41=0),\"  --\",'Set UP'!C41)","v":"  --"},{"$f":"IF(OR('Set UP'!$C41=0,'Set UP'!$D41=0,'Set UP'!$E41=0,'Set UP'!F41=0),\"  --\",'Set UP'!D41&\" \"&'Set UP'!E41)","v":"  --"},{"$f":"IF(OR('Set UP'!$C41=0,'Set UP'!$D41=0,'Set UP'!$E41=0,'Set UP'!F41=0),\"  --\",'Set UP'!F41)","v":"  --"},null,null,null,null,null,null,null,null,null,null,{"$f":"IF(OR('Set UP'!$C41=0,'Set UP'!$D41=0,'Set UP'!$E41=0),\"\",(F$7*F43)+(G$7*G43)+(H$7*H43)+(I$7*I43)+(J$7*J43)+(K$7*K43)+(L$7*L43)+(M$7*M43)+(N$7*N43)+(O$7*O43))","v":""},null,null,null,null,null,null,null,null,null,null,{"$f":"IF(OR('Set UP'!$C41=0,'Set UP'!$D41=0,'Set UP'!$E41=0),\"\",(Q$7*Q43)+(R$7*R43)+(S$7*S43)+(T$7*T43)+(U$7*U43)+(V$7*V43)+(W$7*W43)+(X$7*X43)+(Y$7*Y43)+(Z$7*Z43))","v":""},null,null,null,null,null,null,null,null,null,null,{"$f":"IF(OR('Set UP'!$C41=0,'Set UP'!$D41=0,'Set UP'!$E41=0),\"\",(AB$7*AB43)+(AC$7*AC43)+(AD$7*AD43)+(AE$7*AE43)+(AF$7*AF43)+(AG$7*AG43)+(AH$7*AH43)+(AI$7*AI43)+(AJ$7*AJ43)+(AK$7*AK43))","v":""},null,null,null,null,null,null,null,null,null,null,{"$f":"IF(OR('Set UP'!$C41=0,'Set UP'!$D41=0,'Set UP'!$E41=0),\"\",(AM$7*AM43)+(AN$7*AN43)+(AO$7*AO43)+(AP$7*AP43)+(AQ$7*AQ43)+(AR$7*AR43)+(AS$7*AS43)+(AT$7*AT43)+(AU$7*AU43)+(AV$7*AV43))","v":""},null,null,null,null,null,null,null,null,null,null,{"$f":"IF(OR('Set UP'!$C41=0,'Set UP'!$D41=0,'Set UP'!$E41=0),\"\",(AX$7*AX43)+(AY$7*AY43)+(AZ$7*AZ43)+(BA$7*BA43)+(BB$7*BB43)+(BC$7*BC43)+(BD$7*BD43)+(BE$7*BE43)+(BF$7*BF43)+(BG$7*BG43))","v":""},null,null,null,null,null,null,null,null,null,null,{"$f":"IF(OR('Set UP'!$C41=0,'Set UP'!$D41=0,'Set UP'!$E41=0),\"\",(BI$7*BI43)+(BJ$7*BJ43)+(BK$7*BK43)+(BL$7*BL43)+(BM$7*BM43)+(BN$7*BN43)+(BO$7*BO43)+(BP$7*BP43)+(BQ$7*BQ43)+(BR$7*BR43))","v":""},null,null,null,{"$f":"IF(OR('Set UP'!$C41=0,'Set UP'!$D41=0,'Set UP'!$E41=0),\"\",(P43+AA43+AL43+AW43+BH43+BS43))","v":""},{"$f":"IF(OR('Set UP'!$C41=0,'Set UP'!$D41=0,'Set UP'!$E41=0),\"\",RANK(BW43,$BW$9:$BW$48,0))","v":""},{"$f":"IF(OR('Set UP'!K41<>1,'Set UP'!C41=0,'Set UP'!D41=0,'Set UP'!E41=0,'Set UP'!F41=0),\"\",$BW43)","v":""},{"$f":"IF(OR('Set UP'!K41<>1,'Set UP'!C41=0,'Set UP'!D41=0,'Set UP'!E41=0,'Set UP'!F41=0),\"\",RANK(BY43,$BY$9:$BY$48,0))","v":""},{"$f":"IF(OR('Set UP'!K41<>2,'Set UP'!C41=0,'Set UP'!D41=0,'Set UP'!E41=0,'Set UP'!F41=0),\"\",$BW43)","v":""},{"$f":"IF(OR('Set UP'!K41<>2,'Set UP'!C41=0,'Set UP'!D41=0,'Set UP'!E41=0,'Set UP'!F41=0),\"\",RANK(CA43,$CA$9:$CA$48,0))","v":""}]
[null,36,{"$f":"IF(OR('Set UP'!$C42=0,'Set UP'!$D42=0,'Set UP'!$E42=0,'Set UP'!F42=0),\"  --\",'Set UP'!C42)","v":"  --"},{"$f":"IF(OR('Set UP'!$C42=0,'Set UP'!$D42=0,'Set UP'!$E42=0,'Set UP'!F42=0),\"  --\",'Set UP'!D42&\" \"&'Set UP'!E42)","v":"  --"},{"$f":"IF(OR('Set UP'!$C42=0,'Set UP'!$D42=0,'Set UP'!$E42=0,'Set UP'!F42=0),\"  --\",'Set UP'!F42)","v":"  --"},null,null,null,null,null,null,null,null,null,null,{"$f":"IF(OR('Set UP'!$C42=0,'Set UP'!$D42=0,'Set UP'!$E42=0),\"\",(F$7*F44)+(G$7*G44)+(H$7*H44)+(I$7*I44)+(J$7*J44)+(K$7*K44)+(L$7*L44)+(M$7*M44)+(N$7*N44)+(O$7*O44))","v":""},null,null,null,null,null,null,null,null,null,null,{"$f":"IF(OR('Set UP'!$C42=0,'Set UP'!$D42=0,'Set UP'!$E42=0),\"\",(Q$7*Q44)+(R$7*R44)+(S$7*S44)+(T$7*T44)+(U$7*U44)+(V$7*V44)+(W$7*W44)+(X$7*X44)+(Y$7*Y44)+(Z$7*Z44))","v":""},null,null,null,null,null,null,null,null,null,null,{"$f":"IF(OR('Set UP'!$C42=0,'Set UP'!$D42=0,'Set UP'!$E42=0),\"\",(AB$7*AB44)+(AC$7*AC44)+(AD$7*AD44)+(AE$7*AE44)+(AF$7*AF44)+(AG$7*AG44)+(AH$7*AH44)+(AI$7*AI44)+(AJ$7*AJ44)+(AK$7*AK44))","v":""},null,null,null,null,null,null,null,null,null,null,{"$f":"IF(OR('Set UP'!$C42=0,'Set UP'!$D42=0,'Set UP'!$E42=0),\"\",(AM$7*AM44)+(AN$7*AN44)+(AO$7*AO44)+(AP$7*AP44)+(AQ$7*AQ44)+(AR$7*AR44)+(AS$7*AS44)+(AT$7*AT44)+(AU$7*AU44)+(AV$7*AV44))","v":""},null,null,null,null,null,null,null,null,null,null,{"$f":"IF(OR('Set UP'!$C42=0,'Set UP'!$D42=0,'Set UP'!$E42=0),\"\",(AX$7*AX44)+(AY$7*AY44)+(AZ$7*AZ44)+(BA$7*BA44)+(BB$7*BB44)+(BC$7*BC44)+(BD$7*BD44)+(BE$7*BE44)+(BF$7*BF44)+(BG$7*BG44))","v":""},null,null,null,null,null,null,null,null,null,null,{"$f":"IF(OR('Set UP'!$C42=0,'Set UP'!$D42=0,'Set UP'!$E42=0),\"\",(BI$7*BI44)+(BJ$7*BJ44)+(BK$7*BK44)+(BL$7*BL44)+(BM$7*BM44)+(BN$7*BN44)+(BO$7*BO44)+(BP$7*BP44)+(BQ$7*BQ44)+(BR$7*BR44))","v":""},null,null,null,{"$f":"IF(OR('Set UP'!$C42=0,'Set UP'!$D42=0,'Set UP'!$E42=0),\"\",(P44+AA44+AL44+AW44+BH44+BS44))","v":""},{"$f":"IF(OR('Set UP'!$C42=0,'Set UP'!$D42=0,'Set UP'!$E42=0),\"\",RANK(BW44,$BW$9:$BW$48,0))","v":""},{"$f":"IF(OR('Set UP'!K42<>1,'Set UP'!C42=0,'Set UP'!D42=0,'Set UP'!E42=0,'Set UP'!F42=0),\"\",$BW44)","v":""},{"$f":"IF(OR('Set UP'!K42<>1,'Set UP'!C42=0,'Set UP'!D42=0,'Set UP'!E42=0,'Set UP'!F42=0),\"\",RANK(BY44,$BY$9:$BY$48,0))","v":""},{"$f":"IF(OR('Set UP'!K42<>2,'Set UP'!C42=0,'Set UP'!D42=0,'Set UP'!E42=0,'Set UP'!F42=0),\"\",$BW44)","v":""},{"$f":"IF(OR('Set UP'!K42<>2,'Set UP'!C42=0,'Set UP'!D42=0,'Set UP'!E42=0,'Set UP'!F42=0),\"\",RANK(CA44,$CA$9:$CA$48,0))","v":""}]
[null,37,{"$f":"IF(OR('Set UP'!$C43=0,'Set UP'!$D43=0,'Set UP'!$E43=0,'Set UP'!F43=0),\"  --\",'Set UP'!C43)","v":"  --"},{"$f":"IF(OR('Set UP'!$C43=0,'Set UP'!$D43=0,'Set UP'!$E43=0,'Set UP'!F43=0),\"  --\",'Set UP'!D43&\" \"&'Set UP'!E43)","v":"  --"},{"$f":"IF(OR('Set UP'!$C43=0,'Set UP'!$D43=0,'Set UP'!$E43=0,'Set UP'!F43=0),\"  --\",'Set UP'!F43)","v":"  --"},null,null,null,null,null,null,null,null,null,null,{"$f":"IF(OR('Set UP'!$C43=0,'Set UP'!$D43=0,'Set UP'!$E43=0),\"\",(F$7*F45)+(G$7*G45)+(H$7*H45)+(I$7*I45)+(J$7*J45)+(K$7*K45)+(L$7*L45)+(M$7*M45)+(N$7*N45)+(O$7*O45))","v":""},null,null,null,null,null,null,null,null,null,null,{"$f":"IF(OR('Set UP'!$C43=0,'Set UP'!$D43=0,'Set UP'!$E43=0),\"\",(Q$7*Q45)+(R$7*R45)+(S$7*S45)+(T$7*T45)+(U$7*U45)+(V$7*V45)+(W$7*W45)+(X$7*X45)+(Y$7*Y45)+(Z$7*Z45))","v":""},null,null,null,null,null,null,null,null,null,null,{"$f":"IF(OR('Set UP'!$C43=0,'Set UP'!$D43=0,'Set UP'!$E43=0),\"\",(AB$7*AB45)+(AC$7*AC45)+(AD$7*AD45)+(AE$7*AE45)+(AF$7*AF45)+(AG$7*AG45)+(AH$7*AH45)+(AI$7*AI45)+(AJ$7*AJ45)+(AK$7*AK45))","v":""},null,null,null,null,null,null,null,null,null,null,{"$f":"IF(OR('Set UP'!$C43=0,'Set UP'!$D43=0,'Set UP'!$E43=0),\"\",(AM$7*AM45)+(AN$7*AN45)+(AO$7*AO45)+(AP$7*AP45)+(AQ$7*AQ45)+(AR$7*AR45)+(AS$7*AS45)+(AT$7*AT45)+(AU$7*AU45)+(AV$7*AV45))","v":""},null,null,null,null,null,null,null,null,null,null,{"$f":"IF(OR('Set UP'!$C43=0,'Set UP'!$D43=0,'Set UP'!$E43=0),\"\",(AX$7*AX45)+(AY$7*AY45)+(AZ$7*AZ45)+(BA$7*BA45)+(BB$7*BB45)+(BC$7*BC45)+(BD$7*BD45)+(BE$7*BE45)+(BF$7*BF45)+(BG$7*BG45))","v":""},null,null,null,null,null,null,null,null,null,null,{"$f":"IF(OR('Set UP'!$C43=0,'Set UP'!$D43=0,'Set UP'!$E43=0),\"\",(BI$7*BI45)+(BJ$7*BJ45)+(BK$7*BK45)+(BL$7*BL45)+(BM$7*BM45)+(BN$7*BN45)+(BO$7*BO45)+(BP$7*BP45)+(BQ$7*BQ45)+(BR$7*BR45))","v":""},null,null,null,{"$f":"IF(OR('Set UP'!$C43=0,'Set UP'!$D43=0,'Set UP'!$E43=0),\"\",(P45+AA45+AL45+AW45+BH45+BS45))","v":""},{"$f":"IF(OR('Set UP'!$C43=0,'Set UP'!$D43=0,'Set UP'!$E43=0),\"\",RANK(BW45,$BW$9:$BW$48,0))","v":""},{"$f":"IF(OR('Set UP'!K43<>1,'Set UP'!C43=0,'Set UP'!D43=0,'Set UP'!E43=0,'Set UP'!F43=0),\"\",$BW45)","v":""},{"$f":"IF(OR('Set UP'!K43<>1,'Set UP'!C43=0,'Set UP'!D43=0,'Set UP'!E43=0,'Set UP'!F43=0),\"\",RANK(BY45,$BY$9:$BY$48,0))","v":""},{"$f":"IF(OR('Set UP'!K43<>2,'Set UP'!C43=0,'Set UP'!D43=0,'Set UP'!E43=0,'Set UP'!F43=0),\"\",$BW45)","v":""},{"$f":"IF(OR('Set UP'!K43<>2,'Set UP'!C43=0,'Set UP'!D43=0,'Set UP'!E43=0,'Set UP'!F43=0),\"\",RANK(CA45,$CA$9:$CA$48,0))","v":""}]
[null,38,{"$f":"IF(OR('Set UP'!$C44=0,'Set UP'!$D44=0,'Set UP'!$E44=0,'Set UP'!F44=0),\"  --\",'Set UP'!C44)","v":"  --"},{"$f":"IF(OR('Set UP'!$C44=0,'Set UP'!$D44=0,'Set UP'!$E44=0,'Set UP'!F44=0),\"  --\",'Set UP'!D44&\" \"&'Set UP'!E44)","v":"  --"},{"$f":"IF(OR('Set UP'!$C44=0,'Set UP'!$D44=0,'Set UP'!$E44=0,'Set UP'!F44=0),\"  --\",'Set UP'!F44)","v":"  --"},null,null,null,null,null,null,null,null,null,null,{"$f":"IF(OR('Set UP'!$C44=0,'Set UP'!$D44=0,'Set UP'!$E44=0),\"\",(F$7*F46)+(G$7*G46)+(H$7*H46)+(I$7*I46)+(J$7*J46)+(K$7*K46)+(L$7*L46)+(M$7*M46)+(N$7*N46)+(O$7*O46))","v":""},null,null,null,null,null,null,null,null,null,null,{"$f":"IF(OR('Set UP'!$C44=0,'Set UP'!$D44=0,'Set UP'!$E44=0),\"\",(Q$7*Q46)+(R$7*R46)+(S$7*S46)+(T$7*T46)+(U$7*U46)+(V$7*V46)+(W$7*W46)+(X$7*X46)+(Y$7*Y46)+(Z$7*Z46))","v":""},null,null,null,null,null,null,null,null,null,null,{"$f":"IF(OR('Set UP'!$C44=0,'Set UP'!$D44=0,'Set UP'!$E44=0),\"\",(AB$7*AB46)+(AC$7*AC46)+(AD$7*AD46)+(AE$7*AE46)+(AF$7*AF46)+(AG$7*AG46)+(AH$7*AH46)+(AI$7*AI46)+(AJ$7*AJ46)+(AK$7*AK46))","v":""},null,null,null,null,null,null,null,null,null,null,{"$f":"IF(OR('Set UP'!$C44=0,'Set UP'!$D44=0,'Set UP'!$E44=0),\"\",(AM$7*AM46)+(AN$7*AN46)+(AO$7*AO46)+(AP$7*AP46)+(AQ$7*AQ46)+(AR$7*AR46)+(AS$7*AS46)+(AT$7*AT46)+(AU$7*AU46)+(AV$7*AV46))","v":""},null,null,null,null,null,null,null,null,null,null,{"$f":"IF(OR('Set UP'!$C44=0,'Set UP'!$D44=0,'Set UP'!$E44=0),\"\",(AX$7*AX46)+(AY$7*AY46)+(AZ$7*AZ46)+(BA$7*BA46)+(BB$7*BB46)+(BC$7*BC46)+(BD$7*BD46)+(BE$7*BE46)+(BF$7*BF46)+(BG$7*BG46))","v":""},null,null,null,null,null,null,null,null,null,null,{"$f":"IF(OR('Set UP'!$C44=0,'Set UP'!$D44=0,'Set UP'!$E44=0),\"\",(BI$7*BI46)+(BJ$7*BJ46)+(BK$7*BK46)+(BL$7*BL46)+(BM$7*BM46)+(BN$7*BN46)+(BO$7*BO46)+(BP$7*BP46)+(BQ$7*BQ46)+(BR$7*BR46))","v":""},null,null,null,{"$f":"IF(OR('Set UP'!$C44=0,'Set UP'!$D44=0,'Set UP'!$E44=0),\"\",(P46+AA46+AL46+AW46+BH46+BS46))","v":""},{"$f":"IF(OR('Set UP'!$C44=0,'Set UP'!$D44=0,'Set UP'!$E44=0),\"\",RANK(BW46,$BW$9:$BW$48,0))","v":""},{"$f":"IF(OR('Set UP'!K44<>1,'Set UP'!C44=0,'Set UP'!D44=0,'Set UP'!E44=0,'Set UP'!F44=0),\"\",$BW46)","v":""},{"$f":"IF(OR('Set UP'!K44<>1,'Set UP'!C44=0,'Set UP'!D44=0,'Set UP'!E44=0,'Set UP'!F44=0),\"\",RANK(BY46,$BY$9:$BY$48,0))","v":""},{"$f":"IF(OR('Set UP'!K44<>2,'Set UP'!C44=0,'Set UP'!D44=0,'Set UP'!E44=0,'Set UP'!F44=0),\"\",$BW46)","v":""},{"$f":"IF(OR('Set UP'!K44<>2,'Set UP'!C44=0,'Set UP'!D44=0,'Set UP'!E44=0,'Set UP'!F44=0),\"\",RANK(CA46,$CA$9:$CA$48,0))","v":""}]
[null,39,{"$f":"IF(OR('Set UP'!$C45=0,'Set UP'!$D45=0,'Set UP'!$E45=0,'Set UP'!F45=0),\"  --\",'Set UP'!C45)","v":"  --"},{"$f":"IF(OR('Set UP'!$C45=0,'Set UP'!$D45=0,'Set UP'!$E45=0,'Set UP'!F45=0),\"  --\",'Set UP'!D45&\" \"&'Set UP'!E45)","v":"  --"},{"$f":"IF(OR('Set UP'!$C45=0,'Set UP'!$D45=0,'Set UP'!$E45=0,'Set UP'!F45=0),\"  --\",'Set UP'!F45)","v":"  --"},null,null,null,null,null,null,null,null,null,null,{"$f":"IF(OR('Set UP'!$C45=0,'Set UP'!$D45=0,'Set UP'!$E45=0),\"\",(F$7*F47)+(G$7*G47)+(H$7*H47)+(I$7*I47)+(J$7*J47)+(K$7*K47)+(L$7*L47)+(M$7*M47)+(N$7*N47)+(O$7*O47))","v":""},null,null,null,null,null,null,null,null,null,null,{"$f":"IF(OR('Set UP'!$C45=0,'Set UP'!$D45=0,'Set UP'!$E45=0),\"\",(Q$7*Q47)+(R$7*R47)+(S$7*S47)+(T$7*T47)+(U$7*U47)+(V$7*V47)+(W$7*W47)+(X$7*X47)+(Y$7*Y47)+(Z$7*Z47))","v":""},null,null,null,null,null,null,null,null,null,null,{"$f":"IF(OR('Set UP'!$C45=0,'Set UP'!$D45=0,'Set UP'!$E45=0),\"\",(AB$7*AB47)+(AC$7*AC47)+(AD$7*AD47)+(AE$7*AE47)+(AF$7*AF47)+(AG$7*AG47)+(AH$7*AH47)+(AI$7*AI47)+(AJ$7*AJ47)+(AK$7*AK47))","v":""},null,null,null,null,null,null,null,null,null,null,{"$f":"IF(OR('Set UP'!$C45=0,'Set UP'!$D45=0,'Set UP'!$E45=0),\"\",(AM$7*AM47)+(AN$7*AN47)+(AO$7*AO47)+(AP$7*AP47)+(AQ$7*AQ47)+(AR$7*AR47)+(AS$7*AS47)+(AT$7*AT47)+(AU$7*AU47)+(AV$7*AV47))","v":""},null,null,null,null,null,null,null,null,null,null,{"$f":"IF(OR('Set UP'!$C45=0,'Set UP'!$D45=0,'Set UP'!$E45=0),\"\",(AX$7*AX47)+(AY$7*AY47)+(AZ$7*AZ47)+(BA$7*BA47)+(BB$7*BB47)+(BC$7*BC47)+(BD$7*BD47)+(BE$7*BE47)+(BF$7*BF47)+(BG$7*BG47))","v":""},null,null,null,null,null,null,null,null,null,null,{"$f":"IF(OR('Set UP'!$C45=0,'Set UP'!$D45=0,'Set UP'!$E45=0),\"\",(BI$7*BI47)+(BJ$7*BJ47)+(BK$7*BK47)+(BL$7*BL47)+(BM$7*BM47)+(BN$7*BN47)+(BO$7*BO47)+(BP$7*BP47)+(BQ$7*BQ47)+(BR$7*BR47))","v":""},null,null,null,{"$f":"IF(OR('Set UP'!$C45=0,'Set UP'!$D45=0,'Set UP'!$E45=0),\"\",(P47+AA47+AL47+AW47+BH47+BS47))","v":""},{"$f":"IF(OR('Set UP'!$C45=0,'Set UP'!$D45=0,'Set UP'!$E45=0),\"\",RANK(BW47,$BW$9:$BW$48,0))","v":""},{"$f":"IF(OR('Set UP'!K45<>1,'Set UP'!C45=0,'Set UP'!D45=0,'Set UP'!E45=0,'Set UP'!F45=0),\"\",$BW47)","v":""},{"$f":"IF(OR('Set UP'!K45<>1,'Set UP'!C45=0,'Set UP'!D45=0,'Set UP'!E45=0,'Set UP'!F45=0),\"\",RANK(BY47,$BY$9:$BY$48,0))","v":""},{"$f":"IF(OR('Set UP'!K45<>2,'Set UP'!C45=0,'Set UP'!D45=0,'Set UP'!E45=0,'Set UP'!F45=0),\"\",$BW47)","v":""},{"$f":"IF(OR('Set UP'!K45<>2,'Set UP'!C45=0,'Set UP'!D45=0,'Set UP'!E45=0,'Set UP'!F45=0),\"\",RANK(CA47,$CA$9:$CA$48,0))","v":""}]
[null,40,{"$f":"IF(OR('Set UP'!$C46=0,'Set UP'!$D46=0,'Set UP'!$E46=0,'Set UP'!F46=0),\"  --\",'Set UP'!C46)","v":"  --"},{"$f":"IF(OR('Set UP'!$C46=0,'Set UP'!$D46=0,'Set UP'!$E46=0,'Set UP'!F46=0),\"  --\",'Set UP'!D46&\" \"&'Set UP'!E46)","v":"  --"},{"$f":"IF(OR('Set UP'!$C46=0,'Set UP'!$D46=0,'Set UP'!$E46=0,'Set UP'!F46=0),\"  --\",'Set UP'!F46)","v":"  --"},null,null,null,null,null,null,null,null,null,null,{"$f":"IF(OR('Set UP'!$C46=0,'Set UP'!$D46=0,'Set UP'!$E46=0),\"\",(F$7*F48)+(G$7*G48)+(H$7*H48)+(I$7*I48)+(J$7*J48)+(K$7*K48)+(L$7*L48)+(M$7*M48)+(N$7*N48)+(O$7*O48))","v":""},null,null,null,null,null,null,null,null,null,null,{"$f":"IF(OR('Set UP'!$C46=0,'Set UP'!$D46=0,'Set UP'!$E46=0),\"\",(Q$7*Q48)+(R$7*R48)+(S$7*S48)+(T$7*T48)+(U$7*U48)+(V$7*V48)+(W$7*W48)+(X$7*X48)+(Y$7*Y48)+(Z$7*Z48))","v":""},null,null,null,null,null,null,null,null,null,null,{"$f":"IF(OR('Set UP'!$C46=0,'Set UP'!$D46=0,'Set UP'!$E46=0),\"\",(AB$7*AB48)+(AC$7*AC48)+(AD$7*AD48)+(AE$7*AE48)+(AF$7*AF48)+(AG$7*AG48)+(AH$7*AH48)+(AI$7*AI48)+(AJ$7*AJ48)+(AK$7*AK48))","v":""},null,null,null,null,null,null,null,null,null,null,{"$f":"IF(OR('Set UP'!$C46=0,'Set UP'!$D46=0,'Set UP'!$E46=0),\"\",(AM$7*AM48)+(AN$7*AN48)+(AO$7*AO48)+(AP$7*AP48)+(AQ$7*AQ48)+(AR$7*AR48)+(AS$7*AS48)+(AT$7*AT48)+(AU$7*AU48)+(AV$7*AV48))","v":""},null,null,null,null,null,null,null,null,null,null,{"$f":"IF(OR('Set UP'!$C46=0,'Set UP'!$D46=0,'Set UP'!$E46=0),\"\",(AX$7*AX48)+(AY$7*AY48)+(AZ$7*AZ48)+(BA$7*BA48)+(BB$7*BB48)+(BC$7*BC48)+(BD$7*BD48)+(BE$7*BE48)+(BF$7*BF48)+(BG$7*BG48))","v":""},null,null,null,null,null,null,null,null,null,null,{"$f":"IF(OR('Set UP'!$C46=0,'Set UP'!$D46=0,'Set UP'!$E46=0),\"\",(BI$7*BI48)+(BJ$7*BJ48)+(BK$7*BK48)+(BL$7*BL48)+(BM$7*BM48)+(BN$7*BN48)+(BO$7*BO48)+(BP$7*BP48)+(BQ$7*BQ48)+(BR$7*BR48))","v":""},null,null,null,{"$f":"IF(OR('Set UP'!$C46=0,'Set UP'!$D46=0,'Set UP'!$E46=0),\"\",(P48+AA48+AL48+AW48+BH48+BS48))","v":""},{"$f":"IF(OR('Set UP'!$C46=0,'Set UP'!$D46=0,'Set UP'!$E46=0),\"\",RANK(BW48,$BW$9:$BW$48,0))","v":""},{"$f":"IF(OR('Set UP'!K46<>1,'Set UP'!C46=0,'Set UP'!D46=0,'Set UP'!E46=0,'Set UP'!F46=0),\"\",$BW48)","v":""},{"$f":"IF(OR('Set UP'!K46<>1,'Set UP'!C46=0,'Set UP'!D46=0,'Set UP'!E46=0,'Set UP'!F46=0),\"\",RANK(BY48,$BY$9:$BY$48,0))","v":""},{"$f":"IF(OR('Set UP'!K46<>2,'Set UP'!C46=0,'Set UP'!D46=0,'Set UP'!E46=0,'Set UP'!F46=0),\"\",$BW48)","v":""},{"$f":"IF(OR('Set UP'!K46<>2,'Set UP'!C46=0,'Set UP'!D46=0,'Set UP'!E46=0,'Set UP'!F46=0),\"\",RANK(CA48,$CA$9:$CA$48,0))","v":""}]

{"sheet":"Extra Event","index":5,"n_rows":48,"n_cols":80,"rows_kept":48,"cut":false,"hidden":false,"merged":[[4,60,4,70],[5,37,7,37],[5,48,7,48],[5,59,7,59],[4,5,4,15],[4,16,4,26],[5,15,7,15],[5,26,7,26],[3,79,7,79],[3,5,3,15],[3,16,3,26],[3,27,3,37],[3,38,3,48],[3,49,3,59],[3,60,3,70],[3,74,7,74],[3,75,7,75],[3,76,7,76],[3,77,7,77],[3,78,7,78],[5,70,7,70],[4,27,4,37],[4,38,4,48],[4,49,4,59]]}
[]
[]
[null,null,null,{"$f":"'Set UP'!Q13","v":"Extra Event"}]
[null,null,null,null,null,"JUDGE 1",null,null,null,null,null,null,null,null,null,null,"JUDGE 2",null,null,null,null,null,null,null,null,null,null,"JUDGE 3",null,null,null,null,null,null,null,null,null,null,"JUDGE 4",null,null,null,null,null,null,null,null,null,null,"JUDGE 5",null,null,null,null,null,null,null,null,null,null,"JUDGE 6",null,null,null,null,null,null,null,null,null,null,null,null,null,"¬ OVERALL TOTAL","¬ POSITION (COMPETITION)","¬ OVERALL (A LEAGUE RANK)","¬ POSITION ( A LEAGUE)","¬ OVERALL (B LEAGUE RANK)","POSITION ( BLEAGUE)"]
[null,null,null,null,null,"Judge 1 Stations",null,null,null,null,null,null,null,null,null,null,"Judge 2 Casualty Care",null,null,null,null,null,null,null,null,null,null,"Judge 3 Description <Enter Here>",null,null,null,null,null,null,null,null,null,null,"Judge 4 Description <Enter Here>",null,null,null,null,null,null,null,null,null,null,"Judge 5 Description <Enter Here>",null,null,null,null,null,null,null,null,null,null,"Judge 6 Description <Enter Here>"]
[null,null,null,null,null,"Stations",null,null,null,null,null,null,null,null,null,"¬ JUDGE 1  TOTAL","Spinal Casualty Assessment","Spinal Casualty Treatment","Spinal Casualty Travel","Spinal Casualty Aftercare","Broken Arm Casualty Assessment","Broken Arm Casualty Treatment","Broken Arm Casualty Aftercare","Phone Call",null,null,"¬ JUDGE 2  TOTAL","Mark Category 1 <Enter Here>","Mark Category 2 <Enter Here>","Mark Category 3 <Enter Here>","Mark Category 4 <Enter Here>","Mark Category 5 <Enter Here>","Mark Category 6 <Enter Here>","Mark Category 7 <Enter Here>","Mark Category 8 <Enter Here>","Mark Category 9 <Enter Here>","Mark Category 10 <Enter Here>","¬ JUDGE 3  TOTAL","Mark Category 1 <Enter Here>","Mark Category 2 <Enter Here>","Mark Category 3 <Enter Here>","Mark Category 4 <Enter Here>","Mark Category 5 <Enter Here>","Mark Category 6 <Enter Here>","Mark Category 7 <Enter Here>","Mark Category 8 <Enter Here>","Mark Category 9 <Enter Here>","Mark Category 10 <Enter Here>","¬ JUDGE 4  TOTAL","Mark Category 1 <Enter Here>","Mark Category 2 <Enter Here>","Mark Category 3 <Enter Here>","Mark Category 4 <Enter Here>","Mark Category 5 <Enter Here>","Mark Category 6 <Enter Here>","Mark Category 7 <Enter Here>","Mark Category 8 <Enter Here>","Mark Category 9 <Enter Here>","Mark Category 10 <Enter Here>","¬ JUDGE 5  TOTAL","Mark Category 1 <Enter Here>","Mark Category 2 <Enter Here>","Mark Category 3 <Enter Here>","Mark Category 4 <Enter Here>","Mark Category 5 <Enter Here>","Mark Category 6 <Enter Here>","Mark Category 7 <Enter Here>","Mark Category 8 <Enter Here>","Mark Category 9 <Enter Here>","Mark Category 10 <Enter Here>","¬ JUDGE 6  TOTAL"]
[null,null,null,null,"MARK WEIGHTING →",3,null,null,null,null,null,null,null,null,null,null,1,2,2,1.5,1,2,1.5,1]
[null,null,"WEB","TEAM","CLASS"]
[null,1,{"$f":"IF(OR('Set UP'!$C7=0,'Set UP'!$D7=0,'Set UP'!$E7=0,'Set UP'!F7=0),\"  --\",'Set UP'!C7)","v":537},{"$f":"IF(OR('Set UP'!$C7=0,'Set UP'!$D7=0,'Set UP'!$E7=0,'Set UP'!F7=0),\"  --\",'Set UP'!D7&\" \"&'Set UP'!E7)","v":"Heanor A"},{"$f":"IF(OR('Set UP'!$C7=0,'Set UP'!$D7=0,'Set UP'!$E7=0,'Set UP'!F7=0),\"  --\",'Set UP'!F7)","v":"NS"},1,null,null,null,null,null,null,null,null,null,{"$f":"IF(OR('Set UP'!$C7=0,'Set UP'!$D7=0,'Set UP'!$E7=0),\"\",(F$7*F9)+(G$7*G9)+(H$7*H9)+(I$7*I9)+(J$7*J9)+(K$7*K9)+(L$7*L9)+(M$7*M9)+(N$7*N9)+(O$7*O9))","v":3},5,2,5,0,5,5,0,0,null,null,{"$f":"IF(OR('Set UP'!$C7=0,'Set UP'!$D7=0,'Set UP'!$E7=0),\"\",(Q$7*Q9)+(R$7*R9)+(S$7*S9)+(T$7*T9)+(U$7*U9)+(V$7*V9)+(W$7*W9)+(X$7*X9)+(Y$7*Y9)+(Z$7*Z9))","v":34},null,null,null,null,null,null,null,null,null,null,{"$f":"IF(OR('Set UP'!$C7=0,'Set UP'!$D7=0,'Set UP'!$E7=0),\"\",(AB$7*AB9)+(AC$7*AC9)+(AD$7*AD9)+(AE$7*AE9)+(AF$7*AF9)+(AG$7*AG9)+(AH$7*AH9)+(AI$7*AI9)+(AJ$7*AJ9)+(AK$7*AK9))","v":0},null,null,null,null,null,null,null,null,null,null,{"$f":"IF(OR('Set UP'!$C7=0,'Set UP'!$D7=0,'Set UP'!$E7=0),\"\",(AM$7*AM9)+(AN$7*AN9)+(AO$7*AO9)+(AP$7*AP9)+(AQ$7*AQ9)+(AR$7*AR9)+(AS$7*AS9)+(AT$7*AT9)+(AU$7*AU9)+(AV$7*AV9))","v":0},null,null,null,null,null,null,null,null,null,null,{"$f":"IF(OR('Set UP'!$C7=0,'Set UP'!$D7=0,'Set UP'!$E7=0),\"\",(AX$7*AX9)+(AY$7*AY9)+(AZ$7*AZ9)+(BA$7*BA9)+(BB$7*BB9)+(BC$7*BC9)+(BD$7*BD9)+(BE$7*BE9)+(BF$7*BF9)+(BG$7*BG9))","v":0},null,null,null,null,null,null,null,null,null,null,{"$f":"IF(OR('Set UP'!$C7=0,'Set UP'!$D7=0,'Set UP'!$E7=0),\"\",(BI$7*BI9)+(BJ$7*BJ9)+(BK$7*BK9)+(BL$7*BL9)+(BM$7*BM9)+(BN$7*BN9)+(BO$7*BO9)+(BP$7*BP9)+(BQ$7*BQ9)+(BR$7*BR9))","v":0},null,null,null,{"$f":"IF(OR('Set UP'!$C7=0,'Set UP'!$D7=0,'Set UP'!$E7=0),\"\",(P9+AA9+AL9+AW9+BH9+BS9))","v":37},{"$f":"IF(OR('Set UP'!$C7=0,'Set UP'!$D7=0,'Set UP'!$E7=0),\"\",RANK(BW9,$BW$9:$BW$48,0))","v":18},{"$f":"IF(OR('Set UP'!K7<>1,'Set UP'!C7=0,'Set UP'!D7=0,'Set UP'!E7=0,'Set UP'!F7=0),\"\",$BW9)","v":""},{"$f":"IF(OR('Set UP'!K7<>1,'Set UP'!C7=0,'Set UP'!D7=0,'Set UP'!E7=0,'Set UP'!F7=0),\"\",RANK(BY9,$BY$9:$BY$48,0))","v":""},{"$f":"IF(OR('Set UP'!K7<>2,'Set UP'!C7=0,'Set UP'!D7=0,'Set UP'!E7=0,'Set UP'!F7=0),\"\",$BW9)","v":""},{"$f":"IF(OR('Set UP'!K7<>2,'Set UP'!C7=0,'Set UP'!D7=0,'Set UP'!E7=0,'Set UP'!F7=0),\"\",RANK(CA9,$CA$9:$CA$48,0))","v":""}]
[null,2,{"$f":"IF(OR('Set UP'!$C8=0,'Set UP'!$D8=0,'Set UP'!$E8=0,'Set UP'!F8=0),\"  --\",'Set UP'!C8)","v":483},{"$f":"IF(OR('Set UP'!$C8=0,'Set UP'!$D8=0,'Set UP'!$E8=0,'Set UP'!F8=0),\"  --\",'Set UP'!D8&\" \"&'Set UP'!E8)","v":"University of Cambridge C"},{"$f":"IF(OR('Set UP'!$C8=0,'Set UP'!$D8=0,'Set UP'!$E8=0,'Set UP'!F8=0),\"  --\",'Set UP'!F8)","v":"S"},3,null,null,null,null,null,null,null,null,null,{"$f":"IF(OR('Set UP'!$C8=0,'Set UP'!$D8=0,'Set UP'!$E8=0),\"\",(F$7*F10)+(G$7*G10)+(H$7*H10)+(I$7*I10)+(J$7*J10)+(K$7*K10)+(L$7*L10)+(M$7*M10)+(N$7*N10)+(O$7*O10))","v":9},3,0,0,0,3,0,0,0,null,null,{"$f":"IF(OR('Set UP'!$C8=0,'Set UP'!$D8=0,'Set UP'!$E8=0),\"\",(Q$7*Q10)+(R$7*R10)+(S$7*S10)+(T$7*T10)+(U$7*U10)+(V$7*V10)+(W$7*W10)+(X$7*X10)+(Y$7*Y10)+(Z$7*Z10))","v":6},null,null,null,null,null,null,null,null,null,null,{"$f":"IF(OR('Set UP'!$C8=0,'Set UP'!$D8=0,'Set UP'!$E8=0),\"\",(AB$7*AB10)+(AC$7*AC10)+(AD$7*AD10)+(AE$7*AE10)+(AF$7*AF10)+(AG$7*AG10)+(AH$7*AH10)+(AI$7*AI10)+(AJ$7*AJ10)+(AK$7*AK10))","v":0},null,null,null,null,null,null,null,null,null,null,{"$f":"IF(OR('Set UP'!$C8=0,'Set UP'!$D8=0,'Set UP'!$E8=0),\"\",(AM$7*AM10)+(AN$7*AN10)+(AO$7*AO10)+(AP$7*AP10)+(AQ$7*AQ10)+(AR$7*AR10)+(AS$7*AS10)+(AT$7*AT10)+(AU$7*AU10)+(AV$7*AV10))","v":0},null,null,null,null,null,null,null,null,null,null,{"$f":"IF(OR('Set UP'!$C8=0,'Set UP'!$D8=0,'Set UP'!$E8=0),\"\",(AX$7*AX10)+(AY$7*AY10)+(AZ$7*AZ10)+(BA$7*BA10)+(BB$7*BB10)+(BC$7*BC10)+(BD$7*BD10)+(BE$7*BE10)+(BF$7*BF10)+(BG$7*BG10))","v":0},null,null,null,null,null,null,null,null,null,null,{"$f":"IF(OR('Set UP'!$C8=0,'Set UP'!$D8=0,'Set UP'!$E8=0),\"\",(BI$7*BI10)+(BJ$7*BJ10)+(BK$7*BK10)+(BL$7*BL10)+(BM$7*BM10)+(BN$7*BN10)+(BO$7*BO10)+(BP$7*BP10)+(BQ$7*BQ10)+(BR$7*BR10))","v":0},null,null,null,{"$f":"IF(OR('Set UP'!$C8=0,'Set UP'!$D8=0,'Set UP'!$E8=0),\"\",(P10+AA10+AL10+AW10+BH10+BS10))","v":15},{"$f":"IF(OR('Set UP'!$C8=0,'Set UP'!$D8=0,'Set UP'!$E8=0),\"\",RANK(BW10,$BW$9:$BW$48,0))","v":28},{"$f":"IF(OR('Set UP'!K8<>1,'Set UP'!C8=0,'Set UP'!D8=0,'Set UP'!E8=0,'Set UP'!F8=0),\"\",$BW10)","v":""},{"$f":"IF(OR('Set UP'!K8<>1,'Set UP'!C8=0,'Set UP'!D8=0,'Set UP'!E8=0,'Set UP'!F8=0),\"\",RANK(BY10,$BY$9:$BY$48,0))","v":""},{"$f":"IF(OR('Set UP'!K8<>2,'Set UP'!C8=0,'Set UP'!D8=0,'Set UP'!E8=0,'Set UP'!F8=0),\"\",$BW10)","v":15},{"$f":"IF(OR('Set UP'!K8<>2,'Set UP'!C8=0,'Set UP'!D8=0,'Set UP'!E8=0,'Set UP'!F8=0),\"\",RANK(CA10,$CA$9:$CA$48,0))","v":13}]
[null,3,{"$f":"IF(OR('Set UP'!$C9=0,'Set UP'!$D9=0,'Set UP'!$E9=0,'Set UP'!F9=0),\"  --\",'Set UP'!C9)","v":474},{"$f":"IF(OR('Set UP'!$C9=0,'Set UP'!$D9=0,'Set UP'!$E9=0,'Set UP'!F9=0),\"  --\",'Set UP'!D9&\" \"&'Set UP'!E9)","v":"University of Cambridge B"},{"$f":"IF(OR('Set UP'!$C9=0,'Set UP'!$D9=0,'Set UP'!$E9=0,'Set UP'!F9=0),\"  --\",'Set UP'!F9)","v":"S"},3,null,null,null,null,null,null,null,null,null,{"$f":"IF(OR('Set UP'!$C9=0,'Set UP'!$D9=0,'Set UP'!$E9=0),\"\",(F$7*F11)+(G$7*G11)+(H$7*H11)+(I$7*I11)+(J$7*J11)+(K$7*K11)+(L$7*L11)+(M$7*M11)+(N$7*N11)+(O$7*O11))","v":9},7,7,5,0,5,5,0,0,null,null,{"$f":"IF(OR('Set UP'!$C9=0,'Set UP'!$D9=0,'Set UP'!$E9=0),\"\",(Q$7*Q11)+(R$7*R11)+(S$7*S11)+(T$7*T11)+(U$7*U11)+(V$7*V11)+(W$7*W11)+(X$7*X11)+(Y$7*Y11)+(Z$7*Z11))","v":46},null,null,null,null,null,null,null,null,null,null,{"$f":"IF(OR('Set UP'!$C9=0,'Set UP'!$D9=0,'Set UP'!$E9=0),\"\",(AB$7*AB11)+(AC$7*AC11)+(AD$7*AD11)+(AE$7*AE11)+(AF$7*AF11)+(AG$7*AG11)+(AH$7*AH11)+(AI$7*AI11)+(AJ$7*AJ11)+(AK$7*AK11))","v":0},null,null,null,null,null,null,null,null,null,null,{"$f":"IF(OR('Set UP'!$C9=0,'Set UP'!$D9=0,'Set UP'!$E9=0),\"\",(AM$7*AM11)+(AN$7*AN11)+(AO$7*AO11)+(AP$7*AP11)+(AQ$7*AQ11)+(AR$7*AR11)+(AS$7*AS11)+(AT$7*AT11)+(AU$7*AU11)+(AV$7*AV11))","v":0},null,null,null,null,null,null,null,null,null,null,{"$f":"IF(OR('Set UP'!$C9=0,'Set UP'!$D9=0,'Set UP'!$E9=0),\"\",(AX$7*AX11)+(AY$7*AY11)+(AZ$7*AZ11)+(BA$7*BA11)+(BB$7*BB11)+(BC$7*BC11)+(BD$7*BD11)+(BE$7*BE11)+(BF$7*BF11)+(BG$7*BG11))","v":0},null,null,null,null,null,null,null,null,null,null,{"$f":"IF(OR('Set UP'!$C9=0,'Set UP'!$D9=0,'Set UP'!$E9=0),\"\",(BI$7*BI11)+(BJ$7*BJ11)+(BK$7*BK11)+(BL$7*BL11)+(BM$7*BM11)+(BN$7*BN11)+(BO$7*BO11)+(BP$7*BP11)+(BQ$7*BQ11)+(BR$7*BR11))","v":0},null,null,null,{"$f":"IF(OR('Set UP'!$C9=0,'Set UP'!$D9=0,'Set UP'!$E9=0),\"\",(P11+AA11+AL11+AW11+BH11+BS11))","v":55},{"$f":"IF(OR('Set UP'!$C9=0,'Set UP'!$D9=0,'Set UP'!$E9=0),\"\",RANK(BW11,$BW$9:$BW$48,0))","v":5},{"$f":"IF(OR('Set UP'!K9<>1,'Set UP'!C9=0,'Set UP'!D9=0,'Set UP'!E9=0,'Set UP'!F9=0),\"\",$BW11)","v":""},{"$f":"IF(OR('Set UP'!K9<>1,'Set UP'!C9=0,'Set UP'!D9=0,'Set UP'!E9=0,'Set UP'!F9=0),\"\",RANK(BY11,$BY$9:$BY$48,0))","v":""},{"$f":"IF(OR('Set UP'!K9<>2,'Set UP'!C9=0,'Set UP'!D9=0,'Set UP'!E9=0,'Set UP'!F9=0),\"\",$BW11)","v":55},{"$f":"IF(OR('Set UP'!K9<>2,'Set UP'!C9=0,'Set UP'!D9=0,'Set UP'!E9=0,'Set UP'!F9=0),\"\",RANK(CA11,$CA$9:$CA$48,0))","v":2}]
[null,4,{"$f":"IF(OR('Set UP'!$C10=0,'Set UP'!$D10=0,'Set UP'!$E10=0,'Set UP'!F10=0),\"  --\",'Set UP'!C10)","v":513},{"$f":"IF(OR('Set UP'!$C10=0,'Set UP'!$D10=0,'Set UP'!$E10=0,'Set UP'!F10=0),\"  --\",'Set UP'!D10&\" \"&'Set UP'!E10)","v":"University of Warwick D"},{"$f":"IF(OR('Set UP'!$C10=0,'Set UP'!$D10=0,'Set UP'!$E10=0,'Set UP'!F10=0),\"  --\",'Set UP'!F10)","v":"S"},null,null,null,null,null,null,null,null,null,null,{"$f":"IF(OR('Set UP'!$C10=0,'Set UP'!$D10=0,'Set UP'!$E10=0),\"\",(F$7*F12)+(G$7*G12)+(H$7*H12)+(I$7*I12)+(J$7*J12)+(K$7*K12)+(L$7*L12)+(M$7*M12)+(N$7*N12)+(O$7*O12))","v":0},null,null,null,null,null,null,null,null,null,null,{"$f":"IF(OR('Set UP'!$C10=0,'Set UP'!$D10=0,'Set UP'!$E10=0),\"\",(Q$7*Q12)+(R$7*R12)+(S$7*S12)+(T$7*T12)+(U$7*U12)+(V$7*V12)+(W$7*W12)+(X$7*X12)+(Y$7*Y12)+(Z$7*Z12))","v":0},null,null,null,null,null,null,null,null,null,null,{"$f":"IF(OR('Set UP'!$C10=0,'Set UP'!$D10=0,'Set UP'!$E10=0),\"\",(AB$7*AB12)+(AC$7*AC12)+(AD$7*AD12)+(AE$7*AE12)+(AF$7*AF12)+(AG$7*AG12)+(AH$7*AH12)+(AI$7*AI12)+(AJ$7*AJ12)+(AK$7*AK12))","v":0},null,null,null,null,null,null,null,null,null,null,{"$f":"IF(OR('Set UP'!$C10=0,'Set UP'!$D10=0,'Set UP'!$E10=0),\"\",(AM$7*AM12)+(AN$7*AN12)+(AO$7*AO12)+(AP$7*AP12)+(AQ$7*AQ12)+(AR$7*AR12)+(AS$7*AS12)+(AT$7*AT12)+(AU$7*AU12)+(AV$7*AV12))","v":0},null,null,null,null,null,null,null,null,null,null,{"$f":"IF(OR('Set UP'!$C10=0,'Set UP'!$D10=0,'Set UP'!$E10=0),\"\",(AX$7*AX12)+(AY$7*AY12)+(AZ$7*AZ12)+(BA$7*BA12)+(BB$7*BB12)+(BC$7*BC12)+(BD$7*BD12)+(BE$7*BE12)+(BF$7*BF12)+(BG$7*BG12))","v":0},null,null,null,null,null,null,null,null,null,null,{"$f":"IF(OR('Set UP'!$C10=0,'Set UP'!$D10=0,'Set UP'!$E10=0),\"\",(BI$7*BI12)+(BJ$7*BJ12)+(BK$7*BK12)+(BL$7*BL12)+(BM$7*BM12)+(BN$7*BN12)+(BO$7*BO12)+(BP$7*BP12)+(BQ$7*BQ12)+(BR$7*BR12))","v":0},null,null,null,{"$f":"IF(OR('Set UP'!$C10=0,'Set UP'!$D10=0,'Set UP'!$E10=0),\"\",(P12+AA12+AL12+AW12+BH12+BS12))","v":0},{"$f":"IF(OR('Set UP'!$C10=0,'Set UP'!$D10=0,'Set UP'!$E10=0),\"\",RANK(BW12,$BW$9:$BW$48,0))","v":31},{"$f":"IF(OR('Set UP'!K10<>1,'Set UP'!C10=0,'Set UP'!D10=0,'Set UP'!E10=0,'Set UP'!F10=0),\"\",$BW12)","v":""},{"$f":"IF(OR('Set UP'!K10<>1,'Set UP'!C10=0,'Set UP'!D10=0,'Set UP'!E10=0,'Set UP'!F10=0),\"\",RANK(BY12,$BY$9:$BY$48,0))","v":""},{"$f":"IF(OR('Set UP'!K10<>2,'Set UP'!C10=0,'Set UP'!D10=0,'Set UP'!E10=0,'Set UP'!F10=0),\"\",$BW12)","v":0},{"$f":"IF(OR('Set UP'!K10<>2,'Set UP'!C10=0,'Set UP'!D10=0,'Set UP'!E10=0,'Set UP'!F10=0),\"\",RANK(CA12,$CA$9:$CA$48,0))","v":15}]
[null,5,{"$f":"IF(OR('Set UP'!$C11=0,'Set UP'!$D11=0,'Set UP'!$E11=0,'Set UP'!F11=0),\"  --\",'Set UP'!C11)","v":499},{"$f":"IF(OR('Set UP'!$C11=0,'Set UP'!$D11=0,'Set UP'!$E11=0,'Set UP'!F11=0),\"  --\",'Set UP'!D11&\" \"&'Set UP'!E11)","v":"University of St Andrews B"},{"$f":"IF(OR('Set UP'!$C11=0,'Set UP'!$D11=0,'Set UP'!$E11=0,'Set UP'!F11=0),\"  --\",'Set UP'!F11)","v":"NC"},null,null,null,null,null,null,null,null,null,null,{"$f":"IF(OR('Set UP'!$C11=0,'Set UP'!$D11=0,'Set UP'!$E11=0),\"\",(F$7*F13)+(G$7*G13)+(H$7*H13)+(I$7*I13)+(J$7*J13)+(K$7*K13)+(L$7*L13)+(M$7*M13)+(N$7*N13)+(O$7*O13))","v":0},null,null,null,null,null,null,null,null,null,null,{"$f":"IF(OR('Set UP'!$C11=0,'Set UP'!$D11=0,'Set UP'!$E11=0),\"\",(Q$7*Q13)+(R$7*R13)+(S$7*S13)+(T$7*T13)+(U$7*U13)+(V$7*V13)+(W$7*W13)+(X$7*X13)+(Y$7*Y13)+(Z$7*Z13))","v":0},null,null,null,null,null,null,null,null,null,null,{"$f":"IF(OR('Set UP'!$C11=0,'Set UP'!$D11=0,'Set UP'!$E11=0),\"\",(AB$7*AB13)+(AC$7*AC13)+(AD$7*AD13)+(AE$7*AE13)+(AF$7*AF13)+(AG$7*AG13)+(AH$7*AH13)+(AI$7*AI13)+(AJ$7*AJ13)+(AK$7*AK13))","v":0},null,null,null,null,null,null,null,null,null,null,{"$f":"IF(OR('Set UP'!$C11=0,'Set UP'!$D11=0,'Set UP'!$E11=0),\"\",(AM$7*AM13)+(AN$7*AN13)+(AO$7*AO13)+(AP$7*AP13)+(AQ$7*AQ13)+(AR$7*AR13)+(AS$7*AS13)+(AT$7*AT13)+(AU$7*AU13)+(AV$7*AV13))","v":0},null,null,null,null,null,null,null,null,null,null,{"$f":"IF(OR('Set UP'!$C11=0,'Set UP'!$D11=0,'Set UP'!$E11=0),\"\",(AX$7*AX13)+(AY$7*AY13)+(AZ$7*AZ13)+(BA$7*BA13)+(BB$7*BB13)+(BC$7*BC13)+(BD$7*BD13)+(BE$7*BE13)+(BF$7*BF13)+(BG$7*BG13))","v":0},null,null,null,null,null,null,null,null,null,null,{"$f":"IF(OR('Set UP'!$C11=0,'Set UP'!$D11=0,'Set UP'!$E11=0),\"\",(BI$7*BI13)+(BJ$7*BJ13)+(BK$7*BK13)+(BL$7*BL13)+(BM$7*BM13)+(BN$7*BN13)+(BO$7*BO13)+(BP$7*BP13)+(BQ$7*BQ13)+(BR$7*BR13))","v":0},null,null,null,{"$f":"IF(OR('Set UP'!$C11=0,'Set UP'!$D11=0,'Set UP'!$E11=0),\"\",(P13+AA13+AL13+AW13+BH13+BS13))","v":0},{"$f":"IF(OR('Set UP'!$C11=0,'Set UP'!$D11=0,'Set UP'!$E11=0),\"\",RANK(BW13,$BW$9:$BW$48,0))","v":31},{"$f":"IF(OR('Set UP'!K11<>1,'Set UP'!C11=0,'Set UP'!D11=0,'Set UP'!E11=0,'Set UP'!F11=0),\"\",$BW13)","v":""},{"$f":"IF(OR('Set UP'!K11<>1,'Set UP'!C11=0,'Set UP'!D11=0,'Set UP'!E11=0,'Set UP'!F11=0),\"\",RANK(BY13,$BY$9:$BY$48,0))","v":""},{"$f":"IF(OR('Set UP'!K11<>2,'Set UP'!C11=0,'Set UP'!D11=0,'Set UP'!E11=0,'Set UP'!F11=0),\"\",$BW13)","v":""},{"$f":"IF(OR('Set UP'!K11<>2,'Set UP'!C11=0,'Set UP'!D11=0,'Set UP'!E11=0,'Set UP'!F11=0),\"\",RANK(CA13,$CA$9:$CA$48,0))","v":""}]
[null,6,{"$f":"IF(OR('Set UP'!$C12=0,'Set UP'!$D12=0,'Set UP'!$E12=0,'Set UP'!F12=0),\"  --\",'Set UP'!C12)","v":507},{"$f":"IF(OR('Set UP'!$C12=0,'Set UP'!$D12=0,'Set UP'!$E12=0,'Set UP'!F12=0),\"  --\",'Set UP'!D12&\" \"&'Set UP'!E12)","v":"University of Plymouth C"},{"$f":"IF(OR('Set UP'!$C12=0,'Set UP'!$D12=0,'Set UP'!$E12=0,'Set UP'!F12=0),\"  --\",'Set UP'!F12)","v":"S"},3,null,null,null,null,null,null,null,null,null,{"$f":"IF(OR('Set UP'!$C12=0,'Set UP'!$D12=0,'Set UP'!$E12=0),\"\",(F$7*F14)+(G$7*G14)+(H$7*H14)+(I$7*I14)+(J$7*J14)+(K$7*K14)+(L$7*L14)+(M$7*M14)+(N$7*N14)+(O$7*O14))","v":9},4,0,0,0,4,0,0,0,null,null,{"$f":"IF(OR('Set UP'!$C12=0,'Set UP'!$D12=0,'Set UP'!$E12=0),\"\",(Q$7*Q14)+(R$7*R14)+(S$7*S14)+(T$7*T14)+(U$7*U14)+(V$7*V14)+(W$7*W14)+(X$7*X14)+(Y$7*Y14)+(Z$7*Z14))","v":8},null,null,null,null,null,null,null,null,null,null,{"$f":"IF(OR('Set UP'!$C12=0,'Set UP'!$D12=0,'Set UP'!$E12=0),\"\",(AB$7*AB14)+(AC$7*AC14)+(AD$7*AD14)+(AE$7*AE14)+(AF$7*AF14)+(AG$7*AG14)+(AH$7*AH14)+(AI$7*AI14)+(AJ$7*AJ14)+(AK$7*AK14))","v":0},null,null,null,null,null,null,null,null,null,null,{"$f":"IF(OR('Set UP'!$C12=0,'Set UP'!$D12=0,'Set UP'!$E12=0),\"\",(AM$7*AM14)+(AN$7*AN14)+(AO$7*AO14)+(AP$7*AP14)+(AQ$7*AQ14)+(AR$7*AR14)+(AS$7*AS14)+(AT$7*AT14)+(AU$7*AU14)+(AV$7*AV14))","v":0},null,null,null,null,null,null,null,null,null,null,{"$f":"IF(OR('Set UP'!$C12=0,'Set UP'!$D12=0,'Set UP'!$E12=0),\"\",(AX$7*AX14)+(AY$7*AY14)+(AZ$7*AZ14)+(BA$7*BA14)+(BB$7*BB14)+(BC$7*BC14)+(BD$7*BD14)+(BE$7*BE14)+(BF$7*BF14)+(BG$7*BG14))","v":0},null,null,null,null,null,null,null,null,null,null,{"$f":"IF(OR('Set UP'!$C12=0,'Set UP'!$D12=0,'Set UP'!$E12=0),\"\",(BI$7*BI14)+(BJ$7*BJ14)+(BK$7*BK14)+(BL$7*BL14)+(BM$7*BM14)+(BN$7*BN14)+(BO$7*BO14)+(BP$7*BP14)+(BQ$7*BQ14)+(BR$7*BR14))","v":0},null,null,null,{"$f":"IF(OR('Set UP'!$C12=0,'Set UP'!$D12=0,'Set UP'!$E12=0),\"\",(P14+AA14+AL14+AW14+BH14+BS14))","v":17},{"$f":"IF(OR('Set UP'!$C12=0,'Set UP'!$D12=0,'Set UP'!$E12=0),\"\",RANK(BW14,$BW$9:$BW$48,0))","v":26},{"$f":"IF(OR('Set UP'!K12<>1,'Set UP'!C12=0,'Set UP'!D12=0,'Set UP'!E12=0,'Set UP'!F12=0),\"\",$BW14)","v":""},{"$f":"IF(OR('Set UP'!K12<>1,'Set UP'!C12=0,'Set UP'!D12=0,'Set UP'!E12=0,'Set UP'!F12=0),\"\",RANK(BY14,$BY$9:$BY$48,0))","v":""},{"$f":"IF(OR('Set UP'!K12<>2,'Set UP'!C12=0,'Set UP'!D12=0,'Set UP'!E12=0,'Set UP'!F12=0),\"\",$BW14)","v":17},{"$f":"IF(OR('Set UP'!K12<>2,'Set UP'!C12=0,'Set UP'!D12=0,'Set UP'!E12=0,'Set UP'!F12=0),\"\",RANK(CA14,$CA$9:$CA$48,0))","v":12}]
[null,7,{"$f":"IF(OR('Set UP'!$C13=0,'Set UP'!$D13=0,'Set UP'!$E13=0,'Set UP'!F13=0),\"  --\",'Set UP'!C13)","v":519},{"$f":"IF(OR('Set UP'!$C13=0,'Set UP'!$D13=0,'Set UP'!$E13=0,'Set UP'!F13=0),\"  --\",'Set UP'!D13&\" \"&'Set UP'!E13)","v":"University of Aberdeen B"},{"$f":"IF(OR('Set UP'!$C13=0,'Set UP'!$D13=0,'Set UP'!$E13=0,'Set UP'!F13=0),\"  --\",'Set UP'!F13)","v":"NC"},2,null,null,null,null,null,null,null,null,null,{"$f":"IF(OR('Set UP'!$C13=0,'Set UP'!$D13=0,'Set UP'!$E13=0),\"\",(F$7*F15)+(G$7*G15)+(H$7*H15)+(I$7*I15)+(J$7*J15)+(K$7*K15)+(L$7*L15)+(M$7*M15)+(N$7*N15)+(O$7*O15))","v":6},6,4,3,0,7,6,0,0,null,null,{"$f":"IF(OR('Set UP'!$C13=0,'Set UP'!$D13=0,'Set UP'!$E13=0),\"\",(Q$7*Q15)+(R$7*R15)+(S$7*S15)+(T$7*T15)+(U$7*U15)+(V$7*V15)+(W$7*W15)+(X$7*X15)+(Y$7*Y15)+(Z$7*Z15))","v":39},null,null,null,null,null,null,null,null,null,null,{"$f":"IF(OR('Set UP'!$C13=0,'Set UP'!$D13=0,'Set UP'!$E13=0),\"\",(AB$7*AB15)+(AC$7*AC15)+(AD$7*AD15)+(AE$7*AE15)+(AF$7*AF15)+(AG$7*AG15)+(AH$7*AH15)+(AI$7*AI15)+(AJ$7*AJ15)+(AK$7*AK15))","v":0},null,null,null,null,null,null,null,null,null,null,{"$f":"IF(OR('Set UP'!$C13=0,'Set UP'!$D13=0,'Set UP'!$E13=0),\"\",(AM$7*AM15)+(AN$7*AN15)+(AO$7*AO15)+(AP$7*AP15)+(AQ$7*AQ15)+(AR$7*AR15)+(AS$7*AS15)+(AT$7*AT15)+(AU$7*AU15)+(AV$7*AV15))","v":0},null,null,null,null,null,null,null,null,null,null,{"$f":"IF(OR('Set UP'!$C13=0,'Set UP'!$D13=0,'Set UP'!$E13=0),\"\",(AX$7*AX15)+(AY$7*AY15)+(AZ$7*AZ15)+(BA$7*BA15)+(BB$7*BB15)+(BC$7*BC15)+(BD$7*BD15)+(BE$7*BE15)+(BF$7*BF15)+(BG$7*BG15))","v":0},null,null,null,null,null,null,null,null,null,null,{"$f":"IF(OR('Set UP'!$C13=0,'Set UP'!$D13=0,'Set UP'!$E13=0),\"\",(BI$7*BI15)+(BJ$7*BJ15)+(BK$7*BK15)+(BL$7*BL15)+(BM$7*BM15)+(BN$7*BN15)+(BO$7*BO15)+(BP$7*BP15)+(BQ$7*BQ15)+(BR$7*BR15))","v":0},null,null,null,{"$f":"IF(OR('Set UP'!$C13=0,'Set UP'!$D13=0,'Set UP'!$E13=0),\"\",(P15+AA15+AL15+AW15+BH15+BS15))","v":45},{"$f":"IF(OR('Set UP'!$C13=0,'Set UP'!$D13=0,'Set UP'!$E13=0),\"\",RANK(BW15,$BW$9:$BW$48,0))","v":11},{"$f":"IF(OR('Set UP'!K13<>1,'Set UP'!C13=0,'Set UP'!D13=0,'Set UP'!E13=0,'Set UP'!F13=0),\"\",$BW15)","v":""},{"$f":"IF(OR('Set UP'!K13<>1,'Set UP'!C13=0,'Set UP'!D13=0,'Set UP'!E13=0,'Set UP'!F13=0),\"\",RANK(BY15,$BY$9:$BY$48,0))","v":""},{"$f":"IF(OR('Set UP'!K13<>2,'Set UP'!C13=0,'Set UP'!D13=0,'Set UP'!E13=0,'Set UP'!F13=0),\"\",$BW15)","v":""},{"$f":"IF(OR('Set UP'!K13<>2,'Set UP'!C13=0,'Set UP'!D13=0,'Set UP'!E13=0,'Set UP'!F13=0),\"\",RANK(CA15,$CA$9:$CA$48,0))","v":""}]
[null,8,{"$f":"IF(OR('Set UP'!$C14=0,'Set UP'!$D14=0,'Set UP'!$E14=0,'Set UP'!F14=0),\"  --\",'Set UP'!C14)","v":532},{"$f":"IF(OR('Set UP'!$C14=0,'Set UP'!$D14=0,'Set UP'!$E14=0,'Set UP'!F14=0),\"  --\",'Set UP'!D14&\" \"&'Set UP'!E14)","v":"University of London Union E"},{"$f":"IF(OR('Set UP'!$C14=0,'Set UP'!$D14=0,'Set UP'!$E14=0,'Set UP'!F14=0),\"  --\",'Set UP'!F14)","v":"S"},4,null,null,null,null,null,null,null,null,null,{"$f":"IF(OR('Set UP'!$C14=0,'Set UP'!$D14=0,'Set UP'!$E14=0),\"\",(F$7*F16)+(G$7*G16)+(H$7*H16)+(I$7*I16)+(J$7*J16)+(K$7*K16)+(L$7*L16)+(M$7*M16)+(N$7*N16)+(O$7*O16))","v":12},5,2,6,0,5,4,0,0,null,null,{"$f":"IF(OR('Set UP'!$C14=0,'Set UP'!$D14=0,'Set UP'!$E14=0),\"\",(Q$7*Q16)+(R$7*R16)+(S$7*S16)+(T$7*T16)+(U$7*U16)+(V$7*V16)+(W$7*W16)+(X$7*X16)+(Y$7*Y16)+(Z$7*Z16))","v":34},null,null,null,null,null,null,null,null,null,null,{"$f":"IF(OR('Set UP'!$C14=0,'Set UP'!$D14=0,'Set UP'!$E14=0),\"\",(AB$7*AB16)+(AC$7*AC16)+(AD$7*AD16)+(AE$7*AE16)+(AF$7*AF16)+(AG$7*AG16)+(AH$7*AH16)+(AI$7*AI16)+(AJ$7*AJ16)+(AK$7*AK16))","v":0},null,null,null,null,null,null,null,null,null,null,{"$f":"IF(OR('Set UP'!$C14=0,'Set UP'!$D14=0,'Set UP'!$E14=0),\"\",(AM$7*AM16)+(AN$7*AN16)+(AO$7*AO16)+(AP$7*AP16)+(AQ$7*AQ16)+(AR$7*AR16)+(AS$7*AS16)+(AT$7*AT16)+(AU$7*AU16)+(AV$7*AV16))","v":0},null,null,null,null,null,null,null,null,null,null,{"$f":"IF(OR('Set UP'!$C14=0,'Set UP'!$D14=0,'Set UP'!$E14=0),\"\",(AX$7*AX16)+(AY$7*AY16)+(AZ$7*AZ16)+(BA$7*BA16)+(BB$7*BB16)+(BC$7*BC16)+(BD$7*BD16)+(BE$7*BE16)+(BF$7*BF16)+(BG$7*BG16))","v":0},null,null,null,null,null,null,null,null,null,null,{"$f":"IF(OR('Set UP'!$C14=0,'Set UP'!$D14=0,'Set UP'!$E14=0),\"\",(BI$7*BI16)+(BJ$7*BJ16)+(BK$7*BK16)+(BL$7*BL16)+(BM$7*BM16)+(BN$7*BN16)+(BO$7*BO16)+(BP$7*BP16)+(BQ$7*BQ16)+(BR$7*BR16))","v":0},null,null,null,{"$f":"IF(OR('Set UP'!$C14=0,'Set UP'!$D14=0,'Set UP'!$E14=0),\"\",(P16+AA16+AL16+AW16+BH16+BS16))","v":46},{"$f":"IF(OR('Set UP'!$C14=0,'Set UP'!$D14=0,'Set UP'!$E14=0),\"\",RANK(BW16,$BW$9:$BW$48,0))","v":9},{"$f":"IF(OR('Set UP'!K14<>1,'Set UP'!C14=0,'Set UP'!D14=0,'Set UP'!E14=0,'Set UP'!F14=0),\"\",$BW16)","v":""},{"$f":"IF(OR('Set UP'!K14<>1,'Set UP'!C14=0,'Set UP'!D14=0,'Set UP'!E14=0,'Set UP'!F14=0),\"\",RANK(BY16,$BY$9:$BY$48,0))","v":""},{"$f":"IF(OR('Set UP'!K14<>2,'Set UP'!C14=0,'Set UP'!D14=0,'Set UP'!E14=0,'Set UP'!F14=0),\"\",$BW16)","v":46},{"$f":"IF(OR('Set UP'!K14<>2,'Set UP'!C14=0,'Set UP'!D14=0,'Set UP'!E14=0,'Set UP'!F14=0),\"\",RANK(CA16,$CA$9:$CA$48,0))","v":5}]
[null,9,{"$f":"IF(OR('Set UP'!$C15=0,'Set UP'!$D15=0,'Set UP'!$E15=0,'Set UP'!F15=0),\"  --\",'Set UP'!C15)","v":530},{"$f":"IF(OR('Set UP'!$C15=0,'Set UP'!$D15=0,'Set UP'!$E15=0,'Set UP'!F15=0),\"  --\",'Set UP'!D15&\" \"&'Set UP'!E15)","v":"University of London Union C"},{"$f":"IF(OR('Set UP'!$C15=0,'Set UP'!$D15=0,'Set UP'!$E15=0,'Set UP'!F15=0),\"  --\",'Set UP'!F15)","v":"S"},2,null,null,null,null,null,null,null,null,null,{"$f":"IF(OR('Set UP'!$C15=0,'Set UP'!$D15=0,'Set UP'!$E15=0),\"\",(F$7*F17)+(G$7*G17)+(H$7*H17)+(I$7*I17)+(J$7*J17)+(K$7*K17)+(L$7*L17)+(M$7*M17)+(N$7*N17)+(O$7*O17))","v":6},1,1,0,0,2,0,0,0,null,null,{"$f":"IF(OR('Set UP'!$C15=0,'Set UP'!$D15=0,'Set UP'!$E15=0),\"\",(Q$7*Q17)+(R$7*R17)+(S$7*S17)+(T$7*T17)+(U$7*U17)+(V$7*V17)+(W$7*W17)+(X$7*X17)+(Y$7*Y17)+(Z$7*Z17))","v":5},null,null,null,null,null,null,null,null,null,null,{"$f":"IF(OR('Set UP'!$C15=0,'Set UP'!$D15=0,'Set UP'!$E15=0),\"\",(AB$7*AB17)+(AC$7*AC17)+(AD$7*AD17)+(AE$7*AE17)+(AF$7*AF17)+(AG$7*AG17)+(AH$7*AH17)+(AI$7*AI17)+(AJ$7*AJ17)+(AK$7*AK17))","v":0},null,null,null,null,null,null,null,null,null,null,{"$f":"IF(OR('Set UP'!$C15=0,'Set UP'!$D15=0,'Set UP'!$E15=0),\"\",(AM$7*AM17)+(AN$7*AN17)+(AO$7*AO17)+(AP$7*AP17)+(AQ$7*AQ17)+(AR$7*AR17)+(AS$7*AS17)+(AT$7*AT17)+(AU$7*AU17)+(AV$7*AV17))","v":0},null,null,null,null,null,null,null,null,null,null,{"$f":"IF(OR('Set UP'!$C15=0,'Set UP'!$D15=0,'Set UP'!$E15=0),\"\",(AX$7*AX17)+(AY$7*AY17)+(AZ$7*AZ17)+(BA$7*BA17)+(BB$7*BB17)+(BC$7*BC17)+(BD$7*BD17)+(BE$7*BE17)+(BF$7*BF17)+(BG$7*BG17))","v":0},null,null,null,null,null,null,null,null,null,null,{"$f":"IF(OR('Set UP'!$C15=0,'Set UP'!$D15=0,'Set UP'!$E15=0),\"\",(BI$7*BI17)+(BJ$7*BJ17)+(BK$7*BK17)+(BL$7*BL17)+(BM$7*BM17)+(BN$7*BN17)+(BO$7*BO17)+(BP$7*BP17)+(BQ$7*BQ17)+(BR$7*BR17))","v":0},null,null,null,{"$f":"IF(OR('Set UP'!$C15=0,'Set UP'!$D15=0,'Set UP'!$E15=0),\"\",(P17+AA17+AL17+AW17+BH17+BS17))","v":11},{"$f":"IF(OR('Set UP'!$C15=0,'Set UP'!$D15=0,'Set UP'!$E15=0),\"\",RANK(BW17,$BW$9:$BW$48,0))","v":29},{"$f":"IF(OR('Set UP'!K15<>1,'Set UP'!C15=0,'Set UP'!D15=0,'Set UP'!E15=0,'Set UP'!F15=0),\"\",$BW17)","v":""},{"$f":"IF(OR('Set UP'!K15<>1,'Set UP'!C15=0,'Set UP'!D15=0,'Set UP'!E15=0,'Set UP'!F15=0),\"\",RANK(BY17,$BY$9:$BY$48,0))","v":""},{"$f":"IF(OR('Set UP'!K15<>2,'Set UP'!C15=0,'Set UP'!D15=0,'Set UP'!E15=0,'Set UP'!F15=0),\"\",$BW17)","v":11},{"$f":"IF(OR('Set UP'!K15<>2,'Set UP'!C15=0,'Set UP'!D15=0,'Set UP'!E15=0,'Set UP'!F15=0),\"\",RANK(CA17,$CA$9:$CA$48,0))","v":14}]
[null,10,{"$f":"IF(OR('Set UP'!$C16=0,'Set UP'!$D16=0,'Set UP'!$E16=0,'Set UP'!F16=0),\"  --\",'Set UP'!C16)","v":506},{"$f":"IF(OR('Set UP'!$C16=0,'Set UP'!$D16=0,'Set UP'!$E16=0,'Set UP'!F16=0),\"  --\",'Set UP'!D16&\" \"&'Set UP'!E16)","v":"University of Plymouth B"},{"$f":"IF(OR('Set UP'!$C16=0,'Set UP'!$D16=0,'Set UP'!$E16=0,'Set UP'!F16=0),\"  --\",'Set UP'!F16)","v":"S"},4,null,null,null,null,null,null,null,null,null,{"$f":"IF(OR('Set UP'!$C16=0,'Set UP'!$D16=0,'Set UP'!$E16=0),\"\",(F$7*F18)+(G$7*G18)+(H$7*H18)+(I$7*I18)+(J$7*J18)+(K$7*K18)+(L$7*L18)+(M$7*M18)+(N$7*N18)+(O$7*O18))","v":12},5,1,0,0,4,0,0,0,null,null,{"$f":"IF(OR('Set UP'!$C16=0,'Set UP'!$D16=0,'Set UP'!$E16=0),\"\",(Q$7*Q18)+(R$7*R18)+(S$7*S18)+(T$7*T18)+(U$7*U18)+(V$7*V18)+(W$7*W18)+(X$7*X18)+(Y$7*Y18)+(Z$7*Z18))","v":11},null,null,null,null,null,null,null,null,null,null,{"$f":"IF(OR('Set UP'!$C16=0,'Set UP'!$D16=0,'Set UP'!$E16=0),\"\",(AB$7*AB18)+(AC$7*AC18)+(AD$7*AD18)+(AE$7*AE18)+(AF$7*AF18)+(AG$7*AG18)+(AH$7*AH18)+(AI$7*AI18)+(AJ$7*AJ18)+(AK$7*AK18))","v":0},null,null,null,null,null,null,null,null,null,null,{"$f":"IF(OR('Set UP'!$C16=0,'Set UP'!$D16=0,'Set UP'!$E16=0),\"\",(AM$7*AM18)+(AN$7*AN18)+(AO$7*AO18)+(AP$7*AP18)+(AQ$7*AQ18)+(AR$7*AR18)+(AS$7*AS18)+(AT$7*AT18)+(AU$7*AU18)+(AV$7*AV18))","v":0},null,null,null,null,null,null,null,null,null,null,{"$f":"IF(OR('Set UP'!$C16=0,'Set UP'!$D16=0,'Set UP'!$E16=0),\"\",(AX$7*AX18)+(AY$7*AY18)+(AZ$7*AZ18)+(BA$7*BA18)+(BB$7*BB18)+(BC$7*BC18)+(BD$7*BD18)+(BE$7*BE18)+(BF$7*BF18)+(BG$7*BG18))","v":0},null,null,null,null,null,null,null,null,null,null,{"$f":"IF(OR('Set UP'!$C16=0,'Set UP'!$D16=0,'Set UP'!$E16=0),\"\",(BI$7*BI18)+(BJ$7*BJ18)+(BK$7*BK18)+(BL$7*BL18)+(BM$7*BM18)+(BN$7*BN18)+(BO$7*BO18)+(BP$7*BP18)+(BQ$7*BQ18)+(BR$7*BR18))","v":0},null,null,null,{"$f":"IF(OR('Set UP'!$C16=0,'Set UP'!$D16=0,'Set UP'!$E16=0),\"\",(P18+AA18+AL18+AW18+BH18+BS18))","v":23},{"$f":"IF(OR('Set UP'!$C16=0,'Set UP'!$D16=0,'Set UP'!$E16=0),\"\",RANK(BW18,$BW$9:$BW$48,0))","v":24},{"$f":"IF(OR('Set UP'!K16<>1,'Set UP'!C16=0,'Set UP'!D16=0,'Set UP'!E16=0,'Set UP'!F16=0),\"\",$BW18)","v":""},{"$f":"IF(OR('Set UP'!K16<>1,'Set UP'!C16=0,'Set UP'!D16=0,'Set UP'!E16=0,'Set UP'!F16=0),\"\",RANK(BY18,$BY$9:$BY$48,0))","v":""},{"$f":"IF(OR('Set UP'!K16<>2,'Set UP'!C16=0,'Set UP'!D16=0,'Set UP'!E16=0,'Set UP'!F16=0),\"\",$BW18)","v":23},{"$f":"IF(OR('Set UP'!K16<>2,'Set UP'!C16=0,'Set UP'!D16=0,'Set UP'!E16=0,'Set UP'!F16=0),\"\",RANK(CA18,$CA$9:$CA$48,0))","v":10}]
[null,11,{"$f":"IF(OR('Set UP'!$C17=0,'Set UP'!$D17=0,'Set UP'!$E17=0,'Set UP'!F17=0),\"  --\",'Set UP'!C17)","v":518},{"$f":"IF(OR('Set UP'!$C17=0,'Set UP'!$D17=0,'Set UP'!$E17=0,'Set UP'!F17=0),\"  --\",'Set UP'!D17&\" \"&'Set UP'!E17)","v":"University of Aberdeen A"},{"$f":"IF(OR('Set UP'!$C17=0,'Set UP'!$D17=0,'Set UP'!$E17=0,'Set UP'!F17=0),\"  --\",'Set UP'!F17)","v":"S"},4,null,null,null,null,null,null,null,null,null,{"$f":"IF(OR('Set UP'!$C17=0,'Set UP'!$D17=0,'Set UP'!$E17=0),\"\",(F$7*F19)+(G$7*G19)+(H$7*H19)+(I$7*I19)+(J$7*J19)+(K$7*K19)+(L$7*L19)+(M$7*M19)+(N$7*N19)+(O$7*O19))","v":12},5,1,0,0,5,0,0,0,null,null,{"$f":"IF(OR('Set UP'!$C17=0,'Set UP'!$D17=0,'Set UP'!$E17=0),\"\",(Q$7*Q19)+(R$7*R19)+(S$7*S19)+(T$7*T19)+(U$7*U19)+(V$7*V19)+(W$7*W19)+(X$7*X19)+(Y$7*Y19)+(Z$7*Z19))","v":12},null,null,null,null,null,null,null,null,null,null,{"$f":"IF(OR('Set UP'!$C17=0,'Set UP'!$D17=0,'Set UP'!$E17=0),\"\",(AB$7*AB19)+(AC$7*AC19)+(AD$7*AD19)+(AE$7*AE19)+(AF$7*AF19)+(AG$7*AG19)+(AH$7*AH19)+(AI$7*AI19)+(AJ$7*AJ19)+(AK$7*AK19))","v":0},null,null,null,null,null,null,null,null,null,null,{"$f":"IF(OR('Set UP'!$C17=0,'Set UP'!$D17=0,'Set UP'!$E17=0),\"\",(AM$7*AM19)+(AN$7*AN19)+(AO$7*AO19)+(AP$7*AP19)+(AQ$7*AQ19)+(AR$7*AR19)+(AS$7*AS19)+(AT$7*AT19)+(AU$7*AU19)+(AV$7*AV19))","v":0},null,null,null,null,null,null,null,null,null,null,{"$f":"IF(OR('Set UP'!$C17=0,'Set UP'!$D17=0,'Set UP'!$E17=0),\"\",(AX$7*AX19)+(AY$7*AY19)+(AZ$7*AZ19)+(BA$7*BA19)+(BB$7*BB19)+(BC$7*BC19)+(BD$7*BD19)+(BE$7*BE19)+(BF$7*BF19)+(BG$7*BG19))","v":0},null,null,null,null,null,null,null,null,null,null,{"$f":"IF(OR('Set UP'!$C17=0,'Set UP'!$D17=0,'Set UP'!$E17=0),\"\",(BI$7*BI19)+(BJ$7*BJ19)+(BK$7*BK19)+(BL$7*BL19)+(BM$7*BM19)+(BN$7*BN19)+(BO$7*BO19)+(BP$7*BP19)+(BQ$7*BQ19)+(BR$7*BR19))","v":0},null,null,null,{"$f":"IF(OR('Set UP'!$C17=0,'Set UP'!$D17=0,'Set UP'!$E17=0),\"\",(P19+AA19+AL19+AW19+BH19+BS19))","v":24},{"$f":"IF(OR('Set UP'!$C17=0,'Set UP'!$D17=0,'Set UP'!$E17=0),\"\",RANK(BW19,$BW$9:$BW$48,0))","v":23},{"$f":"IF(OR('Set UP'!K17<>1,'Set UP'!C17=0,'Set UP'!D17=0,'Set UP'!E17=0,'Set UP'!F17=0),\"\",$BW19)","v":24},{"$f":"IF(OR('Set UP'!K17<>1,'Set UP'!C17=0,'Set UP'!D17=0,'Set UP'!E17=0,'Set UP'!F17=0),\"\",RANK(BY19,$BY$9:$BY$48,0))","v":9},{"$f":"IF(OR('Set UP'!K17<>2,'Set UP'!C17=0,'Set UP'!D17=0,'Set UP'!E17=0,'Set UP'!F17=0),\"\",$BW19)","v":""},{"$f":"IF(OR('Set UP'!K17<>2,'Set UP'!C17=0,'Set UP'!D17=0,'Set UP'!E17=0,'Set UP'!F17=0),\"\",RANK(CA19,$CA$9:$CA$48,0))","v":""}]
[null,12,{"$f":"IF(OR('Set UP'!$C18=0,'Set UP'!$D18=0,'Set UP'!$E18=0,'Set UP'!F18=0),\"  --\",'Set UP'!C18)","v":538},{"$f":"IF(OR('Set UP'!$C18=0,'Set UP'!$D18=0,'Set UP'!$E18=0,'Set UP'!F18=0),\"  --\",'Set UP'!D18&\" \"&'Set UP'!E18)","v":"University of Southampton C"},{"$f":"IF(OR('Set UP'!$C18=0,'Set UP'!$D18=0,'Set UP'!$E18=0,'Set UP'!F18=0),\"  --\",'Set UP'!F18)","v":"S"},5,null,null,null,null,null,null,null,null,null,{"$f":"IF(OR('Set UP'!$C18=0,'Set UP'!$D18=0,'Set UP'!$E18=0),\"\",(F$7*F20)+(G$7*G20)+(H$7*H20)+(I$7*I20)+(J$7*J20)+(K$7*K20)+(L$7*L20)+(M$7*M20)+(N$7*N20)+(O$7*O20))","v":15},6,0,0,0,6,0,0,0,null,null,{"$f":"IF(OR('Set UP'!$C18=0,'Set UP'!$D18=0,'Set UP'!$E18=0),\"\",(Q$7*Q20)+(R$7*R20)+(S$7*S20)+(T$7*T20)+(U$7*U20)+(V$7*V20)+(W$7*W20)+(X$7*X20)+(Y$7*Y20)+(Z$7*Z20))","v":12},null,null,null,null,null,null,null,null,null,null,{"$f":"IF(OR('Set UP'!$C18=0,'Set UP'!$D18=0,'Set UP'!$E18=0),\"\",(AB$7*AB20)+(AC$7*AC20)+(AD$7*AD20)+(AE$7*AE20)+(AF$7*AF20)+(AG$7*AG20)+(AH$7*AH20)+(AI$7*AI20)+(AJ$7*AJ20)+(AK$7*AK20))","v":0},null,null,null,null,null,null,null,null,null,null,{"$f":"IF(OR('Set UP'!$C18=0,'Set UP'!$D18=0,'Set UP'!$E18=0),\"\",(AM$7*AM20)+(AN$7*AN20)+(AO$7*AO20)+(AP$7*AP20)+(AQ$7*AQ20)+(AR$7*AR20)+(AS$7*AS20)+(AT$7*AT20)+(AU$7*AU20)+(AV$7*AV20))","v":0},null,null,null,null,null,null,null,null,null,null,{"$f":"IF(OR('Set UP'!$C18=0,'Set UP'!$D18=0,'Set UP'!$E18=0),\"\",(AX$7*AX20)+(AY$7*AY20)+(AZ$7*AZ20)+(BA$7*BA20)+(BB$7*BB20)+(BC$7*BC20)+(BD$7*BD20)+(BE$7*BE20)+(BF$7*BF20)+(BG$7*BG20))","v":0},null,null,null,null,null,null,null,null,null,null,{"$f":"IF(OR('Set UP'!$C18=0,'Set UP'!$D18=0,'Set UP'!$E18=0),\"\",(BI$7*BI20)+(BJ$7*BJ20)+(BK$7*BK20)+(BL$7*BL20)+(BM$7*BM20)+(BN$7*BN20)+(BO$7*BO20)+(BP$7*BP20)+(BQ$7*BQ20)+(BR$7*BR20))","v":0},null,null,null,{"$f":"IF(OR('Set UP'!$C18=0,'Set UP'!$D18=0,'Set UP'!$E18=0),\"\",(P20+AA20+AL20+AW20+BH20+BS20))","v":27},{"$f":"IF(OR('Set UP'!$C18=0,'Set UP'!$D18=0,'Set UP'!$E18=0),\"\",RANK(BW20,$BW$9:$BW$48,0))","v":21},{"$f":"IF(OR('Set UP'!K18<>1,'Set UP'!C18=0,'Set UP'!D18=0,'Set UP'!E18=0,'Set UP'!F18=0),\"\",$BW20)","v":""},{"$f":"IF(OR('Set UP'!K18<>1,'Set UP'!C18=0,'Set UP'!D18=0,'Set UP'!E18=0,'Set UP'!F18=0),\"\",RANK(BY20,$BY$9:$BY$48,0))","v":""},{"$f":"IF(OR('Set UP'!K18<>2,'Set UP'!C18=0,'Set UP'!D18=0,'Set UP'!E18=0,'Set UP'!F18=0),\"\",$BW20)","v":27},{"$f":"IF(OR('Set UP'!K18<>2,'Set UP'!C18=0,'Set UP'!D18=0,'Set UP'!E18=0,'Set UP'!F18=0),\"\",RANK(CA20,$CA$9:$CA$48,0))","v":9}]
[null,13,{"$f":"IF(OR('Set UP'!$C19=0,'Set UP'!$D19=0,'Set UP'!$E19=0,'Set UP'!F19=0),\"  --\",'Set UP'!C19)","v":515},{"$f":"IF(OR('Set UP'!$C19=0,'Set UP'!$D19=0,'Set UP'!$E19=0,'Set UP'!F19=0),\"  --\",'Set UP'!D19&\" \"&'Set UP'!E19)","v":"Loughborough University C"},{"$f":"IF(OR('Set UP'!$C19=0,'Set UP'!$D19=0,'Set UP'!$E19=0,'Set UP'!F19=0),\"  --\",'Set UP'!F19)","v":"S"},4,null,null,null,null,null,null,null,null,null,{"$f":"IF(OR('Set UP'!$C19=0,'Set UP'!$D19=0,'Set UP'!$E19=0),\"\",(F$7*F21)+(G$7*G21)+(H$7*H21)+(I$7*I21)+(J$7*J21)+(K$7*K21)+(L$7*L21)+(M$7*M21)+(N$7*N21)+(O$7*O21))","v":12},4,1,5,0,3,5,0,0,null,null,{"$f":"IF(OR('Set UP'!$C19=0,'Set UP'!$D19=0,'Set UP'!$E19=0),\"\",(Q$7*Q21)+(R$7*R21)+(S$7*S21)+(T$7*T21)+(U$7*U21)+(V$7*V21)+(W$7*W21)+(X$7*X21)+(Y$7*Y21)+(Z$7*Z21))","v":29},null,null,null,null,null,null,null,null,null,null,{"$f":"IF(OR('Set UP'!$C19=0,'Set UP'!$D19=0,'Set UP'!$E19=0),\"\",(AB$7*AB21)+(AC$7*AC21)+(AD$7*AD21)+(AE$7*AE21)+(AF$7*AF21)+(AG$7*AG21)+(AH$7*AH21)+(AI$7*AI21)+(AJ$7*AJ21)+(AK$7*AK21))","v":0},null,null,null,null,null,null,null,null,null,null,{"$f":"IF(OR('Set UP'!$C19=0,'Set UP'!$D19=0,'Set UP'!$E19=0),\"\",(AM$7*AM21)+(AN$7*AN21)+(AO$7*AO21)+(AP$7*AP21)+(AQ$7*AQ21)+(AR$7*AR21)+(AS$7*AS21)+(AT$7*AT21)+(AU$7*AU21)+(AV$7*AV21))","v":0},null,null,null,null,null,null,null,null,null,null,{"$f":"IF(OR('Set UP'!$C19=0,'Set UP'!$D19=0,'Set UP'!$E19=0),\"\",(AX$7*AX21)+(AY$7*AY21)+(AZ$7*AZ21)+(BA$7*BA21)+(BB$7*BB21)+(BC$7*BC21)+(BD$7*BD21)+(BE$7*BE21)+(BF$7*BF21)+(BG$7*BG21))","v":0},null,null,null,null,null,null,null,null,null,null,{"$f":"IF(OR('Set UP'!$C19=0,'Set UP'!$D19=0,'Set UP'!$E19=0),\"\",(BI$7*BI21)+(BJ$7*BJ21)+(BK$7*BK21)+(BL$7*BL21)+(BM$7*BM21)+(BN$7*BN21)+(BO$7*BO21)+(BP$7*BP21)+(BQ$7*BQ21)+(BR$7*BR21))","v":0},null,null,null,{"$f":"IF(OR('Set UP'!$C19=0,'Set UP'!$D19=0,'Set UP'!$E19=0),\"\",(P21+AA21+AL21+AW21+BH21+BS21))","v":41},{"$f":"IF(OR('Set UP'!$C19=0,'Set UP'!$D19=0,'Set UP'!$E19=0),\"\",RANK(BW21,$BW$9:$BW$48,0))","v":15},{"$f":"IF(OR('Set UP'!K19<>1,'Set UP'!C19=0,'Set UP'!D19=0,'Set UP'!E19=0,'Set UP'!F19=0),\"\",$BW21)","v":""},{"$f":"IF(OR('Set UP'!K19<>1,'Set UP'!C19=0,'Set UP'!D19=0,'Set UP'!E19=0,'Set UP'!F19=0),\"\",RANK(BY21,$BY$9:$BY$48,0))","v":""},{"$f":"IF(OR('Set UP'!K19<>2,'Set UP'!C19=0,'Set UP'!D19=0,'Set UP'!E19=0,'Set UP'!F19=0),\"\",$BW21)","v":41},{"$f":"IF(OR('Set UP'!K19<>2,'Set UP'!C19=0,'Set UP'!D19=0,'Set UP'!E19=0,'Set UP'!F19=0),\"\",RANK(CA21,$CA$9:$CA$48,0))","v":6}]
[null,14,{"$f":"IF(OR('Set UP'!$C20=0,'Set UP'!$D20=0,'Set UP'!$E20=0,'Set UP'!F20=0),\"  --\",'Set UP'!C20)","v":520},{"$f":"IF(OR('Set UP'!$C20=0,'Set UP'!$D20=0,'Set UP'!$E20=0,'Set UP'!F20=0),\"  --\",'Set UP'!D20&\" \"&'Set UP'!E20)","v":"Loughborough University D"},{"$f":"IF(OR('Set UP'!$C20=0,'Set UP'!$D20=0,'Set UP'!$E20=0,'Set UP'!F20=0),\"  --\",'Set UP'!F20)","v":"NS"},2,null,null,null,null,null,null,null,null,null,{"$f":"IF(OR('Set UP'!$C20=0,'Set UP'!$D20=0,'Set UP'!$E20=0),\"\",(F$7*F22)+(G$7*G22)+(H$7*H22)+(I$7*I22)+(J$7*J22)+(K$7*K22)+(L$7*L22)+(M$7*M22)+(N$7*N22)+(O$7*O22))","v":6},6,0,0,0,4,0,0,0,null,null,{"$f":"IF(OR('Set UP'!$C20=0,'Set UP'!$D20=0,'Set UP'!$E20=0),\"\",(Q$7*Q22)+(R$7*R22)+(S$7*S22)+(T$7*T22)+(U$7*U22)+(V$7*V22)+(W$7*W22)+(X$7*X22)+(Y$7*Y22)+(Z$7*Z22))","v":10},null,null,null,null,null,null,null,null,null,null,{"$f":"IF(OR('Set UP'!$C20=0,'Set UP'!$D20=0,'Set UP'!$E20=0),\"\",(AB$7*AB22)+(AC$7*AC22)+(AD$7*AD22)+(AE$7*AE22)+(AF$7*AF22)+(AG$7*AG22)+(AH$7*AH22)+(AI$7*AI22)+(AJ$7*AJ22)+(AK$7*AK22))","v":0},null,null,null,null,null,null,null,null,null,null,{"$f":"IF(OR('Set UP'!$C20=0,'Set UP'!$D20=0,'Set UP'!$E20=0),\"\",(AM$7*AM22)+(AN$7*AN22)+(AO$7*AO22)+(AP$7*AP22)+(AQ$7*AQ22)+(AR$7*AR22)+(AS$7*AS22)+(AT$7*AT22)+(AU$7*AU22)+(AV$7*AV22))","v":0},null,null,null,null,null,null,null,null,null,null,{"$f":"IF(OR('Set UP'!$C20=0,'Set UP'!$D20=0,'Set UP'!$E20=0),\"\",(AX$7*AX22)+(AY$7*AY22)+(AZ$7*AZ22)+(BA$7*BA22)+(BB$7*BB22)+(BC$7*BC22)+(BD$7*BD22)+(BE$7*BE22)+(BF$7*BF22)+(BG$7*BG22))","v":0},null,null,null,null,null,null,null,null,null,null,{"$f":"IF(OR('Set UP'!$C20=0,'Set UP'!$D20=0,'Set UP'!$E20=0),\"\",(BI$7*BI22)+(BJ$7*BJ22)+(BK$7*BK22)+(BL$7*BL22)+(BM$7*BM22)+(BN$7*BN22)+(BO$7*BO22)+(BP$7*BP22)+(BQ$7*BQ22)+(BR$7*BR22))","v":0},null,null,null,{"$f":"IF(OR('Set UP'!$C20=0,'Set UP'!$D20=0,'Set UP'!$E20=0),\"\",(P22+AA22+AL22+AW22+BH22+BS22))","v":16},{"$f":"IF(OR('Set UP'!$C20=0,'Set UP'!$D20=0,'Set UP'!$E20=0),\"\",RANK(BW22,$BW$9:$BW$48,0))","v":27},{"$f":"IF(OR('Set UP'!K20<>1,'Set UP'!C20=0,'Set UP'!D20=0,'Set UP'!E20=0,'Set UP'!F20=0),\"\",$BW22)","v":""},{"$f":"IF(OR('Set UP'!K20<>1,'Set UP'!C20=0,'Set UP'!D20=0,'Set UP'!E20=0,'Set UP'!F20=0),\"\",RANK(BY22,$BY$9:$BY$48,0))","v":""},{"$f":"IF(OR('Set UP'!K20<>2,'Set UP'!C20=0,'Set UP'!D20=0,'Set UP'!E20=0,'Set UP'!F20=0),\"\",$BW22)","v":""},{"$f":"IF(OR('Set UP'!K20<>2,'Set UP'!C20=0,'Set UP'!D20=0,'Set UP'!E20=0,'Set UP'!F20=0),\"\",RANK(CA22,$CA$9:$CA$48,0))","v":""}]
[null,15,{"$f":"IF(OR('Set UP'!$C21=0,'Set UP'!$D21=0,'Set UP'!$E21=0,'Set UP'!F21=0),\"  --\",'Set UP'!C21)","v":512},{"$f":"IF(OR('Set UP'!$C21=0,'Set UP'!$D21=0,'Set UP'!$E21=0,'Set UP'!F21=0),\"  --\",'Set UP'!D21&\" \"&'Set UP'!E21)","v":"University of Warwick C"},{"$f":"IF(OR('Set UP'!$C21=0,'Set UP'!$D21=0,'Set UP'!$E21=0,'Set UP'!F21=0),\"  --\",'Set UP'!F21)","v":"NC"},3,null,null,null,null,null,null,null,null,null,{"$f":"IF(OR('Set UP'!$C21=0,'Set UP'!$D21=0,'Set UP'!$E21=0),\"\",(F$7*F23)+(G$7*G23)+(H$7*H23)+(I$7*I23)+(J$7*J23)+(K$7*K23)+(L$7*L23)+(M$7*M23)+(N$7*N23)+(O$7*O23))","v":9},6,3,6,0,5,4,0,0,null,null,{"$f":"IF(OR('Set UP'!$C21=0,'Set UP'!$D21=0,'Set UP'!$E21=0),\"\",(Q$7*Q23)+(R$7*R23)+(S$7*S23)+(T$7*T23)+(U$7*U23)+(V$7*V23)+(W$7*W23)+(X$7*X23)+(Y$7*Y23)+(Z$7*Z23))","v":37},null,null,null,null,null,null,null,null,null,null,{"$f":"IF(OR('Set UP'!$C21=0,'Set UP'!$D21=0,'Set UP'!$E21=0),\"\",(AB$7*AB23)+(AC$7*AC23)+(AD$7*AD23)+(AE$7*AE23)+(AF$7*AF23)+(AG$7*AG23)+(AH$7*AH23)+(AI$7*AI23)+(AJ$7*AJ23)+(AK$7*AK23))","v":0},null,null,null,null,null,null,null,null,null,null,{"$f":"IF(OR('Set UP'!$C21=0,'Set UP'!$D21=0,'Set UP'!$E21=0),\"\",(AM$7*AM23)+(AN$7*AN23)+(AO$7*AO23)+(AP$7*AP23)+(AQ$7*AQ23)+(AR$7*AR23)+(AS$7*AS23)+(AT$7*AT23)+(AU$7*AU23)+(AV$7*AV23))","v":0},null,null,null,null,null,null,null,null,null,null,{"$f":"IF(OR('Set UP'!$C21=0,'Set UP'!$D21=0,'Set UP'!$E21=0),\"\",(AX$7*AX23)+(AY$7*AY23)+(AZ$7*AZ23)+(BA$7*BA23)+(BB$7*BB23)+(BC$7*BC23)+(BD$7*BD23)+(BE$7*BE23)+(BF$7*BF23)+(BG$7*BG23))","v":0},null,null,null,null,null,null,null,null,null,null,{"$f":"IF(OR('Set UP'!$C21=0,'Set UP'!$D21=0,'Set UP'!$E21=0),\"\",(BI$7*BI23)+(BJ$7*BJ23)+(BK$7*BK23)+(BL$7*BL23)+(BM$7*BM23)+(BN$7*BN23)+(BO$7*BO23)+(BP$7*BP23)+(BQ$7*BQ23)+(BR$7*BR23))","v":0},null,null,null,{"$f":"IF(OR('Set UP'!$C21=0,'Set UP'!$D21=0,'Set UP'!$E21=0),\"\",(P23+AA23+AL23+AW23+BH23+BS23))","v":46},{"$f":"IF(OR('Set UP'!$C21=0,'Set UP'!$D21=0,'Set UP'!$E21=0),\"\",RANK(BW23,$BW$9:$BW$48,0))","v":9},{"$f":"IF(OR('Set UP'!K21<>1,'Set UP'!C21=0,'Set UP'!D21=0,'Set UP'!E21=0,'Set UP'!F21=0),\"\",$BW23)","v":""},{"$f":"IF(OR('Set UP'!K21<>1,'Set UP'!C21=0,'Set UP'!D21=0,'Set UP'!E21=0,'Set UP'!F21=0),\"\",RANK(BY23,$BY$9:$BY$48,0))","v":""},{"$f":"IF(OR('Set UP'!K21<>2,'Set UP'!C21=0,'Set UP'!D21=0,'Set UP'!E21=0,'Set UP'!F21=0),\"\",$BW23)","v":""},{"$f":"IF(OR('Set UP'!K21<>2,'Set UP'!C21=0,'Set UP'!D21=0,'Set UP'!E21=0,'Set UP'!F21=0),\"\",RANK(CA23,$CA$9:$CA$48,0))","v":""}]
[null,16,{"$f":"IF(OR('Set UP'!$C22=0,'Set UP'!$D22=0,'Set UP'!$E22=0,'Set UP'!F22=0),\"  --\",'Set UP'!C22)","v":531},{"$f":"IF(OR('Set UP'!$C22=0,'Set UP'!$D22=0,'Set UP'!$E22=0,'Set UP'!F22=0),\"  --\",'Set UP'!D22&\" \"&'Set UP'!E22)","v":"University of London Union D"},{"$f":"IF(OR('Set UP'!$C22=0,'Set UP'!$D22=0,'Set UP'!$E22=0,'Set UP'!F22=0),\"  --\",'Set UP'!F22)","v":"NC"},7,null,null,null,null,null,null,null,null,null,{"$f":"IF(OR('Set UP'!$C22=0,'Set UP'!$D22=0,'Set UP'!$E22=0),\"\",(F$7*F24)+(G$7*G24)+(H$7*H24)+(I$7*I24)+(J$7*J24)+(K$7*K24)+(L$7*L24)+(M$7*M24)+(N$7*N24)+(O$7*O24))","v":21},5,2,6,0,4,5,0,0,null,null,{"$f":"IF(OR('Set UP'!$C22=0,'Set UP'!$D22=0,'Set UP'!$E22=0),\"\",(Q$7*Q24)+(R$7*R24)+(S$7*S24)+(T$7*T24)+(U$7*U24)+(V$7*V24)+(W$7*W24)+(X$7*X24)+(Y$7*Y24)+(Z$7*Z24))","v":35},null,null,null,null,null,null,null,null,null,null,{"$f":"IF(OR('Set UP'!$C22=0,'Set UP'!$D22=0,'Set UP'!$E22=0),\"\",(AB$7*AB24)+(AC$7*AC24)+(AD$7*AD24)+(AE$7*AE24)+(AF$7*AF24)+(AG$7*AG24)+(AH$7*AH24)+(AI$7*AI24)+(AJ$7*AJ24)+(AK$7*AK24))","v":0},null,null,null,null,null,null,null,null,null,null,{"$f":"IF(OR('Set UP'!$C22=0,'Set UP'!$D22=0,'Set UP'!$E22=0),\"\",(AM$7*AM24)+(AN$7*AN24)+(AO$7*AO24)+(AP$7*AP24)+(AQ$7*AQ24)+(AR$7*AR24)+(AS$7*AS24)+(AT$7*AT24)+(AU$7*AU24)+(AV$7*AV24))","v":0},null,null,null,null,null,null,null,null,null,null,{"$f":"IF(OR('Set UP'!$C22=0,'Set UP'!$D22=0,'Set UP'!$E22=0),\"\",(AX$7*AX24)+(AY$7*AY24)+(AZ$7*AZ24)+(BA$7*BA24)+(BB$7*BB24)+(BC$7*BC24)+(BD$7*BD24)+(BE$7*BE24)+(BF$7*BF24)+(BG$7*BG24))","v":0},null,null,null,null,null,null,null,null,null,null,{"$f":"IF(OR('Set UP'!$C22=0,'Set UP'!$D22=0,'Set UP'!$E22=0),\"\",(BI$7*BI24)+(BJ$7*BJ24)+(BK$7*BK24)+(BL$7*BL24)+(BM$7*BM24)+(BN$7*BN24)+(BO$7*BO24)+(BP$7*BP24)+(BQ$7*BQ24)+(BR$7*BR24))","v":0},null,null,null,{"$f":"IF(OR('Set UP'!$C22=0,'Set UP'!$D22=0,'Set UP'!$E22=0),\"\",(P24+AA24+AL24+AW24+BH24+BS24))","v":56},{"$f":"IF(OR('Set UP'!$C22=0,'Set UP'!$D22=0,'Set UP'!$E22=0),\"\",RANK(BW24,$BW$9:$BW$48,0))","v":4},{"$f":"IF(OR('Set UP'!K22<>1,'Set UP'!C22=0,'Set UP'!D22=0,'Set UP'!E22=0,'Set UP'!F22=0),\"\",$BW24)","v":""},{"$f":"IF(OR('Set UP'!K22<>1,'Set UP'!C22=0,'Set UP'!D22=0,'Set UP'!E22=0,'Set UP'!F22=0),\"\",RANK(BY24,$BY$9:$BY$48,0))","v":""},{"$f":"IF(OR('Set UP'!K22<>2,'Set UP'!C22=0,'Set UP'!D22=0,'Set UP'!E22=0,'Set UP'!F22=0),\"\",$BW24)","v":""},{"$f":"IF(OR('Set UP'!K22<>2,'Set UP'!C22=0,'Set UP'!D22=0,'Set UP'!E22=0,'Set UP'!F22=0),\"\",RANK(CA24,$CA$9:$CA$48,0))","v":""}]
[null,17,{"$f":"IF(OR('Set UP'!$C23=0,'Set UP'!$D23=0,'Set UP'!$E23=0,'Set UP'!F23=0),\"  --\",'Set UP'!C23)","v":471},{"$f":"IF(OR('Set UP'!$C23=0,'Set UP'!$D23=0,'Set UP'!$E23=0,'Set UP'!F23=0),\"  --\",'Set UP'!D23&\" \"&'Set UP'!E23)","v":"University of Cambridge A"},{"$f":"IF(OR('Set UP'!$C23=0,'Set UP'!$D23=0,'Set UP'!$E23=0,'Set UP'!F23=0),\"  --\",'Set UP'!F23)","v":"S"},2,null,null,null,null,null,null,null,null,null,{"$f":"IF(OR('Set UP'!$C23=0,'Set UP'!$D23=0,'Set UP'!$E23=0),\"\",(F$7*F25)+(G$7*G25)+(H$7*H25)+(I$7*I25)+(J$7*J25)+(K$7*K25)+(L$7*L25)+(M$7*M25)+(N$7*N25)+(O$7*O25))","v":6},6,2,6,0,5,5,0,0,null,null,{"$f":"IF(OR('Set UP'!$C23=0,'Set UP'!$D23=0,'Set UP'!$E23=0),\"\",(Q$7*Q25)+(R$7*R25)+(S$7*S25)+(T$7*T25)+(U$7*U25)+(V$7*V25)+(W$7*W25)+(X$7*X25)+(Y$7*Y25)+(Z$7*Z25))","v":37},null,null,null,null,null,null,null,null,null,null,{"$f":"IF(OR('Set UP'!$C23=0,'Set UP'!$D23=0,'Set UP'!$E23=0),\"\",(AB$7*AB25)+(AC$7*AC25)+(AD$7*AD25)+(AE$7*AE25)+(AF$7*AF25)+(AG$7*AG25)+(AH$7*AH25)+(AI$7*AI25)+(AJ$7*AJ25)+(AK$7*AK25))","v":0},null,null,null,null,null,null,null,null,null,null,{"$f":"IF(OR('Set UP'!$C23=0,'Set UP'!$D23=0,'Set UP'!$E23=0),\"\",(AM$7*AM25)+(AN$7*AN25)+(AO$7*AO25)+(AP$7*AP25)+(AQ$7*AQ25)+(AR$7*AR25)+(AS$7*AS25)+(AT$7*AT25)+(AU$7*AU25)+(AV$7*AV25))","v":0},null,null,null,null,null,null,null,null,null,null,{"$f":"IF(OR('Set UP'!$C23=0,'Set UP'!$D23=0,'Set UP'!$E23=0),\"\",(AX$7*AX25)+(AY$7*AY25)+(AZ$7*AZ25)+(BA$7*BA25)+(BB$7*BB25)+(BC$7*BC25)+(BD$7*BD25)+(BE$7*BE25)+(BF$7*BF25)+(BG$7*BG25))","v":0},null,null,null,null,null,null,null,null,null,null,{"$f":"IF(OR('Set UP'!$C23=0,'Set UP'!$D23=0,'Set UP'!$E23=0),\"\",(BI$7*BI25)+(BJ$7*BJ25)+(BK$7*BK25)+(BL$7*BL25)+(BM$7*BM25)+(BN$7*BN25)+(BO$7*BO25)+(BP$7*BP25)+(BQ$7*BQ25)+(BR$7*BR25))","v":0},null,null,null,{"$f":"IF(OR('Set UP'!$C23=0,'Set UP'!$D23=0,'Set UP'!$E23=0),\"\",(P25+AA25+AL25+AW25+BH25+BS25))","v":43},{"$f":"IF(OR('Set UP'!$C23=0,'Set UP'!$D23=0,'Set UP'!$E23=0),\"\",RANK(BW25,$BW$9:$BW$48,0))","v":13},{"$f":"IF(OR('Set UP'!K23<>1,'Set UP'!C23=0,'Set UP'!D23=0,'Set UP'!E23=0,'Set UP'!F23=0),\"\",$BW25)","v":43},{"$f":"IF(OR('Set UP'!K23<>1,'Set UP'!C23=0,'Set UP'!D23=0,'Set UP'!E23=0,'Set UP'!F23=0),\"\",RANK(BY25,$BY$9:$BY$48,0))","v":5},{"$f":"IF(OR('Set UP'!K23<>2,'Set UP'!C23=0,'Set UP'!D23=0,'Set UP'!E23=0,'Set UP'!F23=0),\"\",$BW25)","v":""},{"$f":"IF(OR('Set UP'!K23<>2,'Set UP'!C23=0,'Set UP'!D23=0,'Set UP'!E23=0,'Set UP'!F23=0),\"\",RANK(CA25,$CA$9:$CA$48,0))","v":""}]
[null,18,{"$f":"IF(OR('Set UP'!$C24=0,'Set UP'!$D24=0,'Set UP'!$E24=0,'Set UP'!F24=0),\"  --\",'Set UP'!C24)","v":522},{"$f":"IF(OR('Set UP'!$C24=0,'Set UP'!$D24=0,'Set UP'!$E24=0,'Set UP'!F24=0),\"  --\",'Set UP'!D24&\" \"&'Set UP'!E24)","v":"University of Birmingham B"},{"$f":"IF(OR('Set UP'!$C24=0,'Set UP'!$D24=0,'Set UP'!$E24=0,'Set UP'!F24=0),\"  --\",'Set UP'!F24)","v":"S"},4,null,null,null,null,null,null,null,null,null,{"$f":"IF(OR('Set UP'!$C24=0,'Set UP'!$D24=0,'Set UP'!$E24=0),\"\",(F$7*F26)+(G$7*G26)+(H$7*H26)+(I$7*I26)+(J$7*J26)+(K$7*K26)+(L$7*L26)+(M$7*M26)+(N$7*N26)+(O$7*O26))","v":12},5,4,6,0,5,6,0,0,null,null,{"$f":"IF(OR('Set UP'!$C24=0,'Set UP'!$D24=0,'Set UP'!$E24=0),\"\",(Q$7*Q26)+(R$7*R26)+(S$7*S26)+(T$7*T26)+(U$7*U26)+(V$7*V26)+(W$7*W26)+(X$7*X26)+(Y$7*Y26)+(Z$7*Z26))","v":42},null,null,null,null,null,null,null,null,null,null,{"$f":"IF(OR('Set UP'!$C24=0,'Set UP'!$D24=0,'Set UP'!$E24=0),\"\",(AB$7*AB26)+(AC$7*AC26)+(AD$7*AD26)+(AE$7*AE26)+(AF$7*AF26)+(AG$7*AG26)+(AH$7*AH26)+(AI$7*AI26)+(AJ$7*AJ26)+(AK$7*AK26))","v":0},null,null,null,null,null,null,null,null,null,null,{"$f":"IF(OR('Set UP'!$C24=0,'Set UP'!$D24=0,'Set UP'!$E24=0),\"\",(AM$7*AM26)+(AN$7*AN26)+(AO$7*AO26)+(AP$7*AP26)+(AQ$7*AQ26)+(AR$7*AR26)+(AS$7*AS26)+(AT$7*AT26)+(AU$7*AU26)+(AV$7*AV26))","v":0},null,null,null,null,null,null,null,null,null,null,{"$f":"IF(OR('Set UP'!$C24=0,'Set UP'!$D24=0,'Set UP'!$E24=0),\"\",(AX$7*AX26)+(AY$7*AY26)+(AZ$7*AZ26)+(BA$7*BA26)+(BB$7*BB26)+(BC$7*BC26)+(BD$7*BD26)+(BE$7*BE26)+(BF$7*BF26)+(BG$7*BG26))","v":0},null,null,null,null,null,null,null,null,null,null,{"$f":"IF(OR('Set UP'!$C24=0,'Set UP'!$D24=0,'Set UP'!$E24=0),\"\",(BI$7*BI26)+(BJ$7*BJ26)+(BK$7*BK26)+(BL$7*BL26)+(BM$7*BM26)+(BN$7*BN26)+(BO$7*BO26)+(BP$7*BP26)+(BQ$7*BQ26)+(BR$7*BR26))","v":0},null,null,null,{"$f":"IF(OR('Set UP'!$C24=0,'Set UP'!$D24=0,'Set UP'!$E24=0),\"\",(P26+AA26+AL26+AW26+BH26+BS26))","v":54},{"$f":"IF(OR('Set UP'!$C24=0,'Set UP'!$D24=0,'Set UP'!$E24=0),\"\",RANK(BW26,$BW$9:$BW$48,0))","v":7},{"$f":"IF(OR('Set UP'!K24<>1,'Set UP'!C24=0,'Set UP'!D24=0,'Set UP'!E24=0,'Set UP'!F24=0),\"\",$BW26)","v":""},{"$f":"IF(OR('Set UP'!K24<>1,'Set UP'!C24=0,'Set UP'!D24=0,'Set UP'!E24=0,'Set UP'!F24=0),\"\",RANK(BY26,$BY$9:$BY$48,0))","v":""},{"$f":"IF(OR('Set UP'!K24<>2,'Set UP'!C24=0,'Set UP'!D24=0,'Set UP'!E24=0,'Set UP'!F24=0),\"\",$BW26)","v":54},{"$f":"IF(OR('Set UP'!K24<>2,'Set UP'!C24=0,'Set UP'!D24=0,'Set UP'!E24=0,'Set UP'!F24=0),\"\",RANK(CA26,$CA$9:$CA$48,0))","v":3}]
[null,19,{"$f":"IF(OR('Set UP'!$C25=0,'Set UP'!$D25=0,'Set UP'!$E25=0,'Set UP'!F25=0),\"  --\",'Set UP'!C25)","v":498},{"$f":"IF(OR('Set UP'!$C25=0,'Set UP'!$D25=0,'Set UP'!$E25=0,'Set UP'!F25=0),\"  --\",'Set UP'!D25&\" \"&'Set UP'!E25)","v":"University of St Andrews A"},{"$f":"IF(OR('Set UP'!$C25=0,'Set UP'!$D25=0,'Set UP'!$E25=0,'Set UP'!F25=0),\"  --\",'Set UP'!F25)","v":"S"},4,null,null,null,null,null,null,null,null,null,{"$f":"IF(OR('Set UP'!$C25=0,'Set UP'!$D25=0,'Set UP'!$E25=0),\"\",(F$7*F27)+(G$7*G27)+(H$7*H27)+(I$7*I27)+(J$7*J27)+(K$7*K27)+(L$7*L27)+(M$7*M27)+(N$7*N27)+(O$7*O27))","v":12},6,7,4,0,5,5,0,0,null,null,{"$f":"IF(OR('Set UP'!$C25=0,'Set UP'!$D25=0,'Set UP'!$E25=0),\"\",(Q$7*Q27)+(R$7*R27)+(S$7*S27)+(T$7*T27)+(U$7*U27)+(V$7*V27)+(W$7*W27)+(X$7*X27)+(Y$7*Y27)+(Z$7*Z27))","v":43},null,null,null,null,null,null,null,null,null,null,{"$f":"IF(OR('Set UP'!$C25=0,'Set UP'!$D25=0,'Set UP'!$E25=0),\"\",(AB$7*AB27)+(AC$7*AC27)+(AD$7*AD27)+(AE$7*AE27)+(AF$7*AF27)+(AG$7*AG27)+(AH$7*AH27)+(AI$7*AI27)+(AJ$7*AJ27)+(AK$7*AK27))","v":0},null,null,null,null,null,null,null,null,null,null,{"$f":"IF(OR('Set UP'!$C25=0,'Set UP'!$D25=0,'Set UP'!$E25=0),\"\",(AM$7*AM27)+(AN$7*AN27)+(AO$7*AO27)+(AP$7*AP27)+(AQ$7*AQ27)+(AR$7*AR27)+(AS$7*AS27)+(AT$7*AT27)+(AU$7*AU27)+(AV$7*AV27))","v":0},null,null,null,null,null,null,null,null,null,null,{"$f":"IF(OR('Set UP'!$C25=0,'Set UP'!$D25=0,'Set UP'!$E25=0),\"\",(AX$7*AX27)+(AY$7*AY27)+(AZ$7*AZ27)+(BA$7*BA27)+(BB$7*BB27)+(BC$7*BC27)+(BD$7*BD27)+(BE$7*BE27)+(BF$7*BF27)+(BG$7*BG27))","v":0},null,null,null,null,null,null,null,null,null,null,{"$f":"IF(OR('Set UP'!$C25=0,'Set UP'!$D25=0,'Set UP'!$E25=0),\"\",(BI$7*BI27)+(BJ$7*BJ27)+(BK$7*BK27)+(BL$7*BL27)+(BM$7*BM27)+(BN$7*BN27)+(BO$7*BO27)+(BP$7*BP27)+(BQ$7*BQ27)+(BR$7*BR27))","v":0},null,null,null,{"$f":"IF(OR('Set UP'!$C25=0,'Set UP'!$D25=0,'Set UP'!$E25=0),\"\",(P27+AA27+AL27+AW27+BH27+BS27))","v":55},{"$f":"IF(OR('Set UP'!$C25=0,'Set UP'!$D25=0,'Set UP'!$E25=0),\"\",RANK(BW27,$BW$9:$BW$48,0))","v":5},{"$f":"IF(OR('Set UP'!K25<>1,'Set UP'!C25=0,'Set UP'!D25=0,'Set UP'!E25=0,'Set UP'!F25=0),\"\",$BW27)","v":55},{"$f":"IF(OR('Set UP'!K25<>1,'Set UP'!C25=0,'Set UP'!D25=0,'Set UP'!E25=0,'Set UP'!F25=0),\"\",RANK(BY27,$BY$9:$BY$48,0))","v":3},{"$f":"IF(OR('Set UP'!K25<>2,'Set UP'!C25=0,'Set UP'!D25=0,'Set UP'!E25=0,'Set UP'!F25=0),\"\",$BW27)","v":""},{"$f":"IF(OR('Set UP'!K25<>2,'Set UP'!C25=0,'Set UP'!D25=0,'Set UP'!E25=0,'Set UP'!F25=0),\"\",RANK(CA27,$CA$9:$CA$48,0))","v":""}]
[null,20,{"$f":"IF(OR('Set UP'!$C26=0,'Set UP'!$D26=0,'Set UP'!$E26=0,'Set UP'!F26=0),\"  --\",'Set UP'!C26)","v":535},{"$f":"IF(OR('Set UP'!$C26=0,'Set UP'!$D26=0,'Set UP'!$E26=0,'Set UP'!F26=0),\"  --\",'Set UP'!D26&\" \"&'Set UP'!E26)","v":"University of Birmingham A"},{"$f":"IF(OR('Set UP'!$C26=0,'Set UP'!$D26=0,'Set UP'!$E26=0,'Set UP'!F26=0),\"  --\",'Set UP'!F26)","v":"S"},7,null,null,null,null,null,null,null,null,null,{"$f":"IF(OR('Set UP'!$C26=0,'Set UP'!$D26=0,'Set UP'!$E26=0),\"\",(F$7*F28)+(G$7*G28)+(H$7*H28)+(I$7*I28)+(J$7*J28)+(K$7*K28)+(L$7*L28)+(M$7*M28)+(N$7*N28)+(O$7*O28))","v":21},4,6,0,0,5,0,0,0,null,null,{"$f":"IF(OR('Set UP'!$C26=0,'Set UP'!$D26=0,'Set UP'!$E26=0),\"\",(Q$7*Q28)+(R$7*R28)+(S$7*S28)+(T$7*T28)+(U$7*U28)+(V$7*V28)+(W$7*W28)+(X$7*X28)+(Y$7*Y28)+(Z$7*Z28))","v":21},null,null,null,null,null,null,null,null,null,null,{"$f":"IF(OR('Set UP'!$C26=0,'Set UP'!$D26=0,'Set UP'!$E26=0),\"\",(AB$7*AB28)+(AC$7*AC28)+(AD$7*AD28)+(AE$7*AE28)+(AF$7*AF28)+(AG$7*AG28)+(AH$7*AH28)+(AI$7*AI28)+(AJ$7*AJ28)+(AK$7*AK28))","v":0},null,null,null,null,null,null,null,null,null,null,{"$f":"IF(OR('Set UP'!$C26=0,'Set UP'!$D26=0,'Set UP'!$E26=0),\"\",(AM$7*AM28)+(AN$7*AN28)+(AO$7*AO28)+(AP$7*AP28)+(AQ$7*AQ28)+(AR$7*AR28)+(AS$7*AS28)+(AT$7*AT28)+(AU$7*AU28)+(AV$7*AV28))","v":0},null,null,null,null,null,null,null,null,null,null,{"$f":"IF(OR('Set UP'!$C26=0,'Set UP'!$D26=0,'Set UP'!$E26=0),\"\",(AX$7*AX28)+(AY$7*AY28)+(AZ$7*AZ28)+(BA$7*BA28)+(BB$7*BB28)+(BC$7*BC28)+(BD$7*BD28)+(BE$7*BE28)+(BF$7*BF28)+(BG$7*BG28))","v":0},null,null,null,null,null,null,null,null,null,null,{"$f":"IF(OR('Set UP'!$C26=0,'Set UP'!$D26=0,'Set UP'!$E26=0),\"\",(BI$7*BI28)+(BJ$7*BJ28)+(BK$7*BK28)+(BL$7*BL28)+(BM$7*BM28)+(BN$7*BN28)+(BO$7*BO28)+(BP$7*BP28)+(BQ$7*BQ28)+(BR$7*BR28))","v":0},null,null,null,{"$f":"IF(OR('Set UP'!$C26=0,'Set UP'!$D26=0,'Set UP'!$E26=0),\"\",(P28+AA28+AL28+AW28+BH28+BS28))","v":42},{"$f":"IF(OR('Set UP'!$C26=0,'Set UP'!$D26=0,'Set UP'!$E26=0),\"\",RANK(BW28,$BW$9:$BW$48,0))","v":14},{"$f":"IF(OR('Set UP'!K26<>1,'Set UP'!C26=0,'Set UP'!D26=0,'Set UP'!E26=0,'Set UP'!F26=0),\"\",$BW28)","v":42},{"$f":"IF(OR('Set UP'!K26<>1,'Set UP'!C26=0,'Set UP'!D26=0,'Set UP'!E26=0,'Set UP'!F26=0),\"\",RANK(BY28,$BY$9:$BY$48,0))","v":6},{"$f":"IF(OR('Set UP'!K26<>2,'Set UP'!C26=0,'Set UP'!D26=0,'Set UP'!E26=0,'Set UP'!F26=0),\"\",$BW28)","v":""},{"$f":"IF(OR('Set UP'!K26<>2,'Set UP'!C26=0,'Set UP'!D26=0,'Set UP'!E26=0,'Set UP'!F26=0),\"\",RANK(CA28,$CA$9:$CA$48,0))","v":""}]
[null,21,{"$f":"IF(OR('Set UP'!$C27=0,'Set UP'!$D27=0,'Set UP'!$E27=0,'Set UP'!F27=0),\"  --\",'Set UP'!C27)","v":508},{"$f":"IF(OR('Set UP'!$C27=0,'Set UP'!$D27=0,'Set UP'!$E27=0,'Set UP'!F27=0),\"  --\",'Set UP'!D27&\" \"&'Set UP'!E27)","v":"University of Nottingham A"},{"$f":"IF(OR('Set UP'!$C27=0,'Set UP'!$D27=0,'Set UP'!$E27=0,'Set UP'!F27=0),\"  --\",'Set UP'!F27)","v":"S"},4,null,null,null,null,null,null,null,null,null,{"$f":"IF(OR('Set UP'!$C27=0,'Set UP'!$D27=0,'Set UP'!$E27=0),\"\",(F$7*F29)+(G$7*G29)+(H$7*H29)+(I$7*I29)+(J$7*J29)+(K$7*K29)+(L$7*L29)+(M$7*M29)+(N$7*N29)+(O$7*O29))","v":12},6,1,2,0,4,0,0,0,null,null,{"$f":"IF(OR('Set UP'!$C27=0,'Set UP'!$D27=0,'Set UP'!$E27=0),\"\",(Q$7*Q29)+(R$7*R29)+(S$7*S29)+(T$7*T29)+(U$7*U29)+(V$7*V29)+(W$7*W29)+(X$7*X29)+(Y$7*Y29)+(Z$7*Z29))","v":16},null,null,null,null,null,null,null,null,null,null,{"$f":"IF(OR('Set UP'!$C27=0,'Set UP'!$D27=0,'Set UP'!$E27=0),\"\",(AB$7*AB29)+(AC$7*AC29)+(AD$7*AD29)+(AE$7*AE29)+(AF$7*AF29)+(AG$7*AG29)+(AH$7*AH29)+(AI$7*AI29)+(AJ$7*AJ29)+(AK$7*AK29))","v":0},null,null,null,null,null,null,null,null,null,null,{"$f":"IF(OR('Set UP'!$C27=0,'Set UP'!$D27=0,'Set UP'!$E27=0),\"\",(AM$7*AM29)+(AN$7*AN29)+(AO$7*AO29)+(AP$7*AP29)+(AQ$7*AQ29)+(AR$7*AR29)+(AS$7*AS29)+(AT$7*AT29)+(AU$7*AU29)+(AV$7*AV29))","v":0},null,null,null,null,null,null,null,null,null,null,{"$f":"IF(OR('Set UP'!$C27=0,'Set UP'!$D27=0,'Set UP'!$E27=0),\"\",(AX$7*AX29)+(AY$7*AY29)+(AZ$7*AZ29)+(BA$7*BA29)+(BB$7*BB29)+(BC$7*BC29)+(BD$7*BD29)+(BE$7*BE29)+(BF$7*BF29)+(BG$7*BG29))","v":0},null,null,null,null,null,null,null,null,null,null,{"$f":"IF(OR('Set UP'!$C27=0,'Set UP'!$D27=0,'Set UP'!$E27=0),\"\",(BI$7*BI29)+(BJ$7*BJ29)+(BK$7*BK29)+(BL$7*BL29)+(BM$7*BM29)+(BN$7*BN29)+(BO$7*BO29)+(BP$7*BP29)+(BQ$7*BQ29)+(BR$7*BR29))","v":0},null,null,null,{"$f":"IF(OR('Set UP'!$C27=0,'Set UP'!$D27=0,'Set UP'!$E27=0),\"\",(P29+AA29+AL29+AW29+BH29+BS29))","v":28},{"$f":"IF(OR('Set UP'!$C27=0,'Set UP'!$D27=0,'Set UP'!$E27=0),\"\",RANK(BW29,$BW$9:$BW$48,0))","v":19},{"$f":"IF(OR('Set UP'!K27<>1,'Set UP'!C27=0,'Set UP'!D27=0,'Set UP'!E27=0,'Set UP'!F27=0),\"\",$BW29)","v":28},{"$f":"IF(OR('Set UP'!K27<>1,'Set UP'!C27=0,'Set UP'!D27=0,'Set UP'!E27=0,'Set UP'!F27=0),\"\",RANK(BY29,$BY$9:$BY$48,0))","v":7},{"$f":"IF(OR('Set UP'!K27<>2,'Set UP'!C27=0,'Set UP'!D27=0,'Set UP'!E27=0,'Set UP'!F27=0),\"\",$BW29)","v":""},{"$f":"IF(OR('Set UP'!K27<>2,'Set UP'!C27=0,'Set UP'!D27=0,'Set UP'!E27=0,'Set UP'!F27=0),\"\",RANK(CA29,$CA$9:$CA$48,0))","v":""}]
[null,22,{"$f":"IF(OR('Set UP'!$C28=0,'Set UP'!$D28=0,'Set UP'!$E28=0,'Set UP'!F28=0),\"  --\",'Set UP'!C28)","v":528},{"$f":"IF(OR('Set UP'!$C28=0,'Set UP'!$D28=0,'Set UP'!$E28=0,'Set UP'!F28=0),\"  --\",'Set UP'!D28&\" \"&'Set UP'!E28)","v":"University of London Union B"},{"$f":"IF(OR('Set UP'!$C28=0,'Set UP'!$D28=0,'Set UP'!$E28=0,'Set UP'!F28=0),\"  --\",'Set UP'!F28)","v":"S"},2,null,null,null,null,null,null,null,null,null,{"$f":"IF(OR('Set UP'!$C28=0,'Set UP'!$D28=0,'Set UP'!$E28=0),\"\",(F$7*F30)+(G$7*G30)+(H$7*H30)+(I$7*I30)+(J$7*J30)+(K$7*K30)+(L$7*L30)+(M$7*M30)+(N$7*N30)+(O$7*O30))","v":6},6,7,7,0,6,3,0,0,null,null,{"$f":"IF(OR('Set UP'!$C28=0,'Set UP'!$D28=0,'Set UP'!$E28=0),\"\",(Q$7*Q30)+(R$7*R30)+(S$7*S30)+(T$7*T30)+(U$7*U30)+(V$7*V30)+(W$7*W30)+(X$7*X30)+(Y$7*Y30)+(Z$7*Z30))","v":46},null,null,null,null,null,null,null,null,null,null,{"$f":"IF(OR('Set UP'!$C28=0,'Set UP'!$D28=0,'Set UP'!$E28=0),\"\",(AB$7*AB30)+(AC$7*AC30)+(AD$7*AD30)+(AE$7*AE30)+(AF$7*AF30)+(AG$7*AG30)+(AH$7*AH30)+(AI$7*AI30)+(AJ$7*AJ30)+(AK$7*AK30))","v":0},null,null,null,null,null,null,null,null,null,null,{"$f":"IF(OR('Set UP'!$C28=0,'Set UP'!$D28=0,'Set UP'!$E28=0),\"\",(AM$7*AM30)+(AN$7*AN30)+(AO$7*AO30)+(AP$7*AP30)+(AQ$7*AQ30)+(AR$7*AR30)+(AS$7*AS30)+(AT$7*AT30)+(AU$7*AU30)+(AV$7*AV30))","v":0},null,null,null,null,null,null,null,null,null,null,{"$f":"IF(OR('Set UP'!$C28=0,'Set UP'!$D28=0,'Set UP'!$E28=0),\"\",(AX$7*AX30)+(AY$7*AY30)+(AZ$7*AZ30)+(BA$7*BA30)+(BB$7*BB30)+(BC$7*BC30)+(BD$7*BD30)+(BE$7*BE30)+(BF$7*BF30)+(BG$7*BG30))","v":0},null,null,null,null,null,null,null,null,null,null,{"$f":"IF(OR('Set UP'!$C28=0,'Set UP'!$D28=0,'Set UP'!$E28=0),\"\",(BI$7*BI30)+(BJ$7*BJ30)+(BK$7*BK30)+(BL$7*BL30)+(BM$7*BM30)+(BN$7*BN30)+(BO$7*BO30)+(BP$7*BP30)+(BQ$7*BQ30)+(BR$7*BR30))","v":0},null,null,null,{"$f":"IF(OR('Set UP'!$C28=0,'Set UP'!$D28=0,'Set UP'!$E28=0),\"\",(P30+AA30+AL30+AW30+BH30+BS30))","v":52},{"$f":"IF(OR('Set UP'!$C28=0,'Set UP'!$D28=0,'Set UP'!$E28=0),\"\",RANK(BW30,$BW$9:$BW$48,0))","v":8},{"$f":"IF(OR('Set UP'!K28<>1,'Set UP'!C28=0,'Set UP'!D28=0,'Set UP'!E28=0,'Set UP'!F28=0),\"\",$BW30)","v":""},{"$f":"IF(OR('Set UP'!K28<>1,'Set UP'!C28=0,'Set UP'!D28=0,'Set UP'!E28=0,'Set UP'!F28=0),\"\",RANK(BY30,$BY$9:$BY$48,0))","v":""},{"$f":"IF(OR('Set UP'!K28<>2,'Set UP'!C28=0,'Set UP'!D28=0,'Set UP'!E28=0,'Set UP'!F28=0),\"\",$BW30)","v":52},{"$f":"IF(OR('Set UP'!K28<>2,'Set UP'!C28=0,'Set UP'!D28=0,'Set UP'!E28=0,'Set UP'!F28=0),\"\",RANK(CA30,$CA$9:$CA$48,0))","v":4}]
[null,23,{"$f":"IF(OR('Set UP'!$C29=0,'Set UP'!$D29=0,'Set UP'!$E29=0,'Set UP'!F29=0),\"  --\",'Set UP'!C29)","v":511},{"$f":"IF(OR('Set UP'!$C29=0,'Set UP'!$D29=0,'Set UP'!$E29=0,'Set UP'!F29=0),\"  --\",'Set UP'!D29&\" \"&'Set UP'!E29)","v":"University of Warwick B"},{"$f":"IF(OR('Set UP'!$C29=0,'Set UP'!$D29=0,'Set UP'!$E29=0,'Set UP'!F29=0),\"  --\",'Set UP'!F29)","v":"S"},6,null,null,null,null,null,null,null,null,null,{"$f":"IF(OR('Set UP'!$C29=0,'Set UP'!$D29=0,'Set UP'!$E29=0),\"\",(F$7*F31)+(G$7*G31)+(H$7*H31)+(I$7*I31)+(J$7*J31)+(K$7*K31)+(L$7*L31)+(M$7*M31)+(N$7*N31)+(O$7*O31))","v":18},6,0,0,0,4,0,0,0,null,null,{"$f":"IF(OR('Set UP'!$C29=0,'Set UP'!$D29=0,'Set UP'!$E29=0),\"\",(Q$7*Q31)+(R$7*R31)+(S$7*S31)+(T$7*T31)+(U$7*U31)+(V$7*V31)+(W$7*W31)+(X$7*X31)+(Y$7*Y31)+(Z$7*Z31))","v":10},null,null,null,null,null,null,null,null,null,null,{"$f":"IF(OR('Set UP'!$C29=0,'Set UP'!$D29=0,'Set UP'!$E29=0),\"\",(AB$7*AB31)+(AC$7*AC31)+(AD$7*AD31)+(AE$7*AE31)+(AF$7*AF31)+(AG$7*AG31)+(AH$7*AH31)+(AI$7*AI31)+(AJ$7*AJ31)+(AK$7*AK31))","v":0},null,null,null,null,null,null,null,null,null,null,{"$f":"IF(OR('Set UP'!$C29=0,'Set UP'!$D29=0,'Set UP'!$E29=0),\"\",(AM$7*AM31)+(AN$7*AN31)+(AO$7*AO31)+(AP$7*AP31)+(AQ$7*AQ31)+(AR$7*AR31)+(AS$7*AS31)+(AT$7*AT31)+(AU$7*AU31)+(AV$7*AV31))","v":0},null,null,null,null,null,null,null,null,null,null,{"$f":"IF(OR('Set UP'!$C29=0,'Set UP'!$D29=0,'Set UP'!$E29=0),\"\",(AX$7*AX31)+(AY$7*AY31)+(AZ$7*AZ31)+(BA$7*BA31)+(BB$7*BB31)+(BC$7*BC31)+(BD$7*BD31)+(BE$7*BE31)+(BF$7*BF31)+(BG$7*BG31))","v":0},null,null,null,null,null,null,null,null,null,null,{"$f":"IF(OR('Set UP'!$C29=0,'Set UP'!$D29=0,'Set UP'!$E29=0),\"\",(BI$7*BI31)+(BJ$7*BJ31)+(BK$7*BK31)+(BL$7*BL31)+(BM$7*BM31)+(BN$7*BN31)+(BO$7*BO31)+(BP$7*BP31)+(BQ$7*BQ31)+(BR$7*BR31))","v":0},null,null,null,{"$f":"IF(OR('Set UP'!$C29=0,'Set UP'!$D29=0,'Set UP'!$E29=0),\"\",(P31+AA31+AL31+AW31+BH31+BS31))","v":28},{"$f":"IF(OR('Set UP'!$C29=0,'Set UP'!$D29=0,'Set UP'!$E29=0),\"\",RANK(BW31,$BW$9:$BW$48,0))","v":19},{"$f":"IF(OR('Set UP'!K29<>1,'Set UP'!C29=0,'Set UP'!D29=0,'Set UP'!E29=0,'Set UP'!F29=0),\"\",$BW31)","v":""},{"$f":"IF(OR('Set UP'!K29<>1,'Set UP'!C29=0,'Set UP'!D29=0,'Set UP'!E29=0,'Set UP'!F29=0),\"\",RANK(BY31,$BY$9:$BY$48,0))","v":""},{"$f":"IF(OR('Set UP'!K29<>2,'Set UP'!C29=0,'Set UP'!D29=0,'Set UP'!E29=0,'Set UP'!F29=0),\"\",$BW31)","v":28},{"$f":"IF(OR('Set UP'!K29<>2,'Set UP'!C29=0,'Set UP'!D29=0,'Set UP'!E29=0,'Set UP'!F29=0),\"\",RANK(CA31,$CA$9:$CA$48,0))","v":8}]
[null,24,{"$f":"IF(OR('Set UP'!$C30=0,'Set UP'!$D30=0,'Set UP'!$E30=0,'Set UP'!F30=0),\"  --\",'Set UP'!C30)","v":509},{"$f":"IF(OR('Set UP'!$C30=0,'Set UP'!$D30=0,'Set UP'!$E30=0,'Set UP'!F30=0),\"  --\",'Set UP'!D30&\" \"&'Set UP'!E30)","v":"University of Nottingham B"},{"$f":"IF(OR('Set UP'!$C30=0,'Set UP'!$D30=0,'Set UP'!$E30=0,'Set UP'!F30=0),\"  --\",'Set UP'!F30)","v":"S"},5,null,null,null,null,null,null,null,null,null,{"$f":"IF(OR('Set UP'!$C30=0,'Set UP'!$D30=0,'Set UP'!$E30=0),\"\",(F$7*F32)+(G$7*G32)+(H$7*H32)+(I$7*I32)+(J$7*J32)+(K$7*K32)+(L$7*L32)+(M$7*M32)+(N$7*N32)+(O$7*O32))","v":15},5,2,2,0,4,4,0,0,null,null,{"$f":"IF(OR('Set UP'!$C30=0,'Set UP'!$D30=0,'Set UP'!$E30=0),\"\",(Q$7*Q32)+(R$7*R32)+(S$7*S32)+(T$7*T32)+(U$7*U32)+(V$7*V32)+(W$7*W32)+(X$7*X32)+(Y$7*Y32)+(Z$7*Z32))","v":25},null,null,null,null,null,null,null,null,null,null,{"$f":"IF(OR('Set UP'!$C30=0,'Set UP'!$D30=0,'Set UP'!$E30=0),\"\",(AB$7*AB32)+(AC$7*AC32)+(AD$7*AD32)+(AE$7*AE32)+(AF$7*AF32)+(AG$7*AG32)+(AH$7*AH32)+(AI$7*AI32)+(AJ$7*AJ32)+(AK$7*AK32))","v":0},null,null,null,null,null,null,null,null,null,null,{"$f":"IF(OR('Set UP'!$C30=0,'Set UP'!$D30=0,'Set UP'!$E30=0),\"\",(AM$7*AM32)+(AN$7*AN32)+(AO$7*AO32)+(AP$7*AP32)+(AQ$7*AQ32)+(AR$7*AR32)+(AS$7*AS32)+(AT$7*AT32)+(AU$7*AU32)+(AV$7*AV32))","v":0},null,null,null,null,null,null,null,null,null,null,{"$f":"IF(OR('Set UP'!$C30=0,'Set UP'!$D30=0,'Set UP'!$E30=0),\"\",(AX$7*AX32)+(AY$7*AY32)+(AZ$7*AZ32)+(BA$7*BA32)+(BB$7*BB32)+(BC$7*BC32)+(BD$7*BD32)+(BE$7*BE32)+(BF$7*BF32)+(BG$7*BG32))","v":0},null,null,null,null,null,null,null,null,null,null,{"$f":"IF(OR('Set UP'!$C30=0,'Set UP'!$D30=0,'Set UP'!$E30=0),\"\",(BI$7*BI32)+(BJ$7*BJ32)+(BK$7*BK32)+(BL$7*BL32)+(BM$7*BM32)+(BN$7*BN32)+(BO$7*BO32)+(BP$7*BP32)+(BQ$7*BQ32)+(BR$7*BR32))","v":0},null,null,null,{"$f":"IF(OR('Set UP'!$C30=0,'Set UP'!$D30=0,'Set UP'!$E30=0),\"\",(P32+AA32+AL32+AW32+BH32+BS32))","v":40},{"$f":"IF(OR('Set UP'!$C30=0,'Set UP'!$D30=0,'Set UP'!$E30=0),\"\",RANK(BW32,$BW$9:$BW$48,0))","v":16},{"$f":"IF(OR('Set UP'!K30<>1,'Set UP'!C30=0,'Set UP'!D30=0,'Set UP'!E30=0,'Set UP'!F30=0),\"\",$BW32)","v":""},{"$f":"IF(OR('Set UP'!K30<>1,'Set UP'!C30=0,'Set UP'!D30=0,'Set UP'!E30=0,'Set UP'!F30=0),\"\",RANK(BY32,$BY$9:$BY$48,0))","v":""},{"$f":"IF(OR('Set UP'!K30<>2,'Set UP'!C30=0,'Set UP'!D30=0,'Set UP'!E30=0,'Set UP'!F30=0),\"\",$BW32)","v":40},{"$f":"IF(OR('Set UP'!K30<>2,'Set UP'!C30=0,'Set UP'!D30=0,'Set UP'!E30=0,'Set UP'!F30=0),\"\",RANK(CA32,$CA$9:$CA$48,0))","v":7}]
[null,25,{"$f":"IF(OR('Set UP'!$C31=0,'Set UP'!$D31=0,'Set UP'!$E31=0,'Set UP'!F31=0),\"  --\",'Set UP'!C31)","v":517},{"$f":"IF(OR('Set UP'!$C31=0,'Set UP'!$D31=0,'Set UP'!$E31=0,'Set UP'!F31=0),\"  --\",'Set UP'!D31&\" \"&'Set UP'!E31)","v":"Loughborough University B"},{"$f":"IF(OR('Set UP'!$C31=0,'Set UP'!$D31=0,'Set UP'!$E31=0,'Set UP'!F31=0),\"  --\",'Set UP'!F31)","v":"S"},2,null,null,null,null,null,null,null,null,null,{"$f":"IF(OR('Set UP'!$C31=0,'Set UP'!$D31=0,'Set UP'!$E31=0),\"\",(F$7*F33)+(G$7*G33)+(H$7*H33)+(I$7*I33)+(J$7*J33)+(K$7*K33)+(L$7*L33)+(M$7*M33)+(N$7*N33)+(O$7*O33))","v":6},6,2,0,0,6,0,0,0,null,null,{"$f":"IF(OR('Set UP'!$C31=0,'Set UP'!$D31=0,'Set UP'!$E31=0),\"\",(Q$7*Q33)+(R$7*R33)+(S$7*S33)+(T$7*T33)+(U$7*U33)+(V$7*V33)+(W$7*W33)+(X$7*X33)+(Y$7*Y33)+(Z$7*Z33))","v":16},null,null,null,null,null,null,null,null,null,null,{"$f":"IF(OR('Set UP'!$C31=0,'Set UP'!$D31=0,'Set UP'!$E31=0),\"\",(AB$7*AB33)+(AC$7*AC33)+(AD$7*AD33)+(AE$7*AE33)+(AF$7*AF33)+(AG$7*AG33)+(AH$7*AH33)+(AI$7*AI33)+(AJ$7*AJ33)+(AK$7*AK33))","v":0},null,null,null,null,null,null,null,null,null,null,{"$f":"IF(OR('Set UP'!$C31=0,'Set UP'!$D31=0,'Set UP'!$E31=0),\"\",(AM$7*AM33)+(AN$7*AN33)+(AO$7*AO33)+(AP$7*AP33)+(AQ$7*AQ33)+(AR$7*AR33)+(AS$7*AS33)+(AT$7*AT33)+(AU$7*AU33)+(AV$7*AV33))","v":0},null,null,null,null,null,null,null,null,null,null,{"$f":"IF(OR('Set UP'!$C31=0,'Set UP'!$D31=0,'Set UP'!$E31=0),\"\",(AX$7*AX33)+(AY$7*AY33)+(AZ$7*AZ33)+(BA$7*BA33)+(BB$7*BB33)+(BC$7*BC33)+(BD$7*BD33)+(BE$7*BE33)+(BF$7*BF33)+(BG$7*BG33))","v":0},null,null,null,null,null,null,null,null,null,null,{"$f":"IF(OR('Set UP'!$C31=0,'Set UP'!$D31=0,'Set UP'!$E31=0),\"\",(BI$7*BI33)+(BJ$7*BJ33)+(BK$7*BK33)+(BL$7*BL33)+(BM$7*BM33)+(BN$7*BN33)+(BO$7*BO33)+(BP$7*BP33)+(BQ$7*BQ33)+(BR$7*BR33))","v":0},null,null,null,{"$f":"IF(OR('Set UP'!$C31=0,'Set UP'!$D31=0,'Set UP'!$E31=0),\"\",(P33+AA33+AL33+AW33+BH33+BS33))","v":22},{"$f":"IF(OR('Set UP'!$C31=0,'Set UP'!$D31=0,'Set UP'!$E31=0),\"\",RANK(BW33,$BW$9:$BW$48,0))","v":25},{"$f":"IF(OR('Set UP'!K31<>1,'Set UP'!C31=0,'Set UP'!D31=0,'Set UP'!E31=0,'Set UP'!F31=0),\"\",$BW33)","v":""},{"$f":"IF(OR('Set UP'!K31<>1,'Set UP'!C31=0,'Set UP'!D31=0,'Set UP'!E31=0,'Set UP'!F31=0),\"\",RANK(BY33,$BY$9:$BY$48,0))","v":""},{"$f":"IF(OR('Set UP'!K31<>2,'Set UP'!C31=0,'Set UP'!D31=0,'Set UP'!E31=0,'Set UP'!F31=0),\"\",$BW33)","v":22},{"$f":"IF(OR('Set UP'!K31<>2,'Set UP'!C31=0,'Set UP'!D31=0,'Set UP'!E31=0,'Set UP'!F31=0),\"\",RANK(CA33,$CA$9:$CA$48,0))","v":11}]
[null,26,{"$f":"IF(OR('Set UP'!$C32=0,'Set UP'!$D32=0,'Set UP'!$E32=0,'Set UP'!F32=0),\"  --\",'Set UP'!C32)","v":534},{"$f":"IF(OR('Set UP'!$C32=0,'Set UP'!$D32=0,'Set UP'!$E32=0,'Set UP'!F32=0),\"  --\",'Set UP'!D32&\" \"&'Set UP'!E32)","v":"University of Southampton B"},{"$f":"IF(OR('Set UP'!$C32=0,'Set UP'!$D32=0,'Set UP'!$E32=0,'Set UP'!F32=0),\"  --\",'Set UP'!F32)","v":"S"},4,null,null,null,null,null,null,null,null,null,{"$f":"IF(OR('Set UP'!$C32=0,'Set UP'!$D32=0,'Set UP'!$E32=0),\"\",(F$7*F34)+(G$7*G34)+(H$7*H34)+(I$7*I34)+(J$7*J34)+(K$7*K34)+(L$7*L34)+(M$7*M34)+(N$7*N34)+(O$7*O34))","v":12},6,8,6,0,5,6,0,0,null,null,{"$f":"IF(OR('Set UP'!$C32=0,'Set UP'!$D32=0,'Set UP'!$E32=0),\"\",(Q$7*Q34)+(R$7*R34)+(S$7*S34)+(T$7*T34)+(U$7*U34)+(V$7*V34)+(W$7*W34)+(X$7*X34)+(Y$7*Y34)+(Z$7*Z34))","v":51},null,null,null,null,null,null,null,null,null,null,{"$f":"IF(OR('Set UP'!$C32=0,'Set UP'!$D32=0,'Set UP'!$E32=0),\"\",(AB$7*AB34)+(AC$7*AC34)+(AD$7*AD34)+(AE$7*AE34)+(AF$7*AF34)+(AG$7*AG34)+(AH$7*AH34)+(AI$7*AI34)+(AJ$7*AJ34)+(AK$7*AK34))","v":0},null,null,null,null,null,null,null,null,null,null,{"$f":"IF(OR('Set UP'!$C32=0,'Set UP'!$D32=0,'Set UP'!$E32=0),\"\",(AM$7*AM34)+(AN$7*AN34)+(AO$7*AO34)+(AP$7*AP34)+(AQ$7*AQ34)+(AR$7*AR34)+(AS$7*AS34)+(AT$7*AT34)+(AU$7*AU34)+(AV$7*AV34))","v":0},null,null,null,null,null,null,null,null,null,null,{"$f":"IF(OR('Set UP'!$C32=0,'Set UP'!$D32=0,'Set UP'!$E32=0),\"\",(AX$7*AX34)+(AY$7*AY34)+(AZ$7*AZ34)+(BA$7*BA34)+(BB$7*BB34)+(BC$7*BC34)+(BD$7*BD34)+(BE$7*BE34)+(BF$7*BF34)+(BG$7*BG34))","v":0},null,null,null,null,null,null,null,null,null,null,{"$f":"IF(OR('Set UP'!$C32=0,'Set UP'!$D32=0,'Set UP'!$E32=0),\"\",(BI$7*BI34)+(BJ$7*BJ34)+(BK$7*BK34)+(BL$7*BL34)+(BM$7*BM34)+(BN$7*BN34)+(BO$7*BO34)+(BP$7*BP34)+(BQ$7*BQ34)+(BR$7*BR34))","v":0},null,null,null,{"$f":"IF(OR('Set UP'!$C32=0,'Set UP'!$D32=0,'Set UP'!$E32=0),\"\",(P34+AA34+AL34+AW34+BH34+BS34))","v":63},{"$f":"IF(OR('Set UP'!$C32=0,'Set UP'!$D32=0,'Set UP'!$E32=0),\"\",RANK(BW34,$BW$9:$BW$48,0))","v":3},{"$f":"IF(OR('Set UP'!K32<>1,'Set UP'!C32=0,'Set UP'!D32=0,'Set UP'!E32=0,'Set UP'!F32=0),\"\",$BW34)","v":""},{"$f":"IF(OR('Set UP'!K32<>1,'Set UP'!C32=0,'Set UP'!D32=0,'Set UP'!E32=0,'Set UP'!F32=0),\"\",RANK(BY34,$BY$9:$BY$48,0))","v":""},{"$f":"IF(OR('Set UP'!K32<>2,'Set UP'!C32=0,'Set UP'!D32=0,'Set UP'!E32=0,'Set UP'!F32=0),\"\",$BW34)","v":63},{"$f":"IF(OR('Set UP'!K32<>2,'Set UP'!C32=0,'Set UP'!D32=0,'Set UP'!E32=0,'Set UP'!F32=0),\"\",RANK(CA34,$CA$9:$CA$48,0))","v":1}]
[null,27,{"$f":"IF(OR('Set UP'!$C33=0,'Set UP'!$D33=0,'Set UP'!$E33=0,'Set UP'!F33=0),\"  --\",'Set UP'!C33)","v":479},{"$f":"IF(OR('Set UP'!$C33=0,'Set UP'!$D33=0,'Set UP'!$E33=0,'Set UP'!F33=0),\"  --\",'Set UP'!D33&\" \"&'Set UP'!E33)","v":"Loughborough University A"},{"$f":"IF(OR('Set UP'!$C33=0,'Set UP'!$D33=0,'Set UP'!$E33=0,'Set UP'!F33=0),\"  --\",'Set UP'!F33)","v":"S"},4,null,null,null,null,null,null,null,null,null,{"$f":"IF(OR('Set UP'!$C33=0,'Set UP'!$D33=0,'Set UP'!$E33=0),\"\",(F$7*F35)+(G$7*G35)+(H$7*H35)+(I$7*I35)+(J$7*J35)+(K$7*K35)+(L$7*L35)+(M$7*M35)+(N$7*N35)+(O$7*O35))","v":12},5,2,5,0,3,5,0,0,null,null,{"$f":"IF(OR('Set UP'!$C33=0,'Set UP'!$D33=0,'Set UP'!$E33=0),\"\",(Q$7*Q35)+(R$7*R35)+(S$7*S35)+(T$7*T35)+(U$7*U35)+(V$7*V35)+(W$7*W35)+(X$7*X35)+(Y$7*Y35)+(Z$7*Z35))","v":32},null,null,null,null,null,null,null,null,null,null,{"$f":"IF(OR('Set UP'!$C33=0,'Set UP'!$D33=0,'Set UP'!$E33=0),\"\",(AB$7*AB35)+(AC$7*AC35)+(AD$7*AD35)+(AE$7*AE35)+(AF$7*AF35)+(AG$7*AG35)+(AH$7*AH35)+(AI$7*AI35)+(AJ$7*AJ35)+(AK$7*AK35))","v":0},null,null,null,null,null,null,null,null,null,null,{"$f":"IF(OR('Set UP'!$C33=0,'Set UP'!$D33=0,'Set UP'!$E33=0),\"\",(AM$7*AM35)+(AN$7*AN35)+(AO$7*AO35)+(AP$7*AP35)+(AQ$7*AQ35)+(AR$7*AR35)+(AS$7*AS35)+(AT$7*AT35)+(AU$7*AU35)+(AV$7*AV35))","v":0},null,null,null,null,null,null,null,null,null,null,{"$f":"IF(OR('Set UP'!$C33=0,'Set UP'!$D33=0,'Set UP'!$E33=0),\"\",(AX$7*AX35)+(AY$7*AY35)+(AZ$7*AZ35)+(BA$7*BA35)+(BB$7*BB35)+(BC$7*BC35)+(BD$7*BD35)+(BE$7*BE35)+(BF$7*BF35)+(BG$7*BG35))","v":0},null,null,null,null,null,null,null,null,null,null,{"$f":"IF(OR('Set UP'!$C33=0,'Set UP'!$D33=0,'Set UP'!$E33=0),\"\",(BI$7*BI35)+(BJ$7*BJ35)+(BK$7*BK35)+(BL$7*BL35)+(BM$7*BM35)+(BN$7*BN35)+(BO$7*BO35)+(BP$7*BP35)+(BQ$7*BQ35)+(BR$7*BR35))","v":0},null,null,null,{"$f":"IF(OR('Set UP'!$C33=0,'Set UP'!$D33=0,'Set UP'!$E33=0),\"\",(P35+AA35+AL35+AW35+BH35+BS35))","v":44},{"$f":"IF(OR('Set UP'!$C33=0,'Set UP'!$D33=0,'Set UP'!$E33=0),\"\",RANK(BW35,$BW$9:$BW$48,0))","v":12},{"$f":"IF(OR('Set UP'!K33<>1,'Set UP'!C33=0,'Set UP'!D33=0,'Set UP'!E33=0,'Set UP'!F33=0),\"\",$BW35)","v":44},{"$f":"IF(OR('Set UP'!K33<>1,'Set UP'!C33=0,'Set UP'!D33=0,'Set UP'!E33=0,'Set UP'!F33=0),\"\",RANK(BY35,$BY$9:$BY$48,0))","v":4},{"$f":"IF(OR('Set UP'!K33<>2,'Set UP'!C33=0,'Set UP'!D33=0,'Set UP'!E33=0,'Set UP'!F33=0),\"\",$BW35)","v":""},{"$f":"IF(OR('Set UP'!K33<>2,'Set UP'!C33=0,'Set UP'!D33=0,'Set UP'!E33=0,'Set UP'!F33=0),\"\",RANK(CA35,$CA$9:$CA$48,0))","v":""}]
[null,28,{"$f":"IF(OR('Set UP'!$C34=0,'Set UP'!$D34=0,'Set UP'!$E34=0,'Set UP'!F34=0),\"  --\",'Set UP'!C34)","v":545},{"$f":"IF(OR('Set UP'!$C34=0,'Set UP'!$D34=0,'Set UP'!$E34=0,'Set UP'!F34=0),\"  --\",'Set UP'!D34&\" \"&'Set UP'!E34)","v":"Colwick Park A"},{"$f":"IF(OR('Set UP'!$C34=0,'Set UP'!$D34=0,'Set UP'!$E34=0,'Set UP'!F34=0),\"  --\",'Set UP'!F34)","v":"NS"},3,null,null,null,null,null,null,null,null,null,{"$f":"IF(OR('Set UP'!$C34=0,'Set UP'!$D34=0,'Set UP'!$E34=0),\"\",(F$7*F36)+(G$7*G36)+(H$7*H36)+(I$7*I36)+(J$7*J36)+(K$7*K36)+(L$7*L36)+(M$7*M36)+(N$7*N36)+(O$7*O36))","v":9},4,0,6,0,3,5,0,0,null,null,{"$f":"IF(OR('Set UP'!$C34=0,'Set UP'!$D34=0,'Set UP'!$E34=0),\"\",(Q$7*Q36)+(R$7*R36)+(S$7*S36)+(T$7*T36)+(U$7*U36)+(V$7*V36)+(W$7*W36)+(X$7*X36)+(Y$7*Y36)+(Z$7*Z36))","v":29},null,null,null,null,null,null,null,null,null,null,{"$f":"IF(OR('Set UP'!$C34=0,'Set UP'!$D34=0,'Set UP'!$E34=0),\"\",(AB$7*AB36)+(AC$7*AC36)+(AD$7*AD36)+(AE$7*AE36)+(AF$7*AF36)+(AG$7*AG36)+(AH$7*AH36)+(AI$7*AI36)+(AJ$7*AJ36)+(AK$7*AK36))","v":0},null,null,null,null,null,null,null,null,null,null,{"$f":"IF(OR('Set UP'!$C34=0,'Set UP'!$D34=0,'Set UP'!$E34=0),\"\",(AM$7*AM36)+(AN$7*AN36)+(AO$7*AO36)+(AP$7*AP36)+(AQ$7*AQ36)+(AR$7*AR36)+(AS$7*AS36)+(AT$7*AT36)+(AU$7*AU36)+(AV$7*AV36))","v":0},null,null,null,null,null,null,null,null,null,null,{"$f":"IF(OR('Set UP'!$C34=0,'Set UP'!$D34=0,'Set UP'!$E34=0),\"\",(AX$7*AX36)+(AY$7*AY36)+(AZ$7*AZ36)+(BA$7*BA36)+(BB$7*BB36)+(BC$7*BC36)+(BD$7*BD36)+(BE$7*BE36)+(BF$7*BF36)+(BG$7*BG36))","v":0},null,null,null,null,null,null,null,null,null,null,{"$f":"IF(OR('Set UP'!$C34=0,'Set UP'!$D34=0,'Set UP'!$E34=0),\"\",(BI$7*BI36)+(BJ$7*BJ36)+(BK$7*BK36)+(BL$7*BL36)+(BM$7*BM36)+(BN$7*BN36)+(BO$7*BO36)+(BP$7*BP36)+(BQ$7*BQ36)+(BR$7*BR36))","v":0},null,null,null,{"$f":"IF(OR('Set UP'!$C34=0,'Set UP'!$D34=0,'Set UP'!$E34=0),\"\",(P36+AA36+AL36+AW36+BH36+BS36))","v":38},{"$f":"IF(OR('Set UP'!$C34=0,'Set UP'!$D34=0,'Set UP'!$E34=0),\"\",RANK(BW36,$BW$9:$BW$48,0))","v":17},{"$f":"IF(OR('Set UP'!K34<>1,'Set UP'!C34=0,'Set UP'!D34=0,'Set UP'!E34=0,'Set UP'!F34=0),\"\",$BW36)","v":""},{"$f":"IF(OR('Set UP'!K34<>1,'Set UP'!C34=0,'Set UP'!D34=0,'Set UP'!E34=0,'Set UP'!F34=0),\"\",RANK(BY36,$BY$9:$BY$48,0))","v":""},{"$f":"IF(OR('Set UP'!K34<>2,'Set UP'!C34=0,'Set UP'!D34=0,'Set UP'!E34=0,'Set UP'!F34=0),\"\",$BW36)","v":""},{"$f":"IF(OR('Set UP'!K34<>2,'Set UP'!C34=0,'Set UP'!D34=0,'Set UP'!E34=0,'Set UP'!F34=0),\"\",RANK(CA36,$CA$9:$CA$48,0))","v":""}]
[null,29,{"$f":"IF(OR('Set UP'!$C35=0,'Set UP'!$D35=0,'Set UP'!$E35=0,'Set UP'!F35=0),\"  --\",'Set UP'!C35)","v":533},{"$f":"IF(OR('Set UP'!$C35=0,'Set UP'!$D35=0,'Set UP'!$E35=0,'Set UP'!F35=0),\"  --\",'Set UP'!D35&\" \"&'Set UP'!E35)","v":"University of Southampton A"},{"$f":"IF(OR('Set UP'!$C35=0,'Set UP'!$D35=0,'Set UP'!$E35=0,'Set UP'!F35=0),\"  --\",'Set UP'!F35)","v":"S"},10,null,null,null,null,null,null,null,null,null,{"$f":"IF(OR('Set UP'!$C35=0,'Set UP'!$D35=0,'Set UP'!$E35=0),\"\",(F$7*F37)+(G$7*G37)+(H$7*H37)+(I$7*I37)+(J$7*J37)+(K$7*K37)+(L$7*L37)+(M$7*M37)+(N$7*N37)+(O$7*O37))","v":30},6,7,6,0,7,5,0,0,null,null,{"$f":"IF(OR('Set UP'!$C35=0,'Set UP'!$D35=0,'Set UP'!$E35=0),\"\",(Q$7*Q37)+(R$7*R37)+(S$7*S37)+(T$7*T37)+(U$7*U37)+(V$7*V37)+(W$7*W37)+(X$7*X37)+(Y$7*Y37)+(Z$7*Z37))","v":49},null,null,null,null,null,null,null,null,null,null,{"$f":"IF(OR('Set UP'!$C35=0,'Set UP'!$D35=0,'Set UP'!$E35=0),\"\",(AB$7*AB37)+(AC$7*AC37)+(AD$7*AD37)+(AE$7*AE37)+(AF$7*AF37)+(AG$7*AG37)+(AH$7*AH37)+(AI$7*AI37)+(AJ$7*AJ37)+(AK$7*AK37))","v":0},null,null,null,null,null,null,null,null,null,null,{"$f":"IF(OR('Set UP'!$C35=0,'Set UP'!$D35=0,'Set UP'!$E35=0),\"\",(AM$7*AM37)+(AN$7*AN37)+(AO$7*AO37)+(AP$7*AP37)+(AQ$7*AQ37)+(AR$7*AR37)+(AS$7*AS37)+(AT$7*AT37)+(AU$7*AU37)+(AV$7*AV37))","v":0},null,null,null,null,null,null,null,null,null,null,{"$f":"IF(OR('Set UP'!$C35=0,'Set UP'!$D35=0,'Set UP'!$E35=0),\"\",(AX$7*AX37)+(AY$7*AY37)+(AZ$7*AZ37)+(BA$7*BA37)+(BB$7*BB37)+(BC$7*BC37)+(BD$7*BD37)+(BE$7*BE37)+(BF$7*BF37)+(BG$7*BG37))","v":0},null,null,null,null,null,null,null,null,null,null,{"$f":"IF(OR('Set UP'!$C35=0,'Set UP'!$D35=0,'Set UP'!$E35=0),\"\",(BI$7*BI37)+(BJ$7*BJ37)+(BK$7*BK37)+(BL$7*BL37)+(BM$7*BM37)+(BN$7*BN37)+(BO$7*BO37)+(BP$7*BP37)+(BQ$7*BQ37)+(BR$7*BR37))","v":0},null,null,null,{"$f":"IF(OR('Set UP'!$C35=0,'Set UP'!$D35=0,'Set UP'!$E35=0),\"\",(P37+AA37+AL37+AW37+BH37+BS37))","v":79},{"$f":"IF(OR('Set UP'!$C35=0,'Set UP'!$D35=0,'Set UP'!$E35=0),\"\",RANK(BW37,$BW$9:$BW$48,0))","v":1},{"$f":"IF(OR('Set UP'!K35<>1,'Set UP'!C35=0,'Set UP'!D35=0,'Set UP'!E35=0,'Set UP'!F35=0),\"\",$BW37)","v":79},{"$f":"IF(OR('Set UP'!K35<>1,'Set UP'!C35=0,'Set UP'!D35=0,'Set UP'!E35=0,'Set UP'!F35=0),\"\",RANK(BY37,$BY$9:$BY$48,0))","v":1},{"$f":"IF(OR('Set UP'!K35<>2,'Set UP'!C35=0,'Set UP'!D35=0,'Set UP'!E35=0,'Set UP'!F35=0),\"\",$BW37)","v":""},{"$f":"IF(OR('Set UP'!K35<>2,'Set UP'!C35=0,'Set UP'!D35=0,'Set UP'!E35=0,'Set UP'!F35=0),\"\",RANK(CA37,$CA$9:$CA$48,0))","v":""}]
[null,30,{"$f":"IF(OR('Set UP'!$C36=0,'Set UP'!$D36=0,'Set UP'!$E36=0,'Set UP'!F36=0),\"  --\",'Set UP'!C36)","v":523},{"$f":"IF(OR('Set UP'!$C36=0,'Set UP'!$D36=0,'Set UP'!$E36=0,'Set UP'!F36=0),\"  --\",'Set UP'!D36&\" \"&'Set UP'!E36)","v":"University of London Union A"},{"$f":"IF(OR('Set UP'!$C36=0,'Set UP'!$D36=0,'Set UP'!$E36=0,'Set UP'!F36=0),\"  --\",'Set UP'!F36)","v":"S"},12,null,null,null,null,null,null,null,null,null,{"$f":"IF(OR('Set UP'!$C36=0,'Set UP'!$D36=0,'Set UP'!$E36=0),\"\",(F$7*F38)+(G$7*G38)+(H$7*H38)+(I$7*I38)+(J$7*J38)+(K$7*K38)+(L$7*L38)+(M$7*M38)+(N$7*N38)+(O$7*O38))","v":36},6,0,6,0,6,5,0,0,null,null,{"$f":"IF(OR('Set UP'!$C36=0,'Set UP'!$D36=0,'Set UP'!$E36=0),\"\",(Q$7*Q38)+(R$7*R38)+(S$7*S38)+(T$7*T38)+(U$7*U38)+(V$7*V38)+(W$7*W38)+(X$7*X38)+(Y$7*Y38)+(Z$7*Z38))","v":34},null,null,null,null,null,null,null,null,null,null,{"$f":"IF(OR('Set UP'!$C36=0,'Set UP'!$D36=0,'Set UP'!$E36=0),\"\",(AB$7*AB38)+(AC$7*AC38)+(AD$7*AD38)+(AE$7*AE38)+(AF$7*AF38)+(AG$7*AG38)+(AH$7*AH38)+(AI$7*AI38)+(AJ$7*AJ38)+(AK$7*AK38))","v":0},null,null,null,null,null,null,null,null,null,null,{"$f":"IF(OR('Set UP'!$C36=0,'Set UP'!$D36=0,'Set UP'!$E36=0),\"\",(AM$7*AM38)+(AN$7*AN38)+(AO$7*AO38)+(AP$7*AP38)+(AQ$7*AQ38)+(AR$7*AR38)+(AS$7*AS38)+(AT$7*AT38)+(AU$7*AU38)+(AV$7*AV38))","v":0},null,null,null,null,null,null,null,null,null,null,{"$f":"IF(OR('Set UP'!$C36=0,'Set UP'!$D36=0,'Set UP'!$E36=0),\"\",(AX$7*AX38)+(AY$7*AY38)+(AZ$7*AZ38)+(BA$7*BA38)+(BB$7*BB38)+(BC$7*BC38)+(BD$7*BD38)+(BE$7*BE38)+(BF$7*BF38)+(BG$7*BG38))","v":0},null,null,null,null,null,null,null,null,null,null,{"$f":"IF(OR('Set UP'!$C36=0,'Set UP'!$D36=0,'Set UP'!$E36=0),\"\",(BI$7*BI38)+(BJ$7*BJ38)+(BK$7*BK38)+(BL$7*BL38)+(BM$7*BM38)+(BN$7*BN38)+(BO$7*BO38)+(BP$7*BP38)+(BQ$7*BQ38)+(BR$7*BR38))","v":0},null,null,null,{"$f":"IF(OR('Set UP'!$C36=0,'Set UP'!$D36=0,'Set UP'!$E36=0),\"\",(P38+AA38+AL38+AW38+BH38+BS38))","v":70},{"$f":"IF(OR('Set UP'!$C36=0,'Set UP'!$D36=0,'Set UP'!$E36=0),\"\",RANK(BW38,$BW$9:$BW$48,0))","v":2},{"$f":"IF(OR('Set UP'!K36<>1,'Set UP'!C36=0,'Set UP'!D36=0,'Set UP'!E36=0,'Set UP'!F36=0),\"\",$BW38)","v":70},{"$f":"IF(OR('Set UP'!K36<>1,'Set UP'!C36=0,'Set UP'!D36=0,'Set UP'!E36=0,'Set UP'!F36=0),\"\",RANK(BY38,$BY$9:$BY$48,0))","v":2},{"$f":"IF(OR('Set UP'!K36<>2,'Set UP'!C36=0,'Set UP'!D36=0,'Set UP'!E36=0,'Set UP'!F36=0),\"\",$BW38)","v":""},{"$f":"IF(OR('Set UP'!K36<>2,'Set UP'!C36=0,'Set UP'!D36=0,'Set UP'!E36=0,'Set UP'!F36=0),\"\",RANK(CA38,$CA$9:$CA$48,0))","v":""}]
[null,31,{"$f":"IF(OR('Set UP'!$C37=0,'Set UP'!$D37=0,'Set UP'!$E37=0,'Set UP'!F37=0),\"  --\",'Set UP'!C37)","v":505},{"$f":"IF(OR('Set UP'!$C37=0,'Set UP'!$D37=0,'Set UP'!$E37=0,'Set UP'!F37=0),\"  --\",'Set UP'!D37&\" \"&'Set UP'!E37)","v":"University of Plymouth A"},{"$f":"IF(OR('Set UP'!$C37=0,'Set UP'!$D37=0,'Set UP'!$E37=0,'Set UP'!F37=0),\"  --\",'Set UP'!F37)","v":"S"},3,null,null,null,null,null,null,null,null,null,{"$f":"IF(OR('Set UP'!$C37=0,'Set UP'!$D37=0,'Set UP'!$E37=0),\"\",(F$7*F39)+(G$7*G39)+(H$7*H39)+(I$7*I39)+(J$7*J39)+(K$7*K39)+(L$7*L39)+(M$7*M39)+(N$7*N39)+(O$7*O39))","v":9},4,2,1,0,6,1,0,0,null,null,{"$f":"IF(OR('Set UP'!$C37=0,'Set UP'!$D37=0,'Set UP'!$E37=0),\"\",(Q$7*Q39)+(R$7*R39)+(S$7*S39)+(T$7*T39)+(U$7*U39)+(V$7*V39)+(W$7*W39)+(X$7*X39)+(Y$7*Y39)+(Z$7*Z39))","v":18},null,null,null,null,null,null,null,null,null,null,{"$f":"IF(OR('Set UP'!$C37=0,'Set UP'!$D37=0,'Set UP'!$E37=0),\"\",(AB$7*AB39)+(AC$7*AC39)+(AD$7*AD39)+(AE$7*AE39)+(AF$7*AF39)+(AG$7*AG39)+(AH$7*AH39)+(AI$7*AI39)+(AJ$7*AJ39)+(AK$7*AK39))","v":0},null,null,null,null,null,null,null,null,null,null,{"$f":"IF(OR('Set UP'!$C37=0,'Set UP'!$D37=0,'Set UP'!$E37=0),\"\",(AM$7*AM39)+(AN$7*AN39)+(AO$7*AO39)+(AP$7*AP39)+(AQ$7*AQ39)+(AR$7*AR39)+(AS$7*AS39)+(AT$7*AT39)+(AU$7*AU39)+(AV$7*AV39))","v":0},null,null,null,null,null,null,null,null,null,null,{"$f":"IF(OR('Set UP'!$C37=0,'Set UP'!$D37=0,'Set UP'!$E37=0),\"\",(AX$7*AX39)+(AY$7*AY39)+(AZ$7*AZ39)+(BA$7*BA39)+(BB$7*BB39)+(BC$7*BC39)+(BD$7*BD39)+(BE$7*BE39)+(BF$7*BF39)+(BG$7*BG39))","v":0},null,null,null,null,null,null,null,null,null,null,{"$f":"IF(OR('Set UP'!$C37=0,'Set UP'!$D37=0,'Set UP'!$E37=0),\"\",(BI$7*BI39)+(BJ$7*BJ39)+(BK$7*BK39)+(BL$7*BL39)+(BM$7*BM39)+(BN$7*BN39)+(BO$7*BO39)+(BP$7*BP39)+(BQ$7*BQ39)+(BR$7*BR39))","v":0},null,null,null,{"$f":"IF(OR('Set UP'!$C37=0,'Set UP'!$D37=0,'Set UP'!$E37=0),\"\",(P39+AA39+AL39+AW39+BH39+BS39))","v":27},{"$f":"IF(OR('Set UP'!$C37=0,'Set UP'!$D37=0,'Set UP'!$E37=0),\"\",RANK(BW39,$BW$9:$BW$48,0))","v":21},{"$f":"IF(OR('Set UP'!K37<>1,'Set UP'!C37=0,'Set UP'!D37=0,'Set UP'!E37=0,'Set UP'!F37=0),\"\",$BW39)","v":27},{"$f":"IF(OR('Set UP'!K37<>1,'Set UP'!C37=0,'Set UP'!D37=0,'Set UP'!E37=0,'Set UP'!F37=0),\"\",RANK(BY39,$BY$9:$BY$48,0))","v":8},{"$f":"IF(OR('Set UP'!K37<>2,'Set UP'!C37=0,'Set UP'!D37=0,'Set UP'!E37=0,'Set UP'!F37=0),\"\",$BW39)","v":""},{"$f":"IF(OR('Set UP'!K37<>2,'Set UP'!C37=0,'Set UP'!D37=0,'Set UP'!E37=0,'Set UP'!F37=0),\"\",RANK(CA39,$CA$9:$CA$48,0))","v":""}]
[null,32,{"$f":"IF(OR('Set UP'!$C38=0,'Set UP'!$D38=0,'Set UP'!$E38=0,'Set UP'!F38=0),\"  --\",'Set UP'!C38)","v":510},{"$f":"IF(OR('Set UP'!$C38=0,'Set UP'!$D38=0,'Set UP'!$E38=0,'Set UP'!F38=0),\"  --\",'Set UP'!D38&\" \"&'Set UP'!E38)","v":"University of Warwick A"},{"$f":"IF(OR('Set UP'!$C38=0,'Set UP'!$D38=0,'Set UP'!$E38=0,'Set UP'!F38=0),\"  --\",'Set UP'!F38)","v":"S"},0,null,null,null,null,null,null,null,null,null,{"$f":"IF(OR('Set UP'!$C38=0,'Set UP'!$D38=0,'Set UP'!$E38=0),\"\",(F$7*F40)+(G$7*G40)+(H$7*H40)+(I$7*I40)+(J$7*J40)+(K$7*K40)+(L$7*L40)+(M$7*M40)+(N$7*N40)+(O$7*O40))","v":0},2,0,0,0,5,0,0,0,null,null,{"$f":"IF(OR('Set UP'!$C38=0,'Set UP'!$D38=0,'Set UP'!$E38=0),\"\",(Q$7*Q40)+(R$7*R40)+(S$7*S40)+(T$7*T40)+(U$7*U40)+(V$7*V40)+(W$7*W40)+(X$7*X40)+(Y$7*Y40)+(Z$7*Z40))","v":7},null,null,null,null,null,null,null,null,null,null,{"$f":"IF(OR('Set UP'!$C38=0,'Set UP'!$D38=0,'Set UP'!$E38=0),\"\",(AB$7*AB40)+(AC$7*AC40)+(AD$7*AD40)+(AE$7*AE40)+(AF$7*AF40)+(AG$7*AG40)+(AH$7*AH40)+(AI$7*AI40)+(AJ$7*AJ40)+(AK$7*AK40))","v":0},null,null,null,null,null,null,null,null,null,null,{"$f":"IF(OR('Set UP'!$C38=0,'Set UP'!$D38=0,'Set UP'!$E38=0),\"\",(AM$7*AM40)+(AN$7*AN40)+(AO$7*AO40)+(AP$7*AP40)+(AQ$7*AQ40)+(AR$7*AR40)+(AS$7*AS40)+(AT$7*AT40)+(AU$7*AU40)+(AV$7*AV40))","v":0},null,null,null,null,null,null,null,null,null,null,{"$f":"IF(OR('Set UP'!$C38=0,'Set UP'!$D38=0,'Set UP'!$E38=0),\"\",(AX$7*AX40)+(AY$7*AY40)+(AZ$7*AZ40)+(BA$7*BA40)+(BB$7*BB40)+(BC$7*BC40)+(BD$7*BD40)+(BE$7*BE40)+(BF$7*BF40)+(BG$7*BG40))","v":0},null,null,null,null,null,null,null,null,null,null,{"$f":"IF(OR('Set UP'!$C38=0,'Set UP'!$D38=0,'Set UP'!$E38=0),\"\",(BI$7*BI40)+(BJ$7*BJ40)+(BK$7*BK40)+(BL$7*BL40)+(BM$7*BM40)+(BN$7*BN40)+(BO$7*BO40)+(BP$7*BP40)+(BQ$7*BQ40)+(BR$7*BR40))","v":0},null,null,null,{"$f":"IF(OR('Set UP'!$C38=0,'Set UP'!$D38=0,'Set UP'!$E38=0),\"\",(P40+AA40+AL40+AW40+BH40+BS40))","v":7},{"$f":"IF(OR('Set UP'!$C38=0,'Set UP'!$D38=0,'Set UP'!$E38=0),\"\",RANK(BW40,$BW$9:$BW$48,0))","v":30},{"$f":"IF(OR('Set UP'!K38<>1,'Set UP'!C38=0,'Set UP'!D38=0,'Set UP'!E38=0,'Set UP'!F38=0),\"\",$BW40)","v":7},{"$f":"IF(OR('Set UP'!K38<>1,'Set UP'!C38=0,'Set UP'!D38=0,'Set UP'!E38=0,'Set UP'!F38=0),\"\",RANK(BY40,$BY$9:$BY$48,0))","v":10},{"$f":"IF(OR('Set UP'!K38<>2,'Set UP'!C38=0,'Set UP'!D38=0,'Set UP'!E38=0,'Set UP'!F38=0),\"\",$BW40)","v":""},{"$f":"IF(OR('Set UP'!K38<>2,'Set UP'!C38=0,'Set UP'!D38=0,'Set UP'!E38=0,'Set UP'!F38=0),\"\",RANK(CA40,$CA$9:$CA$48,0))","v":""}]
[null,33,{"$f":"IF(OR('Set UP'!$C39=0,'Set UP'!$D39=0,'Set UP'!$E39=0,'Set UP'!F39=0),\"  --\",'Set UP'!C39)","v":"  --"},{"$f":"IF(OR('Set UP'!$C39=0,'Set UP'!$D39=0,'Set UP'!$E39=0,'Set UP'!F39=0),\"  --\",'Set UP'!D39&\" \"&'Set UP'!E39)","v":"  --"},{"$f":"IF(OR('Set UP'!$C39=0,'Set UP'!$D39=0,'Set UP'!$E39=0,'Set UP'!F39=0),\"  --\",'Set UP'!F39)","v":"  --"},null,null,null,null,null,null,null,null,null,null,{"$f":"IF(OR('Set UP'!$C39=0,'Set UP'!$D39=0,'Set UP'!$E39=0),\"\",(F$7*F41)+(G$7*G41)+(H$7*H41)+(I$7*I41)+(J$7*J41)+(K$7*K41)+(L$7*L41)+(M$7*M41)+(N$7*N41)+(O$7*O41))","v":""},null,null,null,null,null,null,null,null,null,null,{"$f":"IF(OR('Set UP'!$C39=0,'Set UP'!$D39=0,'Set UP'!$E39=0),\"\",(Q$7*Q41)+(R$7*R41)+(S$7*S41)+(T$7*T41)+(U$7*U41)+(V$7*V41)+(W$7*W41)+(X$7*X41)+(Y$7*Y41)+(Z$7*Z41))","v":""},null,null,null,null,null,null,null,null,null,null,{"$f":"IF(OR('Set UP'!$C39=0,'Set UP'!$D39=0,'Set UP'!$E39=0),\"\",(AB$7*AB41)+(AC$7*AC41)+(AD$7*AD41)+(AE$7*AE41)+(AF$7*AF41)+(AG$7*AG41)+(AH$7*AH41)+(AI$7*AI41)+(AJ$7*AJ41)+(AK$7*AK41))","v":""},null,null,null,null,null,null,null,null,null,null,{"$f":"IF(OR('Set UP'!$C39=0,'Set UP'!$D39=0,'Set UP'!$E39=0),\"\",(AM$7*AM41)+(AN$7*AN41)+(AO$7*AO41)+(AP$7*AP41)+(AQ$7*AQ41)+(AR$7*AR41)+(AS$7*AS41)+(AT$7*AT41)+(AU$7*AU41)+(AV$7*AV41))","v":""},null,null,null,null,null,null,null,null,null,null,{"$f":"IF(OR('Set UP'!$C39=0,'Set UP'!$D39=0,'Set UP'!$E39=0),\"\",(AX$7*AX41)+(AY$7*AY41)+(AZ$7*AZ41)+(BA$7*BA41)+(BB$7*BB41)+(BC$7*BC41)+(BD$7*BD41)+(BE$7*BE41)+(BF$7*BF41)+(BG$7*BG41))","v":""},null,null,null,null,null,null,null,null,null,null,{"$f":"IF(OR('Set UP'!$C39=0,'Set UP'!$D39=0,'Set UP'!$E39=0),\"\",(BI$7*BI41)+(BJ$7*BJ41)+(BK$7*BK41)+(BL$7*BL41)+(BM$7*BM41)+(BN$7*BN41)+(BO$7*BO41)+(BP$7*BP41)+(BQ$7*BQ41)+(BR$7*BR41))","v":""},null,null,null,{"$f":"IF(OR('Set UP'!$C39=0,'Set UP'!$D39=0,'Set UP'!$E39=0),\"\",(P41+AA41+AL41+AW41+BH41+BS41))","v":""},{"$f":"IF(OR('Set UP'!$C39=0,'Set UP'!$D39=0,'Set UP'!$E39=0),\"\",RANK(BW41,$BW$9:$BW$48,0))","v":""},{"$f":"IF(OR('Set UP'!K39<>1,'Set UP'!C39=0,'Set UP'!D39=0,'Set UP'!E39=0,'Set UP'!F39=0),\"\",$BW41)","v":""},{"$f":"IF(OR('Set UP'!K39<>1,'Set UP'!C39=0,'Set UP'!D39=0,'Set UP'!E39=0,'Set UP'!F39=0),\"\",RANK(BY41,$BY$9:$BY$48,0))","v":""},{"$f":"IF(OR('Set UP'!K39<>2,'Set UP'!C39=0,'Set UP'!D39=0,'Set UP'!E39=0,'Set UP'!F39=0),\"\",$BW41)","v":""},{"$f":"IF(OR('Set UP'!K39<>2,'Set UP'!C39=0,'Set UP'!D39=0,'Set UP'!E39=0,'Set UP'!F39=0),\"\",RANK(CA41,$CA$9:$CA$48,0))","v":""}]
[null,34,{"$f":"IF(OR('Set UP'!$C40=0,'Set UP'!$D40=0,'Set UP'!$E40=0,'Set UP'!F40=0),\"  --\",'Set UP'!C40)","v":"  --"},{"$f":"IF(OR('Set UP'!$C40=0,'Set UP'!$D40=0,'Set UP'!$E40=0,'Set UP'!F40=0),\"  --\",'Set UP'!D40&\" \"&'Set UP'!E40)","v":"  --"},{"$f":"IF(OR('Set UP'!$C40=0,'Set UP'!$D40=0,'Set UP'!$E40=0,'Set UP'!F40=0),\"  --\",'Set UP'!F40)","v":"  --"},null,null,null,null,null,null,null,null,null,null,{"$f":"IF(OR('Set UP'!$C40=0,'Set UP'!$D40=0,'Set UP'!$E40=0),\"\",(F$7*F42)+(G$7*G42)+(H$7*H42)+(I$7*I42)+(J$7*J42)+(K$7*K42)+(L$7*L42)+(M$7*M42)+(N$7*N42)+(O$7*O42))","v":""},null,null,null,null,null,null,null,null,null,null,{"$f":"IF(OR('Set UP'!$C40=0,'Set UP'!$D40=0,'Set UP'!$E40=0),\"\",(Q$7*Q42)+(R$7*R42)+(S$7*S42)+(T$7*T42)+(U$7*U42)+(V$7*V42)+(W$7*W42)+(X$7*X42)+(Y$7*Y42)+(Z$7*Z42))","v":""},null,null,null,null,null,null,null,null,null,null,{"$f":"IF(OR('Set UP'!$C40=0,'Set UP'!$D40=0,'Set UP'!$E40=0),\"\",(AB$7*AB42)+(AC$7*AC42)+(AD$7*AD42)+(AE$7*AE42)+(AF$7*AF42)+(AG$7*AG42)+(AH$7*AH42)+(AI$7*AI42)+(AJ$7*AJ42)+(AK$7*AK42))","v":""},null,null,null,null,null,null,null,null,null,null,{"$f":"IF(OR('Set UP'!$C40=0,'Set UP'!$D40=0,'Set UP'!$E40=0),\"\",(AM$7*AM42)+(AN$7*AN42)+(AO$7*AO42)+(AP$7*AP42)+(AQ$7*AQ42)+(AR$7*AR42)+(AS$7*AS42)+(AT$7*AT42)+(AU$7*AU42)+(AV$7*AV42))","v":""},null,null,null,null,null,null,null,null,null,null,{"$f":"IF(OR('Set UP'!$C40=0,'Set UP'!$D40=0,'Set UP'!$E40=0),\"\",(AX$7*AX42)+(AY$7*AY42)+(AZ$7*AZ42)+(BA$7*BA42)+(BB$7*BB42)+(BC$7*BC42)+(BD$7*BD42)+(BE$7*BE42)+(BF$7*BF42)+(BG$7*BG42))","v":""},null,null,null,null,null,null,null,null,null,null,{"$f":"IF(OR('Set UP'!$C40=0,'Set UP'!$D40=0,'Set UP'!$E40=0),\"\",(BI$7*BI42)+(BJ$7*BJ42)+(BK$7*BK42)+(BL$7*BL42)+(BM$7*BM42)+(BN$7*BN42)+(BO$7*BO42)+(BP$7*BP42)+(BQ$7*BQ42)+(BR$7*BR42))","v":""},null,null,null,{"$f":"IF(OR('Set UP'!$C40=0,'Set UP'!$D40=0,'Set UP'!$E40=0),\"\",(P42+AA42+AL42+AW42+BH42+BS42))","v":""},{"$f":"IF(OR('Set UP'!$C40=0,'Set UP'!$D40=0,'Set UP'!$E40=0),\"\",RANK(BW42,$BW$9:$BW$48,0))","v":""},{"$f":"IF(OR('Set UP'!K40<>1,'Set UP'!C40=0,'Set UP'!D40=0,'Set UP'!E40=0,'Set UP'!F40=0),\"\",$BW42)","v":""},{"$f":"IF(OR('Set UP'!K40<>1,'Set UP'!C40=0,'Set UP'!D40=0,'Set UP'!E40=0,'Set UP'!F40=0),\"\",RANK(BY42,$BY$9:$BY$48,0))","v":""},{"$f":"IF(OR('Set UP'!K40<>2,'Set UP'!C40=0,'Set UP'!D40=0,'Set UP'!E40=0,'Set UP'!F40=0),\"\",$BW42)","v":""},{"$f":"IF(OR('Set UP'!K40<>2,'Set UP'!C40=0,'Set UP'!D40=0,'Set UP'!E40=0,'Set UP'!F40=0),\"\",RANK(CA42,$CA$9:$CA$48,0))","v":""}]
[null,35,{"$f":"IF(OR('Set UP'!$C41=0,'Set UP'!$D41=0,'Set UP'!$E41=0,'Set UP'!F41=0),\"  --\",'Set UP'!C41)","v":"  --"},{"$f":"IF(OR('Set UP'!$C41=0,'Set UP'!$D41=0,'Set UP'!$E41=0,'Set UP'!F41=0),\"  --\",'Set UP'!D41&\" \"&'Set UP'!E41)","v":"  --"},{"$f":"IF(OR('Set UP'!$C41=0,'Set UP'!$D41=0,'Set UP'!$E41=0,'Set UP'!F41=0),\"  --\",'Set UP'!F41)","v":"  --"},null,null,null,null,null,null,null,null,null,null,{"$f":"IF(OR('Set UP'!$C41=0,'Set UP'!$D41=0,'Set UP'!$E41=0),\"\",(F$7*F43)+(G$7*G43)+(H$7*H43)+(I$7*I43)+(J$7*J43)+(K$7*K43)+(L$7*L43)+(M$7*M43)+(N$7*N43)+(O$7*O43))","v":""},null,null,null,null,null,null,null,null,null,null,{"$f":"IF(OR('Set UP'!$C41=0,'Set UP'!$D41=0,'Set UP'!$E41=0),\"\",(Q$7*Q43)+(R$7*R43)+(S$7*S43)+(T$7*T43)+(U$7*U43)+(V$7*V43)+(W$7*W43)+(X$7*X43)+(Y$7*Y43)+(Z$7*Z43))","v":""},null,null,null,null,null,null,null,null,null,null,{"$f":"IF(OR('Set UP'!$C41=0,'Set UP'!$D41=0,'Set UP'!$E41=0),\"\",(AB$7*AB43)+(AC$7*AC43)+(AD$7*AD43)+(AE$7*AE43)+(AF$7*AF43)+(AG$7*AG43)+(AH$7*AH43)+(AI$7*AI43)+(AJ$7*AJ43)+(AK$7*AK43))","v":""},null,null,null,null,null,null,null,null,null,null,{"$f":"IF(OR('Set UP'!$C41=0,'Set UP'!$D41=0,'Set UP'!$E41=0),\"\",(AM$7*AM43)+(AN$7*AN43)+(AO$7*AO43)+(AP$7*AP43)+(AQ$7*AQ43)+(AR$7*AR43)+(AS$7*AS43)+(AT$7*AT43)+(AU$7*AU43)+(AV$7*AV43))","v":""},null,null,null,null,null,null,null,null,null,null,{"$f":"IF(OR('Set UP'!$C41=0,'Set UP'!$D41=0,'Set UP'!$E41=0),\"\",(AX$7*AX43)+(AY$7*AY43)+(AZ$7*AZ43)+(BA$7*BA43)+(BB$7*BB43)+(BC$7*BC43)+(BD$7*BD43)+(BE$7*BE43)+(BF$7*BF43)+(BG$7*BG43))","v":""},null,null,null,null,null,null,null,null,null,null,{"$f":"IF(OR('Set UP'!$C41=0,'Set UP'!$D41=0,'Set UP'!$E41=0),\"\",(BI$7*BI43)+(BJ$7*BJ43)+(BK$7*BK43)+(BL$7*BL43)+(BM$7*BM43)+(BN$7*BN43)+(BO$7*BO43)+(BP$7*BP43)+(BQ$7*BQ43)+(BR$7*BR43))","v":""},null,null,null,{"$f":"IF(OR('Set UP'!$C41=0,'Set UP'!$D41=0,'Set UP'!$E41=0),\"\",(P43+AA43+AL43+AW43+BH43+BS43))","v":""},{"$f":"IF(OR('Set UP'!$C41=0,'Set UP'!$D41=0,'Set UP'!$E41=0),\"\",RANK(BW43,$BW$9:$BW$48,0))","v":""},{"$f":"IF(OR('Set UP'!K41<>1,'Set UP'!C41=0,'Set UP'!D41=0,'Set UP'!E41=0,'Set UP'!F41=0),\"\",$BW43)","v":""},{"$f":"IF(OR('Set UP'!K41<>1,'Set UP'!C41=0,'Set UP'!D41=0,'Set UP'!E41=0,'Set UP'!F41=0),\"\",RANK(BY43,$BY$9:$BY$48,0))","v":""},{"$f":"IF(OR('Set UP'!K41<>2,'Set UP'!C41=0,'Set UP'!D41=0,'Set UP'!E41=0,'Set UP'!F41=0),\"\",$BW43)","v":""},{"$f":"IF(OR('Set UP'!K41<>2,'Set UP'!C41=0,'Set UP'!D41=0,'Set UP'!E41=0,'Set UP'!F41=0),\"\",RANK(CA43,$CA$9:$CA$48,0))","v":""}]
[null,36,{"$f":"IF(OR('Set UP'!$C42=0,'Set UP'!$D42=0,'Set UP'!$E42=0,'Set UP'!F42=0),\"  --\",'Set UP'!C42)","v":"  --"},{"$f":"IF(OR('Set UP'!$C42=0,'Set UP'!$D42=0,'Set UP'!$E42=0,'Set UP'!F42=0),\"  --\",'Set UP'!D42&\" \"&'Set UP'!E42)","v":"  --"},{"$f":"IF(OR('Set UP'!$C42=0,'Set UP'!$D42=0,'Set UP'!$E42=0,'Set UP'!F42=0),\"  --\",'Set UP'!F42)","v":"  --"},null,null,null,null,null,null,null,null,null,null,{"$f":"IF(OR('Set UP'!$C42=0,'Set UP'!$D42=0,'Set UP'!$E42=0),\"\",(F$7*F44)+(G$7*G44)+(H$7*H44)+(I$7*I44)+(J$7*J44)+(K$7*K44)+(L$7*L44)+(M$7*M44)+(N$7*N44)+(O$7*O44))","v":""},null,null,null,null,null,null,null,null,null,null,{"$f":"IF(OR('Set UP'!$C42=0,'Set UP'!$D42=0,'Set UP'!$E42=0),\"\",(Q$7*Q44)+(R$7*R44)+(S$7*S44)+(T$7*T44)+(U$7*U44)+(V$7*V44)+(W$7*W44)+(X$7*X44)+(Y$7*Y44)+(Z$7*Z44))","v":""},null,null,null,null,null,null,null,null,null,null,{"$f":"IF(OR('Set UP'!$C42=0,'Set UP'!$D42=0,'Set UP'!$E42=0),\"\",(AB$7*AB44)+(AC$7*AC44)+(AD$7*AD44)+(AE$7*AE44)+(AF$7*AF44)+(AG$7*AG44)+(AH$7*AH44)+(AI$7*AI44)+(AJ$7*AJ44)+(AK$7*AK44))","v":""},null,null,null,null,null,null,null,null,null,null,{"$f":"IF(OR('Set UP'!$C42=0,'Set UP'!$D42=0,'Set UP'!$E42=0),\"\",(AM$7*AM44)+(AN$7*AN44)+(AO$7*AO44)+(AP$7*AP44)+(AQ$7*AQ44)+(AR$7*AR44)+(AS$7*AS44)+(AT$7*AT44)+(AU$7*AU44)+(AV$7*AV44))","v":""},null,null,null,null,null,null,null,null,null,null,{"$f":"IF(OR('Set UP'!$C42=0,'Set UP'!$D42=0,'Set UP'!$E42=0),\"\",(AX$7*AX44)+(AY$7*AY44)+(AZ$7*AZ44)+(BA$7*BA44)+(BB$7*BB44)+(BC$7*BC44)+(BD$7*BD44)+(BE$7*BE44)+(BF$7*BF44)+(BG$7*BG44))","v":""},null,null,null,null,null,null,null,null,null,null,{"$f":"IF(OR('Set UP'!$C42=0,'Set UP'!$D42=0,'Set UP'!$E42=0),\"\",(BI$7*BI44)+(BJ$7*BJ44)+(BK$7*BK44)+(BL$7*BL44)+(BM$7*BM44)+(BN$7*BN44)+(BO$7*BO44)+(BP$7*BP44)+(BQ$7*BQ44)+(BR$7*BR44))","v":""},null,null,null,{"$f":"IF(OR('Set UP'!$C42=0,'Set UP'!$D42=0,'Set UP'!$E42=0),\"\",(P44+AA44+AL44+AW44+BH44+BS44))","v":""},{"$f":"IF(OR('Set UP'!$C42=0,'Set UP'!$D42=0,'Set UP'!$E42=0),\"\",RANK(BW44,$BW$9:$BW$48,0))","v":""},{"$f":"IF(OR('Set UP'!K42<>1,'Set UP'!C42=0,'Set UP'!D42=0,'Set UP'!E42=0,'Set UP'!F42=0),\"\",$BW44)","v":""},{"$f":"IF(OR('Set UP'!K42<>1,'Set UP'!C42=0,'Set UP'!D42=0,'Set UP'!E42=0,'Set UP'!F42=0),\"\",RANK(BY44,$BY$9:$BY$48,0))","v":""},{"$f":"IF(OR('Set UP'!K42<>2,'Set UP'!C42=0,'Set UP'!D42=0,'Set UP'!E42=0,'Set UP'!F42=0),\"\",$BW44)","v":""},{"$f":"IF(OR('Set UP'!K42<>2,'Set UP'!C42=0,'Set UP'!D42=0,'Set UP'!E42=0,'Set UP'!F42=0),\"\",RANK(CA44,$CA$9:$CA$48,0))","v":""}]
[null,37,{"$f":"IF(OR('Set UP'!$C43=0,'Set UP'!$D43=0,'Set UP'!$E43=0,'Set UP'!F43=0),\"  --\",'Set UP'!C43)","v":"  --"},{"$f":"IF(OR('Set UP'!$C43=0,'Set UP'!$D43=0,'Set UP'!$E43=0,'Set UP'!F43=0),\"  --\",'Set UP'!D43&\" \"&'Set UP'!E43)","v":"  --"},{"$f":"IF(OR('Set UP'!$C43=0,'Set UP'!$D43=0,'Set UP'!$E43=0,'Set UP'!F43=0),\"  --\",'Set UP'!F43)","v":"  --"},null,null,null,null,null,null,null,null,null,null,{"$f":"IF(OR('Set UP'!$C43=0,'Set UP'!$D43=0,'Set UP'!$E43=0),\"\",(F$7*F45)+(G$7*G45)+(H$7*H45)+(I$7*I45)+(J$7*J45)+(K$7*K45)+(L$7*L45)+(M$7*M45)+(N$7*N45)+(O$7*O45))","v":""},null,null,null,null,null,null,null,null,null,null,{"$f":"IF(OR('Set UP'!$C43=0,'Set UP'!$D43=0,'Set UP'!$E43=0),\"\",(Q$7*Q45)+(R$7*R45)+(S$7*S45)+(T$7*T45)+(U$7*U45)+(V$7*V45)+(W$7*W45)+(X$7*X45)+(Y$7*Y45)+(Z$7*Z45))","v":""},null,null,null,null,null,null,null,null,null,null,{"$f":"IF(OR('Set UP'!$C43=0,'Set UP'!$D43=0,'Set UP'!$E43=0),\"\",(AB$7*AB45)+(AC$7*AC45)+(AD$7*AD45)+(AE$7*AE45)+(AF$7*AF45)+(AG$7*AG45)+(AH$7*AH45)+(AI$7*AI45)+(AJ$7*AJ45)+(AK$7*AK45))","v":""},null,null,null,null,null,null,null,null,null,null,{"$f":"IF(OR('Set UP'!$C43=0,'Set UP'!$D43=0,'Set UP'!$E43=0),\"\",(AM$7*AM45)+(AN$7*AN45)+(AO$7*AO45)+(AP$7*AP45)+(AQ$7*AQ45)+(AR$7*AR45)+(AS$7*AS45)+(AT$7*AT45)+(AU$7*AU45)+(AV$7*AV45))","v":""},null,null,null,null,null,null,null,null,null,null,{"$f":"IF(OR('Set UP'!$C43=0,'Set UP'!$D43=0,'Set UP'!$E43=0),\"\",(AX$7*AX45)+(AY$7*AY45)+(AZ$7*AZ45)+(BA$7*BA45)+(BB$7*BB45)+(BC$7*BC45)+(BD$7*BD45)+(BE$7*BE45)+(BF$7*BF45)+(BG$7*BG45))","v":""},null,null,null,null,null,null,null,null,null,null,{"$f":"IF(OR('Set UP'!$C43=0,'Set UP'!$D43=0,'Set UP'!$E43=0),\"\",(BI$7*BI45)+(BJ$7*BJ45)+(BK$7*BK45)+(BL$7*BL45)+(BM$7*BM45)+(BN$7*BN45)+(BO$7*BO45)+(BP$7*BP45)+(BQ$7*BQ45)+(BR$7*BR45))","v":""},null,null,null,{"$f":"IF(OR('Set UP'!$C43=0,'Set UP'!$D43=0,'Set UP'!$E43=0),\"\",(P45+AA45+AL45+AW45+BH45+BS45))","v":""},{"$f":"IF(OR('Set UP'!$C43=0,'Set UP'!$D43=0,'Set UP'!$E43=0),\"\",RANK(BW45,$BW$9:$BW$48,0))","v":""},{"$f":"IF(OR('Set UP'!K43<>1,'Set UP'!C43=0,'Set UP'!D43=0,'Set UP'!E43=0,'Set UP'!F43=0),\"\",$BW45)","v":""},{"$f":"IF(OR('Set UP'!K43<>1,'Set UP'!C43=0,'Set UP'!D43=0,'Set UP'!E43=0,'Set UP'!F43=0),\"\",RANK(BY45,$BY$9:$BY$48,0))","v":""},{"$f":"IF(OR('Set UP'!K43<>2,'Set UP'!C43=0,'Set UP'!D43=0,'Set UP'!E43=0,'Set UP'!F43=0),\"\",$BW45)","v":""},{"$f":"IF(OR('Set UP'!K43<>2,'Set UP'!C43=0,'Set UP'!D43=0,'Set UP'!E43=0,'Set UP'!F43=0),\"\",RANK(CA45,$CA$9:$CA$48,0))","v":""}]
[null,38,{"$f":"IF(OR('Set UP'!$C44=0,'Set UP'!$D44=0,'Set UP'!$E44=0,'Set UP'!F44=0),\"  --\",'Set UP'!C44)","v":"  --"},{"$f":"IF(OR('Set UP'!$C44=0,'Set UP'!$D44=0,'Set UP'!$E44=0,'Set UP'!F44=0),\"  --\",'Set UP'!D44&\" \"&'Set UP'!E44)","v":"  --"},{"$f":"IF(OR('Set UP'!$C44=0,'Set UP'!$D44=0,'Set UP'!$E44=0,'Set UP'!F44=0),\"  --\",'Set UP'!F44)","v":"  --"},null,null,null,null,null,null,null,null,null,null,{"$f":"IF(OR('Set UP'!$C44=0,'Set UP'!$D44=0,'Set UP'!$E44=0),\"\",(F$7*F46)+(G$7*G46)+(H$7*H46)+(I$7*I46)+(J$7*J46)+(K$7*K46)+(L$7*L46)+(M$7*M46)+(N$7*N46)+(O$7*O46))","v":""},null,null,null,null,null,null,null,null,null,null,{"$f":"IF(OR('Set UP'!$C44=0,'Set UP'!$D44=0,'Set UP'!$E44=0),\"\",(Q$7*Q46)+(R$7*R46)+(S$7*S46)+(T$7*T46)+(U$7*U46)+(V$7*V46)+(W$7*W46)+(X$7*X46)+(Y$7*Y46)+(Z$7*Z46))","v":""},null,null,null,null,null,null,null,null,null,null,{"$f":"IF(OR('Set UP'!$C44=0,'Set UP'!$D44=0,'Set UP'!$E44=0),\"\",(AB$7*AB46)+(AC$7*AC46)+(AD$7*AD46)+(AE$7*AE46)+(AF$7*AF46)+(AG$7*AG46)+(AH$7*AH46)+(AI$7*AI46)+(AJ$7*AJ46)+(AK$7*AK46))","v":""},null,null,null,null,null,null,null,null,null,null,{"$f":"IF(OR('Set UP'!$C44=0,'Set UP'!$D44=0,'Set UP'!$E44=0),\"\",(AM$7*AM46)+(AN$7*AN46)+(AO$7*AO46)+(AP$7*AP46)+(AQ$7*AQ46)+(AR$7*AR46)+(AS$7*AS46)+(AT$7*AT46)+(AU$7*AU46)+(AV$7*AV46))","v":""},null,null,null,null,null,null,null,null,null,null,{"$f":"IF(OR('Set UP'!$C44=0,'Set UP'!$D44=0,'Set UP'!$E44=0),\"\",(AX$7*AX46)+(AY$7*AY46)+(AZ$7*AZ46)+(BA$7*BA46)+(BB$7*BB46)+(BC$7*BC46)+(BD$7*BD46)+(BE$7*BE46)+(BF$7*BF46)+(BG$7*BG46))","v":""},null,null,null,null,null,null,null,null,null,null,{"$f":"IF(OR('Set UP'!$C44=0,'Set UP'!$D44=0,'Set UP'!$E44=0),\"\",(BI$7*BI46)+(BJ$7*BJ46)+(BK$7*BK46)+(BL$7*BL46)+(BM$7*BM46)+(BN$7*BN46)+(BO$7*BO46)+(BP$7*BP46)+(BQ$7*BQ46)+(BR$7*BR46))","v":""},null,null,null,{"$f":"IF(OR('Set UP'!$C44=0,'Set UP'!$D44=0,'Set UP'!$E44=0),\"\",(P46+AA46+AL46+AW46+BH46+BS46))","v":""},{"$f":"IF(OR('Set UP'!$C44=0,'Set UP'!$D44=0,'Set UP'!$E44=0),\"\",RANK(BW46,$BW$9:$BW$48,0))","v":""},{"$f":"IF(OR('Set UP'!K44<>1,'Set UP'!C44=0,'Set UP'!D44=0,'Set UP'!E44=0,'Set UP'!F44=0),\"\",$BW46)","v":""},{"$f":"IF(OR('Set UP'!K44<>1,'Set UP'!C44=0,'Set UP'!D44=0,'Set UP'!E44=0,'Set UP'!F44=0),\"\",RANK(BY46,$BY$9:$BY$48,0))","v":""},{"$f":"IF(OR('Set UP'!K44<>2,'Set UP'!C44=0,'Set UP'!D44=0,'Set UP'!E44=0,'Set UP'!F44=0),\"\",$BW46)","v":""},{"$f":"IF(OR('Set UP'!K44<>2,'Set UP'!C44=0,'Set UP'!D44=0,'Set UP'!E44=0,'Set UP'!F44=0),\"\",RANK(CA46,$CA$9:$CA$48,0))","v":""}]
[null,39,{"$f":"IF(OR('Set UP'!$C45=0,'Set UP'!$D45=0,'Set UP'!$E45=0,'Set UP'!F45=0),\"  --\",'Set UP'!C45)","v":"  --"},{"$f":"IF(OR('Set UP'!$C45=0,'Set UP'!$D45=0,'Set UP'!$E45=0,'Set UP'!F45=0),\"  --\",'Set UP'!D45&\" \"&'Set UP'!E45)","v":"  --"},{"$f":"IF(OR('Set UP'!$C45=0,'Set UP'!$D45=0,'Set UP'!$E45=0,'Set UP'!F45=0),\"  --\",'Set UP'!F45)","v":"  --"},null,null,null,null,null,null,null,null,null,null,{"$f":"IF(OR('Set UP'!$C45=0,'Set UP'!$D45=0,'Set UP'!$E45=0),\"\",(F$7*F47)+(G$7*G47)+(H$7*H47)+(I$7*I47)+(J$7*J47)+(K$7*K47)+(L$7*L47)+(M$7*M47)+(N$7*N47)+(O$7*O47))","v":""},null,null,null,null,null,null,null,null,null,null,{"$f":"IF(OR('Set UP'!$C45=0,'Set UP'!$D45=0,'Set UP'!$E45=0),\"\",(Q$7*Q47)+(R$7*R47)+(S$7*S47)+(T$7*T47)+(U$7*U47)+(V$7*V47)+(W$7*W47)+(X$7*X47)+(Y$7*Y47)+(Z$7*Z47))","v":""},null,null,null,null,null,null,null,null,null,null,{"$f":"IF(OR('Set UP'!$C45=0,'Set UP'!$D45=0,'Set UP'!$E45=0),\"\",(AB$7*AB47)+(AC$7*AC47)+(AD$7*AD47)+(AE$7*AE47)+(AF$7*AF47)+(AG$7*AG47)+(AH$7*AH47)+(AI$7*AI47)+(AJ$7*AJ47)+(AK$7*AK47))","v":""},null,null,null,null,null,null,null,null,null,null,{"$f":"IF(OR('Set UP'!$C45=0,'Set UP'!$D45=0,'Set UP'!$E45=0),\"\",(AM$7*AM47)+(AN$7*AN47)+(AO$7*AO47)+(AP$7*AP47)+(AQ$7*AQ47)+(AR$7*AR47)+(AS$7*AS47)+(AT$7*AT47)+(AU$7*AU47)+(AV$7*AV47))","v":""},null,null,null,null,null,null,null,null,null,null,{"$f":"IF(OR('Set UP'!$C45=0,'Set UP'!$D45=0,'Set UP'!$E45=0),\"\",(AX$7*AX47)+(AY$7*AY47)+(AZ$7*AZ47)+(BA$7*BA47)+(BB$7*BB47)+(BC$7*BC47)+(BD$7*BD47)+(BE$7*BE47)+(BF$7*BF47)+(BG$7*BG47))","v":""},null,null,null,null,null,null,null,null,null,null,{"$f":"IF(OR('Set UP'!$C45=0,'Set UP'!$D45=0,'Set UP'!$E45=0),\"\",(BI$7*BI47)+(BJ$7*BJ47)+(BK$7*BK47)+(BL$7*BL47)+(BM$7*BM47)+(BN$7*BN47)+(BO$7*BO47)+(BP$7*BP47)+(BQ$7*BQ47)+(BR$7*BR47))","v":""},null,null,null,{"$f":"IF(OR('Set UP'!$C45=0,'Set UP'!$D45=0,'Set UP'!$E45=0),\"\",(P47+AA47+AL47+AW47+BH47+BS47))","v":""},{"$f":"IF(OR('Set UP'!$C45=0,'Set UP'!$D45=0,'Set UP'!$E45=0),\"\",RANK(BW47,$BW$9:$BW$48,0))","v":""},{"$f":"IF(OR('Set UP'!K45<>1,'Set UP'!C45=0,'Set UP'!D45=0,'Set UP'!E45=0,'Set UP'!F45=0),\"\",$BW47)","v":""},{"$f":"IF(OR('Set UP'!K45<>1,'Set UP'!C45=0,'Set UP'!D45=0,'Set UP'!E45=0,'Set UP'!F45=0),\"\",RANK(BY47,$BY$9:$BY$48,0))","v":""},{"$f":"IF(OR('Set UP'!K45<>2,'Set UP'!C45=0,'Set UP'!D45=0,'Set UP'!E45=0,'Set UP'!F45=0),\"\",$BW47)","v":""},{"$f":"IF(OR('Set UP'!K45<>2,'Set UP'!C45=0,'Set UP'!D45=0,'Set UP'!E45=0,'Set UP'!F45=0),\"\",RANK(CA47,$CA$9:$CA$48,0))","v":""}]
[null,40,{"$f":"IF(OR('Set UP'!$C46=0,'Set UP'!$D46=0,'Set UP'!$E46=0,'Set UP'!F46=0),\"  --\",'Set UP'!C46)","v":"  --"},{"$f":"IF(OR('Set UP'!$C46=0,'Set UP'!$D46=0,'Set UP'!$E46=0,'Set UP'!F46=0),\"  --\",'Set UP'!D46&\" \"&'Set UP'!E46)","v":"  --"},{"$f":"IF(OR('Set UP'!$C46=0,'Set UP'!$D46=0,'Set UP'!$E46=0,'Set UP'!F46=0),\"  --\",'Set UP'!F46)","v":"  --"},null,null,null,null,null,null,null,null,null,null,{"$f":"IF(OR('Set UP'!$C46=0,'Set UP'!$D46=0,'Set UP'!$E46=0),\"\",(F$7*F48)+(G$7*G48)+(H$7*H48)+(I$7*I48)+(J$7*J48)+(K$7*K48)+(L$7*L48)+(M$7*M48)+(N$7*N48)+(O$7*O48))","v":""},null,null,null,null,null,null,null,null,null,null,{"$f":"IF(OR('Set UP'!$C46=0,'Set UP'!$D46=0,'Set UP'!$E46=0),\"\",(Q$7*Q48)+(R$7*R48)+(S$7*S48)+(T$7*T48)+(U$7*U48)+(V$7*V48)+(W$7*W48)+(X$7*X48)+(Y$7*Y48)+(Z$7*Z48))","v":""},null,null,null,null,null,null,null,null,null,null,{"$f":"IF(OR('Set UP'!$C46=0,'Set UP'!$D46=0,'Set UP'!$E46=0),\"\",(AB$7*AB48)+(AC$7*AC48)+(AD$7*AD48)+(AE$7*AE48)+(AF$7*AF48)+(AG$7*AG48)+(AH$7*AH48)+(AI$7*AI48)+(AJ$7*AJ48)+(AK$7*AK48))","v":""},null,null,null,null,null,null,null,null,null,null,{"$f":"IF(OR('Set UP'!$C46=0,'Set UP'!$D46=0,'Set UP'!$E46=0),\"\",(AM$7*AM48)+(AN$7*AN48)+(AO$7*AO48)+(AP$7*AP48)+(AQ$7*AQ48)+(AR$7*AR48)+(AS$7*AS48)+(AT$7*AT48)+(AU$7*AU48)+(AV$7*AV48))","v":""},null,null,null,null,null,null,null,null,null,null,{"$f":"IF(OR('Set UP'!$C46=0,'Set UP'!$D46=0,'Set UP'!$E46=0),\"\",(AX$7*AX48)+(AY$7*AY48)+(AZ$7*AZ48)+(BA$7*BA48)+(BB$7*BB48)+(BC$7*BC48)+(BD$7*BD48)+(BE$7*BE48)+(BF$7*BF48)+(BG$7*BG48))","v":""},null,null,null,null,null,null,null,null,null,null,{"$f":"IF(OR('Set UP'!$C46=0,'Set UP'!$D46=0,'Set UP'!$E46=0),\"\",(BI$7*BI48)+(BJ$7*BJ48)+(BK$7*BK48)+(BL$7*BL48)+(BM$7*BM48)+(BN$7*BN48)+(BO$7*BO48)+(BP$7*BP48)+(BQ$7*BQ48)+(BR$7*BR48))","v":""},null,null,null,{"$f":"IF(OR('Set UP'!$C46=0,'Set UP'!$D46=0,'Set UP'!$E46=0),\"\",(P48+AA48+AL48+AW48+BH48+BS48))","v":""},{"$f":"IF(OR('Set UP'!$C46=0,'Set UP'!$D46=0,'Set UP'!$E46=0),\"\",RANK(BW48,$BW$9:$BW$48,0))","v":""},{"$f":"IF(OR('Set UP'!K46<>1,'Set UP'!C46=0,'Set UP'!D46=0,'Set UP'!E46=0,'Set UP'!F46=0),\"\",$BW48)","v":""},{"$f":"IF(OR('Set UP'!K46<>1,'Set UP'!C46=0,'Set UP'!D46=0,'Set UP'!E46=0,'Set UP'!F46=0),\"\",RANK(BY48,$BY$9:$BY$48,0))","v":""},{"$f":"IF(OR('Set UP'!K46<>2,'Set UP'!C46=0,'Set UP'!D46=0,'Set UP'!E46=0,'Set UP'!F46=0),\"\",$BW48)","v":""},{"$f":"IF(OR('Set UP'!K46<>2,'Set UP'!C46=0,'Set UP'!D46=0,'Set UP'!E46=0,'Set UP'!F46=0),\"\",RANK(CA48,$CA$9:$CA$48,0))","v":""}]

{"sheet":"RopeThrow","index":6,"n_rows":66,"n_cols":23,"rows_kept":66,"cut":false,"hidden":false,"merged":[[4,22,5,22],[4,1,5,1],[4,20,5,20],[4,8,5,8],[4,14,5,14],[4,3,5,3],[4,5,4,7],[4,17,4,19],[4,2,5,2],[4,15,5,15],[4,9,5,9],[4,11,5,11],[4,4,5,4],[4,21,5,21],[4,16,5,16]]}
[]
[]
[null,null,null,{"$f":"'Set UP'!Q8","v":"Rope Throw"}]
[]
[null,null,"Web","Team","Class","Stopwatch Time",null,null,null,"Finish Status",null,"No. \nPenalties",null,null,"Competition\nScore Column","A League\nScore Column","B League\nScore Column","Total Time",null,null,"Position\n(Competition)","Position\n(A League)","Position\n(B League)"]
[null,null,null,null,null,"mins","secs","1/100\nsec",null,null,null,null,null,null,null,null,null,"mins","secs","1/100 sec"]
[null,1,{"$f":"IF(OR('Set UP'!$C7=0,'Set UP'!$D7=0,'Set UP'!$E7=0,'Set UP'!F7=0),\"  --\",'Set UP'!C7)","v":537},{"$f":"IF(OR('Set UP'!$C7=0,'Set UP'!$D7=0,'Set UP'!$E7=0,'Set UP'!F7=0),\"  --\",'Set UP'!D7&\" \"&'Set UP'!E7)","v":"Heanor A"},{"$f":"IF(OR('Set UP'!$C7=0,'Set UP'!$D7=0,'Set UP'!$E7=0,'Set UP'!F7=0),\" --\",'Set UP'!F7)","v":"NS"},1,52,0,{"$f":"IF(AND(ISBLANK(F7),ISBLANK(G7),ISBLANK(H7)),\"\",(F7*60)+G7+(H7/100))","v":112},"Finished",{"$f":"IF(J7=\"Finished\",\"4\",IF(J7=\"DNF - 3 Persons In\",\"3\",IF(J7=\"DNF - 2 Persons In\",\"2\",IF(J7=\"DNF - 1 Persons In\",\"1\",IF(J7=\"DNF - 0 Persons In\",\"0\",IF(J7=\"Disqualified\",\"Disqualified\",\"\"))))))","v":"4"},1,{"$f":"IF(K7=\"\",\"\",IF(K7=\"Disqualified\",\"Disqualified\",(K7-L7)))","v":3},{"$f":"IF(M7=4,\"Finished\",IF(M7=3,\"DNF - 3 Persons In\",IF(M7=2,\"DNF - 2 Persons In\",IF(M7=1,\"DNF - 1 Persons In\",IF(M7<=0,\"DNF - 0 Persons In\",IF(M7=\"Disqualified\",\"Disqualified\",\"\"))))))","v":"DNF - 3 Persons In"},{"$f":"IF(D7=\"  --\",\"\",IF(J7=\"\",\"\",IF(NOT(N7=\"Finished\"),N7,IF(OR(G7=\"\",H7=\"\"),\"\",I7))))","v":"DNF - 3 Persons In"},{"$f":"IF('Set UP'!K7<>1,\"\",$O7)","v":""},{"$f":"IF('Set UP'!K7<>2,\"\",$O7)","v":""},{"$f":"IF(H7=\"  --\",\"\",IF(O7=\"Disqualified\",\"DQ\",IF(OR(O7=\"DNF - 0 Persons In\",O7=\"DNF - 1 Persons In\",O7=\"DNF - 2 Persons In\",O7=\"DNF - 3 Persons In\"),\"DNF\",IF(O7=\"\",\"\",INT(O7/60)))))","v":"DNF"},{"$f":"IF(D7=\"  --\",\"\",IF(ISNUMBER(O7),INT(O7-(R7*60)),IF(O7=\"DNF - 3 Persons In\",\"3 In\",IF(O7=\"DNF - 2 Persons In\",\"2 In\",IF(O7=\"DNF - 1 Persons In\",\"1 In\",IF(O7=\"DNF - 0 Persons In\",\"0 In\",\"\"))))))","v":"3 In"},{"$f":"IF(D7=\"  --\",\"\", IF(NOT(ISNUMBER(O7)),\"\",100*(O7-((R7*60)+S7))))","v":""},14]
[null,2,{"$f":"IF(OR('Set UP'!$C8=0,'Set UP'!$D8=0,'Set UP'!$E8=0,'Set UP'!F8=0),\"  --\",'Set UP'!C8)","v":483},{"$f":"IF(OR('Set UP'!$C8=0,'Set UP'!$D8=0,'Set UP'!$E8=0,'Set UP'!F8=0),\"  --\",'Set UP'!D8&\" \"&'Set UP'!E8)","v":"University of Cambridge C"},{"$f":"IF(OR('Set UP'!$C8=0,'Set UP'!$D8=0,'Set UP'!$E8=0,'Set UP'!F8=0),\" --\",'Set UP'!F8)","v":"S"},null,null,null,"","DNF - 1 Persons In",{"$f":"IF(J8=\"Finished\",\"4\",IF(J8=\"DNF - 3 Persons In\",\"3\",IF(J8=\"DNF - 2 Persons In\",\"2\",IF(J8=\"DNF - 1 Persons In\",\"1\",IF(J8=\"DNF - 0 Persons In\",\"0\",IF(J8=\"Disqualified\",\"Disqualified\",\"\"))))))","v":"1"},1,{"$f":"IF(K8=\"\",\"\",IF(K8=\"Disqualified\",\"Disqualified\",(K8-L8)))","v":0},{"$f":"IF(M8=4,\"Finished\",IF(M8=3,\"DNF - 3 Persons In\",IF(M8=2,\"DNF - 2 Persons In\",IF(M8=1,\"DNF - 1 Persons In\",IF(M8<=0,\"DNF - 0 Persons In\",IF(M8=\"Disqualified\",\"Disqualified\",\"\"))))))","v":"DNF - 0 Persons In"},{"$f":"IF(D8=\"  --\",\"\",IF(J8=\"\",\"\",IF(NOT(N8=\"Finished\"),N8,IF(OR(G8=\"\",H8=\"\"),\"\",I8))))","v":"DNF - 0 Persons In"},{"$f":"IF('Set UP'!K8<>1,\"\",$O8)","v":""},{"$f":"IF('Set UP'!K8<>2,\"\",$O8)","v":"DNF - 0 Persons In"},{"$f":"IF(H8=\"  --\",\"\",IF(O8=\"Disqualified\",\"DQ\",IF(OR(O8=\"DNF - 0 Persons In\",O8=\"DNF - 1 Persons In\",O8=\"DNF - 2 Persons In\",O8=\"DNF - 3 Persons In\"),\"DNF\",IF(O8=\"\",\"\",INT(O8/60)))))","v":"DNF"},{"$f":"IF(D8=\"  --\",\"\",IF(ISNUMBER(O8),INT(O8-(R8*60)),IF(O8=\"DNF - 3 Persons In\",\"3 In\",IF(O8=\"DNF - 2 Persons In\",\"2 In\",IF(O8=\"DNF - 1 Persons In\",\"1 In\",IF(O8=\"DNF - 0 Persons In\",\"0 In\",\"\"))))))","v":"0 In"},"",29.5,null,13.5]
[null,3,{"$f":"IF(OR('Set UP'!$C9=0,'Set UP'!$D9=0,'Set UP'!$E9=0,'Set UP'!F9=0),\"  --\",'Set UP'!C9)","v":474},{"$f":"IF(OR('Set UP'!$C9=0,'Set UP'!$D9=0,'Set UP'!$E9=0,'Set UP'!F9=0),\"  --\",'Set UP'!D9&\" \"&'Set UP'!E9)","v":"University of Cambridge B"},{"$f":"IF(OR('Set UP'!$C9=0,'Set UP'!$D9=0,'Set UP'!$E9=0,'Set UP'!F9=0),\" --\",'Set UP'!F9)","v":"S"},null,null,null,"","DNF - 1 Persons In","1",0,1,"DNF - 1 Persons In","DNF - 1 Persons In",{"$f":"IF('Set UP'!K9<>1,\"\",$O9)","v":""},{"$f":"IF('Set UP'!K9<>2,\"\",$O9)","v":"DNF - 1 Persons In"},"DNF",{"$f":"IF(D9=\"  --\",\"\",IF(ISNUMBER(O9),INT(O9-(R9*60)),IF(O9=\"DNF - 3 Persons In\",\"3 In\",IF(O9=\"DNF - 2 Persons In\",\"2 In\",IF(O9=\"DNF - 1 Persons In\",\"1 In\",IF(O9=\"DNF - 0 Persons In\",\"0 In\",\"\"))))))","v":"1 In"},"",25.5,null,10.5]
[null,4,{"$f":"IF(OR('Set UP'!$C10=0,'Set UP'!$D10=0,'Set UP'!$E10=0,'Set UP'!F10=0),\"  --\",'Set UP'!C10)","v":513},{"$f":"IF(OR('Set UP'!$C10=0,'Set UP'!$D10=0,'Set UP'!$E10=0,'Set UP'!F10=0),\"  --\",'Set UP'!D10&\" \"&'Set UP'!E10)","v":"University of Warwick D"},{"$f":"IF(OR('Set UP'!$C10=0,'Set UP'!$D10=0,'Set UP'!$E10=0,'Set UP'!F10=0),\" --\",'Set UP'!F10)","v":"S"},null,null,null,"","Disqualified","Disqualified",null,"Disqualified","Disqualified","Disqualified",{"$f":"IF('Set UP'!K10<>1,\"\",$O10)","v":""},{"$f":"IF('Set UP'!K10<>2,\"\",$O10)","v":"Disqualified"},"DQ","","",31,null,15]
[null,5,{"$f":"IF(OR('Set UP'!$C11=0,'Set UP'!$D11=0,'Set UP'!$E11=0,'Set UP'!F11=0),\"  --\",'Set UP'!C11)","v":499},{"$f":"IF(OR('Set UP'!$C11=0,'Set UP'!$D11=0,'Set UP'!$E11=0,'Set UP'!F11=0),\"  --\",'Set UP'!D11&\" \"&'Set UP'!E11)","v":"University of St Andrews B"},{"$f":"IF(OR('Set UP'!$C11=0,'Set UP'!$D11=0,'Set UP'!$E11=0,'Set UP'!F11=0),\" --\",'Set UP'!F11)","v":"NC"},null,null,null,"","Disqualified","Disqualified",null,"Disqualified","Disqualified","Disqualified",{"$f":"IF('Set UP'!K11<>1,\"\",$O11)","v":""},{"$f":"IF('Set UP'!K11<>2,\"\",$O11)","v":""},"DQ","","",31]
[null,6,{"$f":"IF(OR('Set UP'!$C12=0,'Set UP'!$D12=0,'Set UP'!$E12=0,'Set UP'!F12=0),\"  --\",'Set UP'!C12)","v":507},{"$f":"IF(OR('Set UP'!$C12=0,'Set UP'!$D12=0,'Set UP'!$E12=0,'Set UP'!F12=0),\"  --\",'Set UP'!D12&\" \"&'Set UP'!E12)","v":"University of Plymouth C"},{"$f":"IF(OR('Set UP'!$C12=0,'Set UP'!$D12=0,'Set UP'!$E12=0,'Set UP'!F12=0),\" --\",'Set UP'!F12)","v":"S"},null,null,null,"","DNF - 3 Persons In","3",0,3,"DNF - 3 Persons In","DNF - 3 Persons In",{"$f":"IF('Set UP'!K12<>1,\"\",$O12)","v":""},{"$f":"IF('Set UP'!K12<>2,\"\",$O12)","v":"DNF - 3 Persons In"},"DNF","3 In","",14,null,5.5]
[null,7,{"$f":"IF(OR('Set UP'!$C13=0,'Set UP'!$D13=0,'Set UP'!$E13=0,'Set UP'!F13=0),\"  --\",'Set UP'!C13)","v":519},{"$f":"IF(OR('Set UP'!$C13=0,'Set UP'!$D13=0,'Set UP'!$E13=0,'Set UP'!F13=0),\"  --\",'Set UP'!D13&\" \"&'Set UP'!E13)","v":"University of Aberdeen B"},{"$f":"IF(OR('Set UP'!$C13=0,'Set UP'!$D13=0,'Set UP'!$E13=0,'Set UP'!F13=0),\" --\",'Set UP'!F13)","v":"NC"},null,null,null,"","DNF - 3 Persons In","3",1,2,"DNF - 2 Persons In","DNF - 2 Persons In",{"$f":"IF('Set UP'!K13<>1,\"\",$O13)","v":""},{"$f":"IF('Set UP'!K13<>2,\"\",$O13)","v":""},"DNF","2 In","",20]
[null,8,{"$f":"IF(OR('Set UP'!$C14=0,'Set UP'!$D14=0,'Set UP'!$E14=0,'Set UP'!F14=0),\"  --\",'Set UP'!C14)","v":532},{"$f":"IF(OR('Set UP'!$C14=0,'Set UP'!$D14=0,'Set UP'!$E14=0,'Set UP'!F14=0),\"  --\",'Set UP'!D14&\" \"&'Set UP'!E14)","v":"University of London Union E"},{"$f":"IF(OR('Set UP'!$C14=0,'Set UP'!$D14=0,'Set UP'!$E14=0,'Set UP'!F14=0),\" --\",'Set UP'!F14)","v":"S"},null,null,null,"","DNF - 1 Persons In","1",1,0,"DNF - 0 Persons In","DNF - 0 Persons In",{"$f":"IF('Set UP'!K14<>1,\"\",$O14)","v":""},{"$f":"IF('Set UP'!K14<>2,\"\",$O14)","v":"DNF - 0 Persons In"},"DNF","0 In","",29.5,null,13.5]
[null,9,{"$f":"IF(OR('Set UP'!$C15=0,'Set UP'!$D15=0,'Set UP'!$E15=0,'Set UP'!F15=0),\"  --\",'Set UP'!C15)","v":530},{"$f":"IF(OR('Set UP'!$C15=0,'Set UP'!$D15=0,'Set UP'!$E15=0,'Set UP'!F15=0),\"  --\",'Set UP'!D15&\" \"&'Set UP'!E15)","v":"University of London Union C"},{"$f":"IF(OR('Set UP'!$C15=0,'Set UP'!$D15=0,'Set UP'!$E15=0,'Set UP'!F15=0),\" --\",'Set UP'!F15)","v":"S"},null,null,null,"","DNF - 2 Persons In","2",1,1,"DNF - 1 Persons In","DNF - 1 Persons In",{"$f":"IF('Set UP'!K15<>1,\"\",$O15)","v":""},{"$f":"IF('Set UP'!K15<>2,\"\",$O15)","v":"DNF - 1 Persons In"},"DNF","1 In","",25.5,null,10.5]
[null,10,{"$f":"IF(OR('Set UP'!$C16=0,'Set UP'!$D16=0,'Set UP'!$E16=0,'Set UP'!F16=0),\"  --\",'Set UP'!C16)","v":506},{"$f":"IF(OR('Set UP'!$C16=0,'Set UP'!$D16=0,'Set UP'!$E16=0,'Set UP'!F16=0),\"  --\",'Set UP'!D16&\" \"&'Set UP'!E16)","v":"University of Plymouth B"},{"$f":"IF(OR('Set UP'!$C16=0,'Set UP'!$D16=0,'Set UP'!$E16=0,'Set UP'!F16=0),\" --\",'Set UP'!F16)","v":"S"},null,null,null,"","DNF - 1 Persons In","1",0,1,"DNF - 1 Persons In","DNF - 1 Persons In",{"$f":"IF('Set UP'!K16<>1,\"\",$O16)","v":""},{"$f":"IF('Set UP'!K16<>2,\"\",$O16)","v":"DNF - 1 Persons In"},"DNF","1 In","",25.5,null,10.5]
[null,11,{"$f":"IF(OR('Set UP'!$C17=0,'Set UP'!$D17=0,'Set UP'!$E17=0,'Set UP'!F17=0),\"  --\",'Set UP'!C17)","v":518},{"$f":"IF(OR('Set UP'!$C17=0,'Set UP'!$D17=0,'Set UP'!$E17=0,'Set UP'!F17=0),\"  --\",'Set UP'!D17&\" \"&'Set UP'!E17)","v":"University of Aberdeen A"},{"$f":"IF(OR('Set UP'!$C17=0,'Set UP'!$D17=0,'Set UP'!$E17=0,'Set UP'!F17=0),\" --\",'Set UP'!F17)","v":"S"},null,null,null,"","DNF - 1 Persons In","1",0,1,"DNF - 1 Persons In","DNF - 1 Persons In",{"$f":"IF('Set UP'!K17<>1,\"\",$O17)","v":"DNF - 1 Persons In"},{"$f":"IF('Set UP'!K17<>2,\"\",$O17)","v":""},"DNF","1 In","",25.5,10]
[null,12,{"$f":"IF(OR('Set UP'!$C18=0,'Set UP'!$D18=0,'Set UP'!$E18=0,'Set UP'!F18=0),\"  --\",'Set UP'!C18)","v":538},{"$f":"IF(OR('Set UP'!$C18=0,'Set UP'!$D18=0,'Set UP'!$E18=0,'Set UP'!F18=0),\"  --\",'Set UP'!D18&\" \"&'Set UP'!E18)","v":"University of Southampton C"},{"$f":"IF(OR('Set UP'!$C18=0,'Set UP'!$D18=0,'Set UP'!$E18=0,'Set UP'!F18=0),\" --\",'Set UP'!F18)","v":"S"},null,null,null,"","DNF - 3 Persons In","3",0,3,"DNF - 3 Persons In","DNF - 3 Persons In",{"$f":"IF('Set UP'!K18<>1,\"\",$O18)","v":""},{"$f":"IF('Set UP'!K18<>2,\"\",$O18)","v":"DNF - 3 Persons In"},"DNF","3 In","",14,null,5.5]
[null,13,{"$f":"IF(OR('Set UP'!$C19=0,'Set UP'!$D19=0,'Set UP'!$E19=0,'Set UP'!F19=0),\"  --\",'Set UP'!C19)","v":515},{"$f":"IF(OR('Set UP'!$C19=0,'Set UP'!$D19=0,'Set UP'!$E19=0,'Set UP'!F19=0),\"  --\",'Set UP'!D19&\" \"&'Set UP'!E19)","v":"Loughborough University C"},{"$f":"IF(OR('Set UP'!$C19=0,'Set UP'!$D19=0,'Set UP'!$E19=0,'Set UP'!F19=0),\" --\",'Set UP'!F19)","v":"S"},null,null,null,"","DNF - 2 Persons In","2",1,1,"DNF - 1 Persons In","DNF - 1 Persons In",{"$f":"IF('Set UP'!K19<>1,\"\",$O19)","v":""},{"$f":"IF('Set UP'!K19<>2,\"\",$O19)","v":"DNF - 1 Persons In"},"DNF","1 In","",25.5,null,10.5]
[null,14,{"$f":"IF(OR('Set UP'!$C20=0,'Set UP'!$D20=0,'Set UP'!$E20=0,'Set UP'!F20=0),\"  --\",'Set UP'!C20)","v":520},{"$f":"IF(OR('Set UP'!$C20=0,'Set UP'!$D20=0,'Set UP'!$E20=0,'Set UP'!F20=0),\"  --\",'Set UP'!D20&\" \"&'Set UP'!E20)","v":"Loughborough University D"},{"$f":"IF(OR('Set UP'!$C20=0,'Set UP'!$D20=0,'Set UP'!$E20=0,'Set UP'!F20=0),\" --\",'Set UP'!F20)","v":"NS"},1,54,0,114,"Finished","4",2,2,"DNF - 2 Persons In","DNF - 2 Persons In",{"$f":"IF('Set UP'!K20<>1,\"\",$O20)","v":""},{"$f":"IF('Set UP'!K20<>2,\"\",$O20)","v":""},"DNF","2 In","",20]
[null,15,{"$f":"IF(OR('Set UP'!$C21=0,'Set UP'!$D21=0,'Set UP'!$E21=0,'Set UP'!F21=0),\"  --\",'Set UP'!C21)","v":512},{"$f":"IF(OR('Set UP'!$C21=0,'Set UP'!$D21=0,'Set UP'!$E21=0,'Set UP'!F21=0),\"  --\",'Set UP'!D21&\" \"&'Set UP'!E21)","v":"University of Warwick C"},{"$f":"IF(OR('Set UP'!$C21=0,'Set UP'!$D21=0,'Set UP'!$E21=0,'Set UP'!F21=0),\" --\",'Set UP'!F21)","v":"NC"},null,null,null,"","DNF - 1 Persons In","1",0,1,"DNF - 1 Persons In","DNF - 1 Persons In",{"$f":"IF('Set UP'!K21<>1,\"\",$O21)","v":""},{"$f":"IF('Set UP'!K21<>2,\"\",$O21)","v":""},"DNF","1 In","",25.5]
[null,16,{"$f":"IF(OR('Set UP'!$C22=0,'Set UP'!$D22=0,'Set UP'!$E22=0,'Set UP'!F22=0),\"  --\",'Set UP'!C22)","v":531},{"$f":"IF(OR('Set UP'!$C22=0,'Set UP'!$D22=0,'Set UP'!$E22=0,'Set UP'!F22=0),\"  --\",'Set UP'!D22&\" \"&'Set UP'!E22)","v":"University of London Union D"},{"$f":"IF(OR('Set UP'!$C22=0,'Set UP'!$D22=0,'Set UP'!$E22=0,'Set UP'!F22=0),\" --\",'Set UP'!F22)","v":"NC"},1,56,0,116,"Finished","4",0,4,"Finished",116,{"$f":"IF('Set UP'!K22<>1,\"\",$O22)","v":""},{"$f":"IF('Set UP'!K22<>2,\"\",$O22)","v":""},1,56,0,3]
[null,17,{"$f":"IF(OR('Set UP'!$C23=0,'Set UP'!$D23=0,'Set UP'!$E23=0,'Set UP'!F23=0),\"  --\",'Set UP'!C23)","v":471},{"$f":"IF(OR('Set UP'!$C23=0,'Set UP'!$D23=0,'Set UP'!$E23=0,'Set UP'!F23=0),\"  --\",'Set UP'!D23&\" \"&'Set UP'!E23)","v":"University of Cambridge A"},{"$f":"IF(OR('Set UP'!$C23=0,'Set UP'!$D23=0,'Set UP'!$E23=0,'Set UP'!F23=0),\" --\",'Set UP'!F23)","v":"S"},null,null,null,"","DNF - 3 Persons In","3",0,3,"DNF - 3 Persons In","DNF - 3 Persons In",{"$f":"IF('Set UP'!K23<>1,\"\",$O23)","v":"DNF - 3 Persons In"},{"$f":"IF('Set UP'!K23<>2,\"\",$O23)","v":""},"DNF","3 In","",14,6.5]
[null,18,{"$f":"IF(OR('Set UP'!$C24=0,'Set UP'!$D24=0,'Set UP'!$E24=0,'Set UP'!F24=0),\"  --\",'Set UP'!C24)","v":522},{"$f":"IF(OR('Set UP'!$C24=0,'Set UP'!$D24=0,'Set UP'!$E24=0,'Set UP'!F24=0),\"  --\",'Set UP'!D24&\" \"&'Set UP'!E24)","v":"University of Birmingham B"},{"$f":"IF(OR('Set UP'!$C24=0,'Set UP'!$D24=0,'Set UP'!$E24=0,'Set UP'!F24=0),\" --\",'Set UP'!F24)","v":"S"},null,null,null,"","DNF - 3 Persons In","3",0,3,"DNF - 3 Persons In","DNF - 3 Persons In",{"$f":"IF('Set UP'!K24<>1,\"\",$O24)","v":""},{"$f":"IF('Set UP'!K24<>2,\"\",$O24)","v":"DNF - 3 Persons In"},"DNF","3 In","",14,null,5.5]
[null,19,{"$f":"IF(OR('Set UP'!$C25=0,'Set UP'!$D25=0,'Set UP'!$E25=0,'Set UP'!F25=0),\"  --\",'Set UP'!C25)","v":498},{"$f":"IF(OR('Set UP'!$C25=0,'Set UP'!$D25=0,'Set UP'!$E25=0,'Set UP'!F25=0),\"  --\",'Set UP'!D25&\" \"&'Set UP'!E25)","v":"University of St Andrews A"},{"$f":"IF(OR('Set UP'!$C25=0,'Set UP'!$D25=0,'Set UP'!$E25=0,'Set UP'!F25=0),\" --\",'Set UP'!F25)","v":"S"},2,30,0,150,"Finished","4",0,4,"Finished",150,{"$f":"IF('Set UP'!K25<>1,\"\",$O25)","v":150},{"$f":"IF('Set UP'!K25<>2,\"\",$O25)","v":""},2,30,0,10,5]
[null,20,{"$f":"IF(OR('Set UP'!$C26=0,'Set UP'!$D26=0,'Set UP'!$E26=0,'Set UP'!F26=0),\"  --\",'Set UP'!C26)","v":535},{"$f":"IF(OR('Set UP'!$C26=0,'Set UP'!$D26=0,'Set UP'!$E26=0,'Set UP'!F26=0),\"  --\",'Set UP'!D26&\" \"&'Set UP'!E26)","v":"University of Birmingham A"},{"$f":"IF(OR('Set UP'!$C26=0,'Set UP'!$D26=0,'Set UP'!$E26=0,'Set UP'!F26=0),\" --\",'Set UP'!F26)","v":"S"},null,null,null,"","DNF - 3 Persons In","3",1,2,"DNF - 2 Persons In","DNF - 2 Persons In",{"$f":"IF('Set UP'!K26<>1,\"\",$O26)","v":"DNF - 2 Persons In"},{"$f":"IF('Set UP'!K26<>2,\"\",$O26)","v":""},"DNF","2 In","",20,8.5]
[null,21,{"$f":"IF(OR('Set UP'!$C27=0,'Set UP'!$D27=0,'Set UP'!$E27=0,'Set UP'!F27=0),\"  --\",'Set UP'!C27)","v":508},{"$f":"IF(OR('Set UP'!$C27=0,'Set UP'!$D27=0,'Set UP'!$E27=0,'Set UP'!F27=0),\"  --\",'Set UP'!D27&\" \"&'Set UP'!E27)","v":"University of Nottingham A"},{"$f":"IF(OR('Set UP'!$C27=0,'Set UP'!$D27=0,'Set UP'!$E27=0,'Set UP'!F27=0),\" --\",'Set UP'!F27)","v":"S"},1,27,0,87,"Finished","4",0,4,"Finished",87,{"$f":"IF('Set UP'!K27<>1,\"\",$O27)","v":87},{"$f":"IF('Set UP'!K27<>2,\"\",$O27)","v":""},1,27,0,2,1]
[null,22,{"$f":"IF(OR('Set UP'!$C28=0,'Set UP'!$D28=0,'Set UP'!$E28=0,'Set UP'!F28=0),\"  --\",'Set UP'!C28)","v":528},{"$f":"IF(OR('Set UP'!$C28=0,'Set UP'!$D28=0,'Set UP'!$E28=0,'Set UP'!F28=0),\"  --\",'Set UP'!D28&\" \"&'Set UP'!E28)","v":"University of London Union B"},{"$f":"IF(OR('Set UP'!$C28=0,'Set UP'!$D28=0,'Set UP'!$E28=0,'Set UP'!F28=0),\" --\",'Set UP'!F28)","v":"S"},2,23,96,143.96,"Finished","4",0,4,"Finished",143.96,{"$f":"IF('Set UP'!K28<>1,\"\",$O28)","v":""},{"$f":"IF('Set UP'!K28<>2,\"\",$O28)","v":143.96},2,23,96.000000000000796,8,null,2]
[null,23,{"$f":"IF(OR('Set UP'!$C29=0,'Set UP'!$D29=0,'Set UP'!$E29=0,'Set UP'!F29=0),\"  --\",'Set UP'!C29)","v":511},{"$f":"IF(OR('Set UP'!$C29=0,'Set UP'!$D29=0,'Set UP'!$E29=0,'Set UP'!F29=0),\"  --\",'Set UP'!D29&\" \"&'Set UP'!E29)","v":"University of Warwick B"},{"$f":"IF(OR('Set UP'!$C29=0,'Set UP'!$D29=0,'Set UP'!$E29=0,'Set UP'!F29=0),\" --\",'Set UP'!F29)","v":"S"},2,25,81,145.81,"Finished","4",0,4,"Finished",145.81,{"$f":"IF('Set UP'!K29<>1,\"\",$O29)","v":""},{"$f":"IF('Set UP'!K29<>2,\"\",$O29)","v":145.81},2,25,81.000000000000227,9,null,3]
[null,24,{"$f":"IF(OR('Set UP'!$C30=0,'Set UP'!$D30=0,'Set UP'!$E30=0,'Set UP'!F30=0),\"  --\",'Set UP'!C30)","v":509},{"$f":"IF(OR('Set UP'!$C30=0,'Set UP'!$D30=0,'Set UP'!$E30=0,'Set UP'!F30=0),\"  --\",'Set UP'!D30&\" \"&'Set UP'!E30)","v":"University of Nottingham B"},{"$f":"IF(OR('Set UP'!$C30=0,'Set UP'!$D30=0,'Set UP'!$E30=0,'Set UP'!F30=0),\" --\",'Set UP'!F30)","v":"S"},null,null,null,"","DNF - 2 Persons In","2",0,2,"DNF - 2 Persons In","DNF - 2 Persons In",{"$f":"IF('Set UP'!K30<>1,\"\",$O30)","v":""},{"$f":"IF('Set UP'!K30<>2,\"\",$O30)","v":"DNF - 2 Persons In"},"DNF","2 In","",20,null,8]
[null,25,{"$f":"IF(OR('Set UP'!$C31=0,'Set UP'!$D31=0,'Set UP'!$E31=0,'Set UP'!F31=0),\"  --\",'Set UP'!C31)","v":517},{"$f":"IF(OR('Set UP'!$C31=0,'Set UP'!$D31=0,'Set UP'!$E31=0,'Set UP'!F31=0),\"  --\",'Set UP'!D31&\" \"&'Set UP'!E31)","v":"Loughborough University B"},{"$f":"IF(OR('Set UP'!$C31=0,'Set UP'!$D31=0,'Set UP'!$E31=0,'Set UP'!F31=0),\" --\",'Set UP'!F31)","v":"S"},null,null,null,"","DNF - 3 Persons In","3",0,3,"DNF - 3 Persons In","DNF - 3 Persons In",{"$f":"IF('Set UP'!K31<>1,\"\",$O31)","v":""},{"$f":"IF('Set UP'!K31<>2,\"\",$O31)","v":"DNF - 3 Persons In"},"DNF","3 In","",14,null,5.5]
[null,26,{"$f":"IF(OR('Set UP'!$C32=0,'Set UP'!$D32=0,'Set UP'!$E32=0,'Set UP'!F32=0),\"  --\",'Set UP'!C32)","v":534},{"$f":"IF(OR('Set UP'!$C32=0,'Set UP'!$D32=0,'Set UP'!$E32=0,'Set UP'!F32=0),\"  --\",'Set UP'!D32&\" \"&'Set UP'!E32)","v":"University of Southampton B"},{"$f":"IF(OR('Set UP'!$C32=0,'Set UP'!$D32=0,'Set UP'!$E32=0,'Set UP'!F32=0),\" --\",'Set UP'!F32)","v":"S"},2,2,25,122.25,"Finished","4",0,4,"Finished",122.25,{"$f":"IF('Set UP'!K32<>1,\"\",$O32)","v":""},{"$f":"IF('Set UP'!K32<>2,\"\",$O32)","v":122.25},2,2,25,5,null,1]
[null,27,{"$f":"IF(OR('Set UP'!$C33=0,'Set UP'!$D33=0,'Set UP'!$E33=0,'Set UP'!F33=0),\"  --\",'Set UP'!C33)","v":479},{"$f":"IF(OR('Set UP'!$C33=0,'Set UP'!$D33=0,'Set UP'!$E33=0,'Set UP'!F33=0),\"  --\",'Set UP'!D33&\" \"&'Set UP'!E33)","v":"Loughborough University A"},{"$f":"IF(OR('Set UP'!$C33=0,'Set UP'!$D33=0,'Set UP'!$E33=0,'Set UP'!F33=0),\" --\",'Set UP'!F33)","v":"S"},2,7,22,127.22,"Finished","4",0,4,"Finished",127.22,{"$f":"IF('Set UP'!K33<>1,\"\",$O33)","v":127.22},{"$f":"IF('Set UP'!K33<>2,\"\",$O33)","v":""},2,7,21.999999999999886,6,3]
[null,28,{"$f":"IF(OR('Set UP'!$C34=0,'Set UP'!$D34=0,'Set UP'!$E34=0,'Set UP'!F34=0),\"  --\",'Set UP'!C34)","v":545},{"$f":"IF(OR('Set UP'!$C34=0,'Set UP'!$D34=0,'Set UP'!$E34=0,'Set UP'!F34=0),\"  --\",'Set UP'!D34&\" \"&'Set UP'!E34)","v":"Colwick Park A"},{"$f":"IF(OR('Set UP'!$C34=0,'Set UP'!$D34=0,'Set UP'!$E34=0,'Set UP'!F34=0),\" --\",'Set UP'!F34)","v":"NS"},1,17,53,77.53,"Finished","4",0,4,"Finished",77.53,{"$f":"IF('Set UP'!K34<>1,\"\",$O34)","v":""},{"$f":"IF('Set UP'!K34<>2,\"\",$O34)","v":""},1,17,53.000000000000114,1]
[null,29,{"$f":"IF(OR('Set UP'!$C35=0,'Set UP'!$D35=0,'Set UP'!$E35=0,'Set UP'!F35=0),\"  --\",'Set UP'!C35)","v":533},{"$f":"IF(OR('Set UP'!$C35=0,'Set UP'!$D35=0,'Set UP'!$E35=0,'Set UP'!F35=0),\"  --\",'Set UP'!D35&\" \"&'Set UP'!E35)","v":"University of Southampton A"},{"$f":"IF(OR('Set UP'!$C35=0,'Set UP'!$D35=0,'Set UP'!$E35=0,'Set UP'!F35=0),\" --\",'Set UP'!F35)","v":"S"},1,58,37,118.37,"Finished","4",0,4,"Finished",118.37,{"$f":"IF('Set UP'!K35<>1,\"\",$O35)","v":118.37},{"$f":"IF('Set UP'!K35<>2,\"\",$O35)","v":""},1,58,37.000000000000455,4,2]
[null,30,{"$f":"IF(OR('Set UP'!$C36=0,'Set UP'!$D36=0,'Set UP'!$E36=0,'Set UP'!F36=0),\"  --\",'Set UP'!C36)","v":523},{"$f":"IF(OR('Set UP'!$C36=0,'Set UP'!$D36=0,'Set UP'!$E36=0,'Set UP'!F36=0),\"  --\",'Set UP'!D36&\" \"&'Set UP'!E36)","v":"University of London Union A"},{"$f":"IF(OR('Set UP'!$C36=0,'Set UP'!$D36=0,'Set UP'!$E36=0,'Set UP'!F36=0),\" --\",'Set UP'!F36)","v":"S"},null,null,null,"","DNF - 3 Persons In","3",0,3,"DNF - 3 Persons In","DNF - 3 Persons In",{"$f":"IF('Set UP'!K36<>1,\"\",$O36)","v":"DNF - 3 Persons In"},{"$f":"IF('Set UP'!K36<>2,\"\",$O36)","v":""},"DNF","3 In","",14,6.5]
[null,31,{"$f":"IF(OR('Set UP'!$C37=0,'Set UP'!$D37=0,'Set UP'!$E37=0,'Set UP'!F37=0),\"  --\",'Set UP'!C37)","v":505},{"$f":"IF(OR('Set UP'!$C37=0,'Set UP'!$D37=0,'Set UP'!$E37=0,'Set UP'!F37=0),\"  --\",'Set UP'!D37&\" \"&'Set UP'!E37)","v":"University of Plymouth A"},{"$f":"IF(OR('Set UP'!$C37=0,'Set UP'!$D37=0,'Set UP'!$E37=0,'Set UP'!F37=0),\" --\",'Set UP'!F37)","v":"S"},2,28,68,148.68,"Finished","4",2,2,"DNF - 2 Persons In","DNF - 2 Persons In",{"$f":"IF('Set UP'!K37<>1,\"\",$O37)","v":"DNF - 2 Persons In"},{"$f":"IF('Set UP'!K37<>2,\"\",$O37)","v":""},"DNF","2 In","",20,8.5]
[null,32,{"$f":"IF(OR('Set UP'!$C38=0,'Set UP'!$D38=0,'Set UP'!$E38=0,'Set UP'!F38=0),\"  --\",'Set UP'!C38)","v":510},{"$f":"IF(OR('Set UP'!$C38=0,'Set UP'!$D38=0,'Set UP'!$E38=0,'Set UP'!F38=0),\"  --\",'Set UP'!D38&\" \"&'Set UP'!E38)","v":"University of Warwick A"},{"$f":"IF(OR('Set UP'!$C38=0,'Set UP'!$D38=0,'Set UP'!$E38=0,'Set UP'!F38=0),\" --\",'Set UP'!F38)","v":"S"},2,7,28,127.28,"Finished","4",0,4,"Finished",127.28,{"$f":"IF('Set UP'!K38<>1,\"\",$O38)","v":127.28},{"$f":"IF('Set UP'!K38<>2,\"\",$O38)","v":""},2,7,28.000000000000114,7,4]
[null,33,{"$f":"IF(OR('Set UP'!$C39=0,'Set UP'!$D39=0,'Set UP'!$E39=0,'Set UP'!F39=0),\"  --\",'Set UP'!C39)","v":"  --"},{"$f":"IF(OR('Set UP'!$C39=0,'Set UP'!$D39=0,'Set UP'!$E39=0,'Set UP'!F39=0),\"  --\",'Set UP'!D39&\" \"&'Set UP'!E39)","v":"  --"},{"$f":"IF(OR('Set UP'!$C39=0,'Set UP'!$D39=0,'Set UP'!$E39=0,'Set UP'!F39=0),\" --\",'Set UP'!F39)","v":" --"},null,null,null,"",null,"",null,"","","",{"$f":"IF('Set UP'!K39<>1,\"\",$O39)","v":""},{"$f":"IF('Set UP'!K39<>2,\"\",$O39)","v":""},"","",""]
[null,34,{"$f":"IF(OR('Set UP'!$C40=0,'Set UP'!$D40=0,'Set UP'!$E40=0,'Set UP'!F40=0),\"  --\",'Set UP'!C40)","v":"  --"},{"$f":"IF(OR('Set UP'!$C40=0,'Set UP'!$D40=0,'Set UP'!$E40=0,'Set UP'!F40=0),\"  --\",'Set UP'!D40&\" \"&'Set UP'!E40)","v":"  --"},{"$f":"IF(OR('Set UP'!$C40=0,'Set UP'!$D40=0,'Set UP'!$E40=0,'Set UP'!F40=0),\" --\",'Set UP'!F40)","v":" --"},null,null,null,"",null,"",null,"","","",{"$f":"IF('Set UP'!K40<>1,\"\",$O40)","v":""},{"$f":"IF('Set UP'!K40<>2,\"\",$O40)","v":""},"","",""]
[null,35,{"$f":"IF(OR('Set UP'!$C41=0,'Set UP'!$D41=0,'Set UP'!$E41=0,'Set UP'!F41=0),\"  --\",'Set UP'!C41)","v":"  --"},{"$f":"IF(OR('Set UP'!$C41=0,'Set UP'!$D41=0,'Set UP'!$E41=0,'Set UP'!F41=0),\"  --\",'Set UP'!D41&\" \"&'Set UP'!E41)","v":"  --"},{"$f":"IF(OR('Set UP'!$C41=0,'Set UP'!$D41=0,'Set UP'!$E41=0,'Set UP'!F41=0),\" --\",'Set UP'!F41)","v":" --"},null,null,null,"",null,"",null,"","","",{"$f":"IF('Set UP'!K41<>1,\"\",$O41)","v":""},{"$f":"IF('Set UP'!K41<>2,\"\",$O41)","v":""},"","",""]
[null,36,{"$f":"IF(OR('Set UP'!$C42=0,'Set UP'!$D42=0,'Set UP'!$E42=0,'Set UP'!F42=0),\"  --\",'Set UP'!C42)","v":"  --"},{"$f":"IF(OR('Set UP'!$C42=0,'Set UP'!$D42=0,'Set UP'!$E42=0,'Set UP'!F42=0),\"  --\",'Set UP'!D42&\" \"&'Set UP'!E42)","v":"  --"},{"$f":"IF(OR('Set UP'!$C42=0,'Set UP'!$D42=0,'Set UP'!$E42=0,'Set UP'!F42=0),\" --\",'Set UP'!F42)","v":" --"},null,null,null,"",null,"",null,"","","",{"$f":"IF('Set UP'!K42<>1,\"\",$O42)","v":""},{"$f":"IF('Set UP'!K42<>2,\"\",$O42)","v":""},"","",""]
[null,37,{"$f":"IF(OR('Set UP'!$C43=0,'Set UP'!$D43=0,'Set UP'!$E43=0,'Set UP'!F43=0),\"  --\",'Set UP'!C43)","v":"  --"},{"$f":"IF(OR('Set UP'!$C43=0,'Set UP'!$D43=0,'Set UP'!$E43=0,'Set UP'!F43=0),\"  --\",'Set UP'!D43&\" \"&'Set UP'!E43)","v":"  --"},{"$f":"IF(OR('Set UP'!$C43=0,'Set UP'!$D43=0,'Set UP'!$E43=0,'Set UP'!F43=0),\" --\",'Set UP'!F43)","v":" --"},null,null,null,"",null,"",null,"","","",{"$f":"IF('Set UP'!K43<>1,\"\",$O43)","v":""},{"$f":"IF('Set UP'!K43<>2,\"\",$O43)","v":""},"","",""]
[null,38,{"$f":"IF(OR('Set UP'!$C44=0,'Set UP'!$D44=0,'Set UP'!$E44=0,'Set UP'!F44=0),\"  --\",'Set UP'!C44)","v":"  --"},{"$f":"IF(OR('Set UP'!$C44=0,'Set UP'!$D44=0,'Set UP'!$E44=0,'Set UP'!F44=0),\"  --\",'Set UP'!D44&\" \"&'Set UP'!E44)","v":"  --"},{"$f":"IF(OR('Set UP'!$C44=0,'Set UP'!$D44=0,'Set UP'!$E44=0,'Set UP'!F44=0),\" --\",'Set UP'!F44)","v":" --"},null,null,null,"",null,"",null,"","","",{"$f":"IF('Set UP'!K44<>1,\"\",$O44)","v":""},{"$f":"IF('Set UP'!K44<>2,\"\",$O44)","v":""},"","",""]
[null,39,{"$f":"IF(OR('Set UP'!$C45=0,'Set UP'!$D45=0,'Set UP'!$E45=0,'Set UP'!F45=0),\"  --\",'Set UP'!C45)","v":"  --"},{"$f":"IF(OR('Set UP'!$C45=0,'Set UP'!$D45=0,'Set UP'!$E45=0,'Set UP'!F45=0),\"  --\",'Set UP'!D45&\" \"&'Set UP'!E45)","v":"  --"},{"$f":"IF(OR('Set UP'!$C45=0,'Set UP'!$D45=0,'Set UP'!$E45=0,'Set UP'!F45=0),\" --\",'Set UP'!F45)","v":" --"},null,null,null,"",null,"",null,"","","",{"$f":"IF('Set UP'!K45<>1,\"\",$O45)","v":""},{"$f":"IF('Set UP'!K45<>2,\"\",$O45)","v":""},"","",""]
[null,40,{"$f":"IF(OR('Set UP'!$C46=0,'Set UP'!$D46=0,'Set UP'!$E46=0,'Set UP'!F46=0),\"  --\",'Set UP'!C46)","v":"  --"},{"$f":"IF(OR('Set UP'!$C46=0,'Set UP'!$D46=0,'Set UP'!$E46=0,'Set UP'!F46=0),\"  --\",'Set UP'!D46&\" \"&'Set UP'!E46)","v":"  --"},{"$f":"IF(OR('Set UP'!$C46=0,'Set UP'!$D46=0,'Set UP'!$E46=0,'Set UP'!F46=0),\" --\",'Set UP'!F46)","v":" --"},null,null,null,"",null,"",null,"","","",{"$f":"IF('Set UP'!K46<>1,\"\",$O46)","v":""},{"$f":"IF('Set UP'!K46<>2,\"\",$O46)","v":""},"","",""]
[]
[]
[]
[]
[]
[]
[]
[]
[]
[]
[]
[]
[]
[]
[null,null,null,null,null,null,null,null,null,"Finished"]
[null,null,null,null,null,null,null,null,null,"DNF - 3 Persons In"]
[null,null,null,null,null,null,null,null,null,"DNF - 2 Persons In"]
[null,null,null,null,null,null,null,null,null,"DNF - 1 Persons In"]
[null,null,null,null,null,null,null,null,null,"DNF - 0 Persons In"]
[null,null,null,null,null,null,null,null,null,"Disqualified"]

{"sheet":"Swim&Tow","index":7,"n_rows":62,"n_cols":25,"rows_kept":62,"cut":false,"hidden":false,"merged":[[4,23,5,23],[4,24,5,24],[4,11,5,11],[4,12,5,12],[4,16,4,18],[4,20,5,20],[4,21,5,21],[4,22,5,22],[4,9,5,9],[4,19,5,19],[4,14,5,14],[4,10,5,10],[4,13,5,13],[4,15,5,15],[4,8,5,8],[4,5,4,7],[4,1,5,1],[4,2,5,2],[4,3,5,3],[4,4,5,4]]}
[]
[null,null,null,null,null,null,null,null,null,null,"Penalty Time (seconds)","Percentage From Entry Time before Penalty"]
[null,null,null,{"$f":"'Set UP'!Q9","v":"Swim and Tow"},null,null,null,null,null,null,15,10]
[]
[null,null,"Web","Team","Class","Stopwatch Time",null,null,null,"Finish Status","No. \nPenalties","No. \nPenalties","Total\nPenalties","Total\n(Competition)","Total\n(A)","Total\n(B)","Total Time",null,null,"Competition Position\nExcluding DQ's","Position\n(Competition)","A League Position\nExcluding DQ's","Position\n(A League)","B League Position\nExcluding DQ's","Position\n(B League)"]
[null,null,null,null,null,"mins","secs","1/100\nsec",null,null,null,null,null,null,null,null,"mins","secs","1/100 sec"]
[null,1,{"$f":"IF(OR('Set UP'!$C7=0,'Set UP'!$D7=0,'Set UP'!$E7=0,'Set UP'!F7=0),\"  --\",'Set UP'!C7)","v":537},{"$f":"IF(OR('Set UP'!$C7=0,'Set UP'!$D7=0,'Set UP'!$E7=0,'Set UP'!F7=0),\"  --\",'Set UP'!D7&\" \"&'Set UP'!E7)","v":"Heanor A"},{"$f":"IF(OR('Set UP'!$C7=0,'Set UP'!$D7=0,'Set UP'!$E7=0,'Set UP'!F7=0,),\" --\",'Set UP'!F7)","v":"NS"},6,45,0,{"$f":"IF(AND(ISBLANK(F7),ISBLANK(G7),ISBLANK(H7)),\"\",(F7*60)+G7+(H7/100))","v":405},"Disqualified",0,{"$f":"IF(OR(D7=\"  --\",I7=\"\"),\"\",IF(AND('Set UP'!G7=0,'Set UP'!H7=0),0,IF(I7-'Set UP'!I7*(1+$L$3/100)<=0,0,TRUNC((I7-'Set UP'!I7*(1+$L$3/100))/$K$3))))","v":0},{"$f":"IF(OR(D7=\"  --\",I7=\"\"),\"\",K7+L7)","v":0},{"$f":"IF(D7=\"  --\",\"\",IF(J7=\"Disqualified\",J7,IF(J7=\"Finished\",IF(OR(G7=\"\",H7=\"\"),\"\",I7+(M7*$K$3)),\"\")))","v":"Disqualified"},{"$f":"IF('Set UP'!K7<>1,\"\",$N7)","v":""},{"$f":"IF('Set UP'!K7<>2,\"\",$N7)","v":""},{"$f":"IF(D7=\"  --\",\"\",IF(N7=\"Disqualified\",\"DQ\",IF(N7=\"\",\"\",INT(N7/60))))","v":"DQ"},{"$f":"IF(D7=\"  --\",\"\", IF(N7=\"Disqualified\",\"\",IF(N7=\"\",\"\",INT(N7-(Q7*60)))))","v":""},{"$f":"IF(D7=\"  --\",\"\", IF(N7=\"Disqualified\",\"\",IF(N7=\"\",\"\",100*(N7-((Q7*60)+R7)))))","v":""},{"$f":"IF(OR(N7=\"Disqualified\",N7=\"\"),\"\",RANK(N7,$N$7:$N$46,1))","v":""},{"$f":"IF(N7=\"Disqualified\",MAX($T$7:$T$46)+1,T7)","v":27},{"$f":"IF(OR($O7=\"Disqualified\",$O7=\"\"),\"\",RANK($O7,$O$7:$O$46,1))","v":""},{"$f":"IF($O7=\"Disqualified\",MAX($V$7:$V$46)+1,V7)","v":""},{"$f":"IF(OR($P7=\"Disqualified\",$P7=\"\"),\"\",RANK($P7,$P$7:$P$46,1))","v":""},{"$f":"IF($P7=\"Disqualified\",MAX($X$7:$X$46)+1,X7)","v":""}]
[null,2,{"$f":"IF(OR('Set UP'!$C8=0,'Set UP'!$D8=0,'Set UP'!$E8=0,'Set UP'!F8=0),\"  --\",'Set UP'!C8)","v":483},{"$f":"IF(OR('Set UP'!$C8=0,'Set UP'!$D8=0,'Set UP'!$E8=0,'Set UP'!F8=0),\"  --\",'Set UP'!D8&\" \"&'Set UP'!E8)","v":"University of Cambridge C"},{"$f":"IF(OR('Set UP'!$C8=0,'Set UP'!$D8=0,'Set UP'!$E8=0,'Set UP'!F8=0,),\" --\",'Set UP'!F8)","v":"S"},8,34,0,{"$f":"IF(AND(ISBLANK(F8),ISBLANK(G8),ISBLANK(H8)),\"\",(F8*60)+G8+(H8/100))","v":514},"Finished",1,{"$f":"IF(OR(D8=\"  --\",I8=\"\"),\"\",IF(AND('Set UP'!G8=0,'Set UP'!H8=0),0,IF(I8-'Set UP'!I8*(1+$L$3/100)<=0,0,TRUNC((I8-'Set UP'!I8*(1+$L$3/100))/$K$3))))","v":0},{"$f":"IF(OR(D8=\"  --\",I8=\"\"),\"\",K8+L8)","v":1},{"$f":"IF(D8=\"  --\",\"\",IF(J8=\"Disqualified\",J8,IF(J8=\"Finished\",IF(OR(G8=\"\",H8=\"\"),\"\",I8+(M8*$K$3)),\"\")))","v":529},{"$f":"IF('Set UP'!K8<>1,\"\",$N8)","v":""},{"$f":"IF('Set UP'!K8<>2,\"\",$N8)","v":529},8,49,0,{"$f":"IF(OR(N8=\"Disqualified\",N8=\"\"),\"\",RANK(N8,$N$7:$N$46,1))","v":25},{"$f":"IF(N8=\"Disqualified\",MAX($T$7:$T$46)+1,T8)","v":25},{"$f":"IF(OR($O8=\"Disqualified\",$O8=\"\"),\"\",RANK($O8,$O$7:$O$46,1))","v":""},{"$f":"IF($O8=\"Disqualified\",MAX($V$7:$V$46)+1,V8)","v":""},{"$f":"IF(OR($P8=\"Disqualified\",$P8=\"\"),\"\",RANK($P8,$P$7:$P$46,1))","v":11},{"$f":"IF($P8=\"Disqualified\",MAX($X$7:$X$46)+1,X8)","v":11}]
[null,3,{"$f":"IF(OR('Set UP'!$C9=0,'Set UP'!$D9=0,'Set UP'!$E9=0,'Set UP'!F9=0),\"  --\",'Set UP'!C9)","v":474},{"$f":"IF(OR('Set UP'!$C9=0,'Set UP'!$D9=0,'Set UP'!$E9=0,'Set UP'!F9=0),\"  --\",'Set UP'!D9&\" \"&'Set UP'!E9)","v":"University of Cambridge B"},{"$f":"IF(OR('Set UP'!$C9=0,'Set UP'!$D9=0,'Set UP'!$E9=0,'Set UP'!F9=0,),\" --\",'Set UP'!F9)","v":"S"},8,11,75,491.75,"Finished",0,{"$f":"IF(OR(D9=\"  --\",I9=\"\"),\"\",IF(AND('Set UP'!G9=0,'Set UP'!H9=0),0,IF(I9-'Set UP'!I9*(1+$L$3/100)<=0,0,TRUNC((I9-'Set UP'!I9*(1+$L$3/100))/$K$3))))","v":0},0,491.75,{"$f":"IF('Set UP'!K9<>1,\"\",$N9)","v":""},{"$f":"IF('Set UP'!K9<>2,\"\",$N9)","v":491.75},8,11,75,21,21,"","",8,8]
[null,4,{"$f":"IF(OR('Set UP'!$C10=0,'Set UP'!$D10=0,'Set UP'!$E10=0,'Set UP'!F10=0),\"  --\",'Set UP'!C10)","v":513},{"$f":"IF(OR('Set UP'!$C10=0,'Set UP'!$D10=0,'Set UP'!$E10=0,'Set UP'!F10=0),\"  --\",'Set UP'!D10&\" \"&'Set UP'!E10)","v":"University of Warwick D"},{"$f":"IF(OR('Set UP'!$C10=0,'Set UP'!$D10=0,'Set UP'!$E10=0,'Set UP'!F10=0,),\" --\",'Set UP'!F10)","v":"S"},null,null,null,"","Disqualified",null,{"$f":"IF(OR(D10=\"  --\",I10=\"\"),\"\",IF(AND('Set UP'!G10=0,'Set UP'!H10=0),0,IF(I10-'Set UP'!I10*(1+$L$3/100)<=0,0,TRUNC((I10-'Set UP'!I10*(1+$L$3/100))/$K$3))))","v":""},"","Disqualified",{"$f":"IF('Set UP'!K10<>1,\"\",$N10)","v":""},{"$f":"IF('Set UP'!K10<>2,\"\",$N10)","v":"Disqualified"},"DQ","","","",27,"","","",13]
[null,5,{"$f":"IF(OR('Set UP'!$C11=0,'Set UP'!$D11=0,'Set UP'!$E11=0,'Set UP'!F11=0),\"  --\",'Set UP'!C11)","v":499},{"$f":"IF(OR('Set UP'!$C11=0,'Set UP'!$D11=0,'Set UP'!$E11=0,'Set UP'!F11=0),\"  --\",'Set UP'!D11&\" \"&'Set UP'!E11)","v":"University of St Andrews B"},{"$f":"IF(OR('Set UP'!$C11=0,'Set UP'!$D11=0,'Set UP'!$E11=0,'Set UP'!F11=0,),\" --\",'Set UP'!F11)","v":"NC"},null,null,null,"","Disqualified",null,{"$f":"IF(OR(D11=\"  --\",I11=\"\"),\"\",IF(AND('Set UP'!G11=0,'Set UP'!H11=0),0,IF(I11-'Set UP'!I11*(1+$L$3/100)<=0,0,TRUNC((I11-'Set UP'!I11*(1+$L$3/100))/$K$3))))","v":""},"","Disqualified",{"$f":"IF('Set UP'!K11<>1,\"\",$N11)","v":""},{"$f":"IF('Set UP'!K11<>2,\"\",$N11)","v":""},"DQ","","","",27,"","","",""]
[null,6,{"$f":"IF(OR('Set UP'!$C12=0,'Set UP'!$D12=0,'Set UP'!$E12=0,'Set UP'!F12=0),\"  --\",'Set UP'!C12)","v":507},{"$f":"IF(OR('Set UP'!$C12=0,'Set UP'!$D12=0,'Set UP'!$E12=0,'Set UP'!F12=0),\"  --\",'Set UP'!D12&\" \"&'Set UP'!E12)","v":"University of Plymouth C"},{"$f":"IF(OR('Set UP'!$C12=0,'Set UP'!$D12=0,'Set UP'!$E12=0,'Set UP'!F12=0,),\" --\",'Set UP'!F12)","v":"S"},8,33,44,513.44000000000005,"Finished",0,{"$f":"IF(OR(D12=\"  --\",I12=\"\"),\"\",IF(AND('Set UP'!G12=0,'Set UP'!H12=0),0,IF(I12-'Set UP'!I12*(1+$L$3/100)<=0,0,TRUNC((I12-'Set UP'!I12*(1+$L$3/100))/$K$3))))","v":0},0,513.44000000000005,{"$f":"IF('Set UP'!K12<>1,\"\",$N12)","v":""},{"$f":"IF('Set UP'!K12<>2,\"\",$N12)","v":513.44000000000005},8,33,44.000000000005457,24,24,"","",10,10]
[null,7,{"$f":"IF(OR('Set UP'!$C13=0,'Set UP'!$D13=0,'Set UP'!$E13=0,'Set UP'!F13=0),\"  --\",'Set UP'!C13)","v":519},{"$f":"IF(OR('Set UP'!$C13=0,'Set UP'!$D13=0,'Set UP'!$E13=0,'Set UP'!F13=0),\"  --\",'Set UP'!D13&\" \"&'Set UP'!E13)","v":"University of Aberdeen B"},{"$f":"IF(OR('Set UP'!$C13=0,'Set UP'!$D13=0,'Set UP'!$E13=0,'Set UP'!F13=0,),\" --\",'Set UP'!F13)","v":"NC"},null,null,null,"","Disqualified",null,{"$f":"IF(OR(D13=\"  --\",I13=\"\"),\"\",IF(AND('Set UP'!G13=0,'Set UP'!H13=0),0,IF(I13-'Set UP'!I13*(1+$L$3/100)<=0,0,TRUNC((I13-'Set UP'!I13*(1+$L$3/100))/$K$3))))","v":""},"","Disqualified",{"$f":"IF('Set UP'!K13<>1,\"\",$N13)","v":""},{"$f":"IF('Set UP'!K13<>2,\"\",$N13)","v":""},"DQ","","","",27,"","","",""]
[null,8,{"$f":"IF(OR('Set UP'!$C14=0,'Set UP'!$D14=0,'Set UP'!$E14=0,'Set UP'!F14=0),\"  --\",'Set UP'!C14)","v":532},{"$f":"IF(OR('Set UP'!$C14=0,'Set UP'!$D14=0,'Set UP'!$E14=0,'Set UP'!F14=0),\"  --\",'Set UP'!D14&\" \"&'Set UP'!E14)","v":"University of London Union E"},{"$f":"IF(OR('Set UP'!$C14=0,'Set UP'!$D14=0,'Set UP'!$E14=0,'Set UP'!F14=0,),\" --\",'Set UP'!F14)","v":"S"},9,20,43,560.42999999999995,"Finished",0,{"$f":"IF(OR(D14=\"  --\",I14=\"\"),\"\",IF(AND('Set UP'!G14=0,'Set UP'!H14=0),0,IF(I14-'Set UP'!I14*(1+$L$3/100)<=0,0,TRUNC((I14-'Set UP'!I14*(1+$L$3/100))/$K$3))))","v":1},1,575.42999999999995,{"$f":"IF('Set UP'!K14<>1,\"\",$N14)","v":""},{"$f":"IF('Set UP'!K14<>2,\"\",$N14)","v":575.42999999999995},9,35,42.999999999994998,26,26,"","",12,12]
[null,9,{"$f":"IF(OR('Set UP'!$C15=0,'Set UP'!$D15=0,'Set UP'!$E15=0,'Set UP'!F15=0),\"  --\",'Set UP'!C15)","v":530},{"$f":"IF(OR('Set UP'!$C15=0,'Set UP'!$D15=0,'Set UP'!$E15=0,'Set UP'!F15=0),\"  --\",'Set UP'!D15&\" \"&'Set UP'!E15)","v":"University of London Union C"},{"$f":"IF(OR('Set UP'!$C15=0,'Set UP'!$D15=0,'Set UP'!$E15=0,'Set UP'!F15=0,),\" --\",'Set UP'!F15)","v":"S"},8,32,97,512.97,"Finished",0,{"$f":"IF(OR(D15=\"  --\",I15=\"\"),\"\",IF(AND('Set UP'!G15=0,'Set UP'!H15=0),0,IF(I15-'Set UP'!I15*(1+$L$3/100)<=0,0,TRUNC((I15-'Set UP'!I15*(1+$L$3/100))/$K$3))))","v":0},0,512.97,{"$f":"IF('Set UP'!K15<>1,\"\",$N15)","v":""},{"$f":"IF('Set UP'!K15<>2,\"\",$N15)","v":512.97},8,32,97.000000000002728,23,23,"","",9,9]
[null,10,{"$f":"IF(OR('Set UP'!$C16=0,'Set UP'!$D16=0,'Set UP'!$E16=0,'Set UP'!F16=0),\"  --\",'Set UP'!C16)","v":506},{"$f":"IF(OR('Set UP'!$C16=0,'Set UP'!$D16=0,'Set UP'!$E16=0,'Set UP'!F16=0),\"  --\",'Set UP'!D16&\" \"&'Set UP'!E16)","v":"University of Plymouth B"},{"$f":"IF(OR('Set UP'!$C16=0,'Set UP'!$D16=0,'Set UP'!$E16=0,'Set UP'!F16=0,),\" --\",'Set UP'!F16)","v":"S"},7,59,71,479.71,"Disqualified",0,{"$f":"IF(OR(D16=\"  --\",I16=\"\"),\"\",IF(AND('Set UP'!G16=0,'Set UP'!H16=0),0,IF(I16-'Set UP'!I16*(1+$L$3/100)<=0,0,TRUNC((I16-'Set UP'!I16*(1+$L$3/100))/$K$3))))","v":0},0,"Disqualified",{"$f":"IF('Set UP'!K16<>1,\"\",$N16)","v":""},{"$f":"IF('Set UP'!K16<>2,\"\",$N16)","v":"Disqualified"},"DQ","","","",27,"","","",13]
[null,11,{"$f":"IF(OR('Set UP'!$C17=0,'Set UP'!$D17=0,'Set UP'!$E17=0,'Set UP'!F17=0),\"  --\",'Set UP'!C17)","v":518},{"$f":"IF(OR('Set UP'!$C17=0,'Set UP'!$D17=0,'Set UP'!$E17=0,'Set UP'!F17=0),\"  --\",'Set UP'!D17&\" \"&'Set UP'!E17)","v":"University of Aberdeen A"},{"$f":"IF(OR('Set UP'!$C17=0,'Set UP'!$D17=0,'Set UP'!$E17=0,'Set UP'!F17=0,),\" --\",'Set UP'!F17)","v":"S"},7,46,41,466.41,"Finished",0,{"$f":"IF(OR(D17=\"  --\",I17=\"\"),\"\",IF(AND('Set UP'!G17=0,'Set UP'!H17=0),0,IF(I17-'Set UP'!I17*(1+$L$3/100)<=0,0,TRUNC((I17-'Set UP'!I17*(1+$L$3/100))/$K$3))))","v":0},0,466.41,{"$f":"IF('Set UP'!K17<>1,\"\",$N17)","v":466.41},{"$f":"IF('Set UP'!K17<>2,\"\",$N17)","v":""},7,46,41.000000000002501,19,19,10,10,"",""]
[null,12,{"$f":"IF(OR('Set UP'!$C18=0,'Set UP'!$D18=0,'Set UP'!$E18=0,'Set UP'!F18=0),\"  --\",'Set UP'!C18)","v":538},{"$f":"IF(OR('Set UP'!$C18=0,'Set UP'!$D18=0,'Set UP'!$E18=0,'Set UP'!F18=0),\"  --\",'Set UP'!D18&\" \"&'Set UP'!E18)","v":"University of Southampton C"},{"$f":"IF(OR('Set UP'!$C18=0,'Set UP'!$D18=0,'Set UP'!$E18=0,'Set UP'!F18=0,),\" --\",'Set UP'!F18)","v":"S"},7,46,42,466.42,"Finished",0,{"$f":"IF(OR(D18=\"  --\",I18=\"\"),\"\",IF(AND('Set UP'!G18=0,'Set UP'!H18=0),0,IF(I18-'Set UP'!I18*(1+$L$3/100)<=0,0,TRUNC((I18-'Set UP'!I18*(1+$L$3/100))/$K$3))))","v":0},0,466.42,{"$f":"IF('Set UP'!K18<>1,\"\",$N18)","v":""},{"$f":"IF('Set UP'!K18<>2,\"\",$N18)","v":466.42},7,46,42.000000000001592,20,20,"","",7,7]
[null,13,{"$f":"IF(OR('Set UP'!$C19=0,'Set UP'!$D19=0,'Set UP'!$E19=0,'Set UP'!F19=0),\"  --\",'Set UP'!C19)","v":515},{"$f":"IF(OR('Set UP'!$C19=0,'Set UP'!$D19=0,'Set UP'!$E19=0,'Set UP'!F19=0),\"  --\",'Set UP'!D19&\" \"&'Set UP'!E19)","v":"Loughborough University C"},{"$f":"IF(OR('Set UP'!$C19=0,'Set UP'!$D19=0,'Set UP'!$E19=0,'Set UP'!F19=0,),\" --\",'Set UP'!F19)","v":"S"},6,57,0,417,"Disqualified",0,{"$f":"IF(OR(D19=\"  --\",I19=\"\"),\"\",IF(AND('Set UP'!G19=0,'Set UP'!H19=0),0,IF(I19-'Set UP'!I19*(1+$L$3/100)<=0,0,TRUNC((I19-'Set UP'!I19*(1+$L$3/100))/$K$3))))","v":0},0,"Disqualified",{"$f":"IF('Set UP'!K19<>1,\"\",$N19)","v":""},{"$f":"IF('Set UP'!K19<>2,\"\",$N19)","v":"Disqualified"},"DQ","","","",27,"","","",13]
[null,14,{"$f":"IF(OR('Set UP'!$C20=0,'Set UP'!$D20=0,'Set UP'!$E20=0,'Set UP'!F20=0),\"  --\",'Set UP'!C20)","v":520},{"$f":"IF(OR('Set UP'!$C20=0,'Set UP'!$D20=0,'Set UP'!$E20=0,'Set UP'!F20=0),\"  --\",'Set UP'!D20&\" \"&'Set UP'!E20)","v":"Loughborough University D"},{"$f":"IF(OR('Set UP'!$C20=0,'Set UP'!$D20=0,'Set UP'!$E20=0,'Set UP'!F20=0,),\" --\",'Set UP'!F20)","v":"NS"},7,6,25,426.25,"Finished",0,{"$f":"IF(OR(D20=\"  --\",I20=\"\"),\"\",IF(AND('Set UP'!G20=0,'Set UP'!H20=0),0,IF(I20-'Set UP'!I20*(1+$L$3/100)<=0,0,TRUNC((I20-'Set UP'!I20*(1+$L$3/100))/$K$3))))","v":0},0,426.25,{"$f":"IF('Set UP'!K20<>1,\"\",$N20)","v":""},{"$f":"IF('Set UP'!K20<>2,\"\",$N20)","v":""},7,6,25,13,13,"","","",""]
[null,15,{"$f":"IF(OR('Set UP'!$C21=0,'Set UP'!$D21=0,'Set UP'!$E21=0,'Set UP'!F21=0),\"  --\",'Set UP'!C21)","v":512},{"$f":"IF(OR('Set UP'!$C21=0,'Set UP'!$D21=0,'Set UP'!$E21=0,'Set UP'!F21=0),\"  --\",'Set UP'!D21&\" \"&'Set UP'!E21)","v":"University of Warwick C"},{"$f":"IF(OR('Set UP'!$C21=0,'Set UP'!$D21=0,'Set UP'!$E21=0,'Set UP'!F21=0,),\" --\",'Set UP'!F21)","v":"NC"},8,28,84,508.84,"Finished",0,{"$f":"IF(OR(D21=\"  --\",I21=\"\"),\"\",IF(AND('Set UP'!G21=0,'Set UP'!H21=0),0,IF(I21-'Set UP'!I21*(1+$L$3/100)<=0,0,TRUNC((I21-'Set UP'!I21*(1+$L$3/100))/$K$3))))","v":0},0,508.84,{"$f":"IF('Set UP'!K21<>1,\"\",$N21)","v":""},{"$f":"IF('Set UP'!K21<>2,\"\",$N21)","v":""},8,28,83.999999999997499,22,22,"","","",""]
[null,16,{"$f":"IF(OR('Set UP'!$C22=0,'Set UP'!$D22=0,'Set UP'!$E22=0,'Set UP'!F22=0),\"  --\",'Set UP'!C22)","v":531},{"$f":"IF(OR('Set UP'!$C22=0,'Set UP'!$D22=0,'Set UP'!$E22=0,'Set UP'!F22=0),\"  --\",'Set UP'!D22&\" \"&'Set UP'!E22)","v":"University of London Union D"},{"$f":"IF(OR('Set UP'!$C22=0,'Set UP'!$D22=0,'Set UP'!$E22=0,'Set UP'!F22=0,),\" --\",'Set UP'!F22)","v":"NC"},6,45,15,405.15,"Finished",0,{"$f":"IF(OR(D22=\"  --\",I22=\"\"),\"\",IF(AND('Set UP'!G22=0,'Set UP'!H22=0),0,IF(I22-'Set UP'!I22*(1+$L$3/100)<=0,0,TRUNC((I22-'Set UP'!I22*(1+$L$3/100))/$K$3))))","v":0},0,405.15,{"$f":"IF('Set UP'!K22<>1,\"\",$N22)","v":""},{"$f":"IF('Set UP'!K22<>2,\"\",$N22)","v":""},6,45,14.999999999997726,7,7,"","","",""]
[null,17,{"$f":"IF(OR('Set UP'!$C23=0,'Set UP'!$D23=0,'Set UP'!$E23=0,'Set UP'!F23=0),\"  --\",'Set UP'!C23)","v":471},{"$f":"IF(OR('Set UP'!$C23=0,'Set UP'!$D23=0,'Set UP'!$E23=0,'Set UP'!F23=0),\"  --\",'Set UP'!D23&\" \"&'Set UP'!E23)","v":"University of Cambridge A"},{"$f":"IF(OR('Set UP'!$C23=0,'Set UP'!$D23=0,'Set UP'!$E23=0,'Set UP'!F23=0,),\" --\",'Set UP'!F23)","v":"S"},6,58,31,418.31,"Finished",0,{"$f":"IF(OR(D23=\"  --\",I23=\"\"),\"\",IF(AND('Set UP'!G23=0,'Set UP'!H23=0),0,IF(I23-'Set UP'!I23*(1+$L$3/100)<=0,0,TRUNC((I23-'Set UP'!I23*(1+$L$3/100))/$K$3))))","v":0},0,418.31,{"$f":"IF('Set UP'!K23<>1,\"\",$N23)","v":418.31},{"$f":"IF('Set UP'!K23<>2,\"\",$N23)","v":""},6,58,31.000000000000227,11,11,6,6,"",""]
[null,18,{"$f":"IF(OR('Set UP'!$C24=0,'Set UP'!$D24=0,'Set UP'!$E24=0,'Set UP'!F24=0),\"  --\",'Set UP'!C24)","v":522},{"$f":"IF(OR('Set UP'!$C24=0,'Set UP'!$D24=0,'Set UP'!$E24=0,'Set UP'!F24=0),\"  --\",'Set UP'!D24&\" \"&'Set UP'!E24)","v":"University of Birmingham B"},{"$f":"IF(OR('Set UP'!$C24=0,'Set UP'!$D24=0,'Set UP'!$E24=0,'Set UP'!F24=0,),\" --\",'Set UP'!F24)","v":"S"},7,16,41,436.41,"Finished",0,{"$f":"IF(OR(D24=\"  --\",I24=\"\"),\"\",IF(AND('Set UP'!G24=0,'Set UP'!H24=0),0,IF(I24-'Set UP'!I24*(1+$L$3/100)<=0,0,TRUNC((I24-'Set UP'!I24*(1+$L$3/100))/$K$3))))","v":0},0,436.41,{"$f":"IF('Set UP'!K24<>1,\"\",$N24)","v":""},{"$f":"IF('Set UP'!K24<>2,\"\",$N24)","v":436.41},7,16,41.000000000002501,16,16,"","",5,5]
[null,19,{"$f":"IF(OR('Set UP'!$C25=0,'Set UP'!$D25=0,'Set UP'!$E25=0,'Set UP'!F25=0),\"  --\",'Set UP'!C25)","v":498},{"$f":"IF(OR('Set UP'!$C25=0,'Set UP'!$D25=0,'Set UP'!$E25=0,'Set UP'!F25=0),\"  --\",'Set UP'!D25&\" \"&'Set UP'!E25)","v":"University of St Andrews A"},{"$f":"IF(OR('Set UP'!$C25=0,'Set UP'!$D25=0,'Set UP'!$E25=0,'Set UP'!F25=0,),\" --\",'Set UP'!F25)","v":"S"},7,17,38,437.38,"Finished",0,{"$f":"IF(OR(D25=\"  --\",I25=\"\"),\"\",IF(AND('Set UP'!G25=0,'Set UP'!H25=0),0,IF(I25-'Set UP'!I25*(1+$L$3/100)<=0,0,TRUNC((I25-'Set UP'!I25*(1+$L$3/100))/$K$3))))","v":0},0,437.38,{"$f":"IF('Set UP'!K25<>1,\"\",$N25)","v":437.38},{"$f":"IF('Set UP'!K25<>2,\"\",$N25)","v":""},7,17,37.999999999999545,17,17,9,9,"",""]
[null,20,{"$f":"IF(OR('Set UP'!$C26=0,'Set UP'!$D26=0,'Set UP'!$E26=0,'Set UP'!F26=0),\"  --\",'Set UP'!C26)","v":535},{"$f":"IF(OR('Set UP'!$C26=0,'Set UP'!$D26=0,'Set UP'!$E26=0,'Set UP'!F26=0),\"  --\",'Set UP'!D26&\" \"&'Set UP'!E26)","v":"University of Birmingham A"},{"$f":"IF(OR('Set UP'!$C26=0,'Set UP'!$D26=0,'Set UP'!$E26=0,'Set UP'!F26=0,),\" --\",'Set UP'!F26)","v":"S"},7,8,97,428.97,"Finished",0,{"$f":"IF(OR(D26=\"  --\",I26=\"\"),\"\",IF(AND('Set UP'!G26=0,'Set UP'!H26=0),0,IF(I26-'Set UP'!I26*(1+$L$3/100)<=0,0,TRUNC((I26-'Set UP'!I26*(1+$L$3/100))/$K$3))))","v":0},0,428.97,{"$f":"IF('Set UP'!K26<>1,\"\",$N26)","v":428.97},{"$f":"IF('Set UP'!K26<>2,\"\",$N26)","v":""},7,8,97.000000000002728,15,15,8,8,"",""]
[null,21,{"$f":"IF(OR('Set UP'!$C27=0,'Set UP'!$D27=0,'Set UP'!$E27=0,'Set UP'!F27=0),\"  --\",'Set UP'!C27)","v":508},{"$f":"IF(OR('Set UP'!$C27=0,'Set UP'!$D27=0,'Set UP'!$E27=0,'Set UP'!F27=0),\"  --\",'Set UP'!D27&\" \"&'Set UP'!E27)","v":"University of Nottingham A"},{"$f":"IF(OR('Set UP'!$C27=0,'Set UP'!$D27=0,'Set UP'!$E27=0,'Set UP'!F27=0,),\" --\",'Set UP'!F27)","v":"S"},6,42,25,402.25,"Finished",0,{"$f":"IF(OR(D27=\"  --\",I27=\"\"),\"\",IF(AND('Set UP'!G27=0,'Set UP'!H27=0),0,IF(I27-'Set UP'!I27*(1+$L$3/100)<=0,0,TRUNC((I27-'Set UP'!I27*(1+$L$3/100))/$K$3))))","v":0},0,402.25,{"$f":"IF('Set UP'!K27<>1,\"\",$N27)","v":402.25},{"$f":"IF('Set UP'!K27<>2,\"\",$N27)","v":""},6,42,25,6,6,3,3,"",""]
[null,22,{"$f":"IF(OR('Set UP'!$C28=0,'Set UP'!$D28=0,'Set UP'!$E28=0,'Set UP'!F28=0),\"  --\",'Set UP'!C28)","v":528},{"$f":"IF(OR('Set UP'!$C28=0,'Set UP'!$D28=0,'Set UP'!$E28=0,'Set UP'!F28=0),\"  --\",'Set UP'!D28&\" \"&'Set UP'!E28)","v":"University of London Union B"},{"$f":"IF(OR('Set UP'!$C28=0,'Set UP'!$D28=0,'Set UP'!$E28=0,'Set UP'!F28=0,),\" --\",'Set UP'!F28)","v":"S"},6,53,47,413.47,"Finished",0,{"$f":"IF(OR(D28=\"  --\",I28=\"\"),\"\",IF(AND('Set UP'!G28=0,'Set UP'!H28=0),0,IF(I28-'Set UP'!I28*(1+$L$3/100)<=0,0,TRUNC((I28-'Set UP'!I28*(1+$L$3/100))/$K$3))))","v":0},0,413.47,{"$f":"IF('Set UP'!K28<>1,\"\",$N28)","v":""},{"$f":"IF('Set UP'!K28<>2,\"\",$N28)","v":413.47},6,53,47.000000000002728,10,10,"","",3,3]
[null,23,{"$f":"IF(OR('Set UP'!$C29=0,'Set UP'!$D29=0,'Set UP'!$E29=0,'Set UP'!F29=0),\"  --\",'Set UP'!C29)","v":511},{"$f":"IF(OR('Set UP'!$C29=0,'Set UP'!$D29=0,'Set UP'!$E29=0,'Set UP'!F29=0),\"  --\",'Set UP'!D29&\" \"&'Set UP'!E29)","v":"University of Warwick B"},{"$f":"IF(OR('Set UP'!$C29=0,'Set UP'!$D29=0,'Set UP'!$E29=0,'Set UP'!F29=0,),\" --\",'Set UP'!F29)","v":"S"},7,7,16,427.16,"Finished",0,{"$f":"IF(OR(D29=\"  --\",I29=\"\"),\"\",IF(AND('Set UP'!G29=0,'Set UP'!H29=0),0,IF(I29-'Set UP'!I29*(1+$L$3/100)<=0,0,TRUNC((I29-'Set UP'!I29*(1+$L$3/100))/$K$3))))","v":0},0,427.16,{"$f":"IF('Set UP'!K29<>1,\"\",$N29)","v":""},{"$f":"IF('Set UP'!K29<>2,\"\",$N29)","v":427.16},7,7,16.000000000002501,14,14,"","",4,4]
[null,24,{"$f":"IF(OR('Set UP'!$C30=0,'Set UP'!$D30=0,'Set UP'!$E30=0,'Set UP'!F30=0),\"  --\",'Set UP'!C30)","v":509},{"$f":"IF(OR('Set UP'!$C30=0,'Set UP'!$D30=0,'Set UP'!$E30=0,'Set UP'!F30=0),\"  --\",'Set UP'!D30&\" \"&'Set UP'!E30)","v":"University of Nottingham B"},{"$f":"IF(OR('Set UP'!$C30=0,'Set UP'!$D30=0,'Set UP'!$E30=0,'Set UP'!F30=0,),\" --\",'Set UP'!F30)","v":"S"},7,39,75,459.75,"Finished",0,{"$f":"IF(OR(D30=\"  --\",I30=\"\"),\"\",IF(AND('Set UP'!G30=0,'Set UP'!H30=0),0,IF(I30-'Set UP'!I30*(1+$L$3/100)<=0,0,TRUNC((I30-'Set UP'!I30*(1+$L$3/100))/$K$3))))","v":0},0,459.75,{"$f":"IF('Set UP'!K30<>1,\"\",$N30)","v":""},{"$f":"IF('Set UP'!K30<>2,\"\",$N30)","v":459.75},7,39,75,18,18,"","",6,6]
[null,25,{"$f":"IF(OR('Set UP'!$C31=0,'Set UP'!$D31=0,'Set UP'!$E31=0,'Set UP'!F31=0),\"  --\",'Set UP'!C31)","v":517},{"$f":"IF(OR('Set UP'!$C31=0,'Set UP'!$D31=0,'Set UP'!$E31=0,'Set UP'!F31=0),\"  --\",'Set UP'!D31&\" \"&'Set UP'!E31)","v":"Loughborough University B"},{"$f":"IF(OR('Set UP'!$C31=0,'Set UP'!$D31=0,'Set UP'!$E31=0,'Set UP'!F31=0,),\" --\",'Set UP'!F31)","v":"S"},6,36,94,396.94,"Finished",0,{"$f":"IF(OR(D31=\"  --\",I31=\"\"),\"\",IF(AND('Set UP'!G31=0,'Set UP'!H31=0),0,IF(I31-'Set UP'!I31*(1+$L$3/100)<=0,0,TRUNC((I31-'Set UP'!I31*(1+$L$3/100))/$K$3))))","v":0},0,396.94,{"$f":"IF('Set UP'!K31<>1,\"\",$N31)","v":""},{"$f":"IF('Set UP'!K31<>2,\"\",$N31)","v":396.94},6,36,93.999999999999773,5,5,"","",2,2]
[null,26,{"$f":"IF(OR('Set UP'!$C32=0,'Set UP'!$D32=0,'Set UP'!$E32=0,'Set UP'!F32=0),\"  --\",'Set UP'!C32)","v":534},{"$f":"IF(OR('Set UP'!$C32=0,'Set UP'!$D32=0,'Set UP'!$E32=0,'Set UP'!F32=0),\"  --\",'Set UP'!D32&\" \"&'Set UP'!E32)","v":"University of Southampton B"},{"$f":"IF(OR('Set UP'!$C32=0,'Set UP'!$D32=0,'Set UP'!$E32=0,'Set UP'!F32=0,),\" --\",'Set UP'!F32)","v":"S"},6,32,16,392.16,"Finished",0,{"$f":"IF(OR(D32=\"  --\",I32=\"\"),\"\",IF(AND('Set UP'!G32=0,'Set UP'!H32=0),0,IF(I32-'Set UP'!I32*(1+$L$3/100)<=0,0,TRUNC((I32-'Set UP'!I32*(1+$L$3/100))/$K$3))))","v":0},0,392.16,{"$f":"IF('Set UP'!K32<>1,\"\",$N32)","v":""},{"$f":"IF('Set UP'!K32<>2,\"\",$N32)","v":392.16},6,32,16.000000000002501,3,3,"","",1,1]
[null,27,{"$f":"IF(OR('Set UP'!$C33=0,'Set UP'!$D33=0,'Set UP'!$E33=0,'Set UP'!F33=0),\"  --\",'Set UP'!C33)","v":479},{"$f":"IF(OR('Set UP'!$C33=0,'Set UP'!$D33=0,'Set UP'!$E33=0,'Set UP'!F33=0),\"  --\",'Set UP'!D33&\" \"&'Set UP'!E33)","v":"Loughborough University A"},{"$f":"IF(OR('Set UP'!$C33=0,'Set UP'!$D33=0,'Set UP'!$E33=0,'Set UP'!F33=0,),\" --\",'Set UP'!F33)","v":"S"},6,16,87,376.87,"Finished",0,{"$f":"IF(OR(D33=\"  --\",I33=\"\"),\"\",IF(AND('Set UP'!G33=0,'Set UP'!H33=0),0,IF(I33-'Set UP'!I33*(1+$L$3/100)<=0,0,TRUNC((I33-'Set UP'!I33*(1+$L$3/100))/$K$3))))","v":0},0,376.87,{"$f":"IF('Set UP'!K33<>1,\"\",$N33)","v":376.87},{"$f":"IF('Set UP'!K33<>2,\"\",$N33)","v":""},6,16,87.000000000000455,2,2,2,2,"",""]
[null,28,{"$f":"IF(OR('Set UP'!$C34=0,'Set UP'!$D34=0,'Set UP'!$E34=0,'Set UP'!F34=0),\"  --\",'Set UP'!C34)","v":545},{"$f":"IF(OR('Set UP'!$C34=0,'Set UP'!$D34=0,'Set UP'!$E34=0,'Set UP'!F34=0),\"  --\",'Set UP'!D34&\" \"&'Set UP'!E34)","v":"Colwick Park A"},{"$f":"IF(OR('Set UP'!$C34=0,'Set UP'!$D34=0,'Set UP'!$E34=0,'Set UP'!F34=0,),\" --\",'Set UP'!F34)","v":"NS"},6,34,63,394.63,"Finished",0,{"$f":"IF(OR(D34=\"  --\",I34=\"\"),\"\",IF(AND('Set UP'!G34=0,'Set UP'!H34=0),0,IF(I34-'Set UP'!I34*(1+$L$3/100)<=0,0,TRUNC((I34-'Set UP'!I34*(1+$L$3/100))/$K$3))))","v":0},0,394.63,{"$f":"IF('Set UP'!K34<>1,\"\",$N34)","v":""},{"$f":"IF('Set UP'!K34<>2,\"\",$N34)","v":""},6,34,62.999999999999545,4,4,"","","",""]
[null,29,{"$f":"IF(OR('Set UP'!$C35=0,'Set UP'!$D35=0,'Set UP'!$E35=0,'Set UP'!F35=0),\"  --\",'Set UP'!C35)","v":533},{"$f":"IF(OR('Set UP'!$C35=0,'Set UP'!$D35=0,'Set UP'!$E35=0,'Set UP'!F35=0),\"  --\",'Set UP'!D35&\" \"&'Set UP'!E35)","v":"University of Southampton A"},{"$f":"IF(OR('Set UP'!$C35=0,'Set UP'!$D35=0,'Set UP'!$E35=0,'Set UP'!F35=0,),\" --\",'Set UP'!F35)","v":"S"},5,56,12,356.12,"Finished",0,{"$f":"IF(OR(D35=\"  --\",I35=\"\"),\"\",IF(AND('Set UP'!G35=0,'Set UP'!H35=0),0,IF(I35-'Set UP'!I35*(1+$L$3/100)<=0,0,TRUNC((I35-'Set UP'!I35*(1+$L$3/100))/$K$3))))","v":0},0,356.12,{"$f":"IF('Set UP'!K35<>1,\"\",$N35)","v":356.12},{"$f":"IF('Set UP'!K35<>2,\"\",$N35)","v":""},5,56,12.000000000000455,1,1,1,1,"",""]
[null,30,{"$f":"IF(OR('Set UP'!$C36=0,'Set UP'!$D36=0,'Set UP'!$E36=0,'Set UP'!F36=0),\"  --\",'Set UP'!C36)","v":523},{"$f":"IF(OR('Set UP'!$C36=0,'Set UP'!$D36=0,'Set UP'!$E36=0,'Set UP'!F36=0),\"  --\",'Set UP'!D36&\" \"&'Set UP'!E36)","v":"University of London Union A"},{"$f":"IF(OR('Set UP'!$C36=0,'Set UP'!$D36=0,'Set UP'!$E36=0,'Set UP'!F36=0,),\" --\",'Set UP'!F36)","v":"S"},6,58,50,418.5,"Finished",0,{"$f":"IF(OR(D36=\"  --\",I36=\"\"),\"\",IF(AND('Set UP'!G36=0,'Set UP'!H36=0),0,IF(I36-'Set UP'!I36*(1+$L$3/100)<=0,0,TRUNC((I36-'Set UP'!I36*(1+$L$3/100))/$K$3))))","v":0},0,418.5,{"$f":"IF('Set UP'!K36<>1,\"\",$N36)","v":418.5},{"$f":"IF('Set UP'!K36<>2,\"\",$N36)","v":""},6,58,50,12,12,7,7,"",""]
[null,31,{"$f":"IF(OR('Set UP'!$C37=0,'Set UP'!$D37=0,'Set UP'!$E37=0,'Set UP'!F37=0),\"  --\",'Set UP'!C37)","v":505},{"$f":"IF(OR('Set UP'!$C37=0,'Set UP'!$D37=0,'Set UP'!$E37=0,'Set UP'!F37=0),\"  --\",'Set UP'!D37&\" \"&'Set UP'!E37)","v":"University of Plymouth A"},{"$f":"IF(OR('Set UP'!$C37=0,'Set UP'!$D37=0,'Set UP'!$E37=0,'Set UP'!F37=0,),\" --\",'Set UP'!F37)","v":"S"},6,50,81,410.81,"Finished",0,{"$f":"IF(OR(D37=\"  --\",I37=\"\"),\"\",IF(AND('Set UP'!G37=0,'Set UP'!H37=0),0,IF(I37-'Set UP'!I37*(1+$L$3/100)<=0,0,TRUNC((I37-'Set UP'!I37*(1+$L$3/100))/$K$3))))","v":0},0,410.81,{"$f":"IF('Set UP'!K37<>1,\"\",$N37)","v":410.81},{"$f":"IF('Set UP'!K37<>2,\"\",$N37)","v":""},6,50,81.000000000000227,9,9,5,5,"",""]
[null,32,{"$f":"IF(OR('Set UP'!$C38=0,'Set UP'!$D38=0,'Set UP'!$E38=0,'Set UP'!F38=0),\"  --\",'Set UP'!C38)","v":510},{"$f":"IF(OR('Set UP'!$C38=0,'Set UP'!$D38=0,'Set UP'!$E38=0,'Set UP'!F38=0),\"  --\",'Set UP'!D38&\" \"&'Set UP'!E38)","v":"University of Warwick A"},{"$f":"IF(OR('Set UP'!$C38=0,'Set UP'!$D38=0,'Set UP'!$E38=0,'Set UP'!F38=0,),\" --\",'Set UP'!F38)","v":"S"},6,50,31,410.31,"Finished",0,{"$f":"IF(OR(D38=\"  --\",I38=\"\"),\"\",IF(AND('Set UP'!G38=0,'Set UP'!H38=0),0,IF(I38-'Set UP'!I38*(1+$L$3/100)<=0,0,TRUNC((I38-'Set UP'!I38*(1+$L$3/100))/$K$3))))","v":0},0,410.31,{"$f":"IF('Set UP'!K38<>1,\"\",$N38)","v":410.31},{"$f":"IF('Set UP'!K38<>2,\"\",$N38)","v":""},6,50,31.000000000000227,8,8,4,4,"",""]
[null,33,{"$f":"IF(OR('Set UP'!$C39=0,'Set UP'!$D39=0,'Set UP'!$E39=0,'Set UP'!F39=0),\"  --\",'Set UP'!C39)","v":"  --"},{"$f":"IF(OR('Set UP'!$C39=0,'Set UP'!$D39=0,'Set UP'!$E39=0,'Set UP'!F39=0),\"  --\",'Set UP'!D39&\" \"&'Set UP'!E39)","v":"  --"},{"$f":"IF(OR('Set UP'!$C39=0,'Set UP'!$D39=0,'Set UP'!$E39=0,'Set UP'!F39=0,),\" --\",'Set UP'!F39)","v":" --"},null,null,null,"",null,null,{"$f":"IF(OR(D39=\"  --\",I39=\"\"),\"\",IF(AND('Set UP'!G39=0,'Set UP'!H39=0),0,IF(I39-'Set UP'!I39*(1+$L$3/100)<=0,0,TRUNC((I39-'Set UP'!I39*(1+$L$3/100))/$K$3))))","v":""},"","",{"$f":"IF('Set UP'!K39<>1,\"\",$N39)","v":""},{"$f":"IF('Set UP'!K39<>2,\"\",$N39)","v":""},"","","","","","","","",""]
[null,34,{"$f":"IF(OR('Set UP'!$C40=0,'Set UP'!$D40=0,'Set UP'!$E40=0,'Set UP'!F40=0),\"  --\",'Set UP'!C40)","v":"  --"},{"$f":"IF(OR('Set UP'!$C40=0,'Set UP'!$D40=0,'Set UP'!$E40=0,'Set UP'!F40=0),\"  --\",'Set UP'!D40&\" \"&'Set UP'!E40)","v":"  --"},{"$f":"IF(OR('Set UP'!$C40=0,'Set UP'!$D40=0,'Set UP'!$E40=0,'Set UP'!F40=0,),\" --\",'Set UP'!F40)","v":" --"},null,null,null,"",null,null,{"$f":"IF(OR(D40=\"  --\",I40=\"\"),\"\",IF(AND('Set UP'!G40=0,'Set UP'!H40=0),0,IF(I40-'Set UP'!I40*(1+$L$3/100)<=0,0,TRUNC((I40-'Set UP'!I40*(1+$L$3/100))/$K$3))))","v":""},"","",{"$f":"IF('Set UP'!K40<>1,\"\",$N40)","v":""},{"$f":"IF('Set UP'!K40<>2,\"\",$N40)","v":""},"","","","","","","","",""]
[null,35,{"$f":"IF(OR('Set UP'!$C41=0,'Set UP'!$D41=0,'Set UP'!$E41=0,'Set UP'!F41=0),\"  --\",'Set UP'!C41)","v":"  --"},{"$f":"IF(OR('Set UP'!$C41=0,'Set UP'!$D41=0,'Set UP'!$E41=0,'Set UP'!F41=0),\"  --\",'Set UP'!D41&\" \"&'Set UP'!E41)","v":"  --"},{"$f":"IF(OR('Set UP'!$C41=0,'Set UP'!$D41=0,'Set UP'!$E41=0,'Set UP'!F41=0,),\" --\",'Set UP'!F41)","v":" --"},null,null,null,"",null,null,{"$f":"IF(OR(D41=\"  --\",I41=\"\"),\"\",IF(AND('Set UP'!G41=0,'Set UP'!H41=0),0,IF(I41-'Set UP'!I41*(1+$L$3/100)<=0,0,TRUNC((I41-'Set UP'!I41*(1+$L$3/100))/$K$3))))","v":""},"","",{"$f":"IF('Set UP'!K41<>1,\"\",$N41)","v":""},{"$f":"IF('Set UP'!K41<>2,\"\",$N41)","v":""},"","","","","","","","",""]
[null,36,{"$f":"IF(OR('Set UP'!$C42=0,'Set UP'!$D42=0,'Set UP'!$E42=0,'Set UP'!F42=0),\"  --\",'Set UP'!C42)","v":"  --"},{"$f":"IF(OR('Set UP'!$C42=0,'Set UP'!$D42=0,'Set UP'!$E42=0,'Set UP'!F42=0),\"  --\",'Set UP'!D42&\" \"&'Set UP'!E42)","v":"  --"},{"$f":"IF(OR('Set UP'!$C42=0,'Set UP'!$D42=0,'Set UP'!$E42=0,'Set UP'!F42=0,),\" --\",'Set UP'!F42)","v":" --"},null,null,null,"",null,null,{"$f":"IF(OR(D42=\"  --\",I42=\"\"),\"\",IF(AND('Set UP'!G42=0,'Set UP'!H42=0),0,IF(I42-'Set UP'!I42*(1+$L$3/100)<=0,0,TRUNC((I42-'Set UP'!I42*(1+$L$3/100))/$K$3))))","v":""},"","",{"$f":"IF('Set UP'!K42<>1,\"\",$N42)","v":""},{"$f":"IF('Set UP'!K42<>2,\"\",$N42)","v":""},"","","","","","","","",""]
[null,37,{"$f":"IF(OR('Set UP'!$C43=0,'Set UP'!$D43=0,'Set UP'!$E43=0,'Set UP'!F43=0),\"  --\",'Set UP'!C43)","v":"  --"},{"$f":"IF(OR('Set UP'!$C43=0,'Set UP'!$D43=0,'Set UP'!$E43=0,'Set UP'!F43=0),\"  --\",'Set UP'!D43&\" \"&'Set UP'!E43)","v":"  --"},{"$f":"IF(OR('Set UP'!$C43=0,'Set UP'!$D43=0,'Set UP'!$E43=0,'Set UP'!F43=0,),\" --\",'Set UP'!F43)","v":" --"},null,null,null,"",null,null,{"$f":"IF(OR(D43=\"  --\",I43=\"\"),\"\",IF(AND('Set UP'!G43=0,'Set UP'!H43=0),0,IF(I43-'Set UP'!I43*(1+$L$3/100)<=0,0,TRUNC((I43-'Set UP'!I43*(1+$L$3/100))/$K$3))))","v":""},"","",{"$f":"IF('Set UP'!K43<>1,\"\",$N43)","v":""},{"$f":"IF('Set UP'!K43<>2,\"\",$N43)","v":""},"","","","","","","","",""]
[null,38,{"$f":"IF(OR('Set UP'!$C44=0,'Set UP'!$D44=0,'Set UP'!$E44=0,'Set UP'!F44=0),\"  --\",'Set UP'!C44)","v":"  --"},{"$f":"IF(OR('Set UP'!$C44=0,'Set UP'!$D44=0,'Set UP'!$E44=0,'Set UP'!F44=0),\"  --\",'Set UP'!D44&\" \"&'Set UP'!E44)","v":"  --"},{"$f":"IF(OR('Set UP'!$C44=0,'Set UP'!$D44=0,'Set UP'!$E44=0,'Set UP'!F44=0,),\" --\",'Set UP'!F44)","v":" --"},null,null,null,"",null,null,{"$f":"IF(OR(D44=\"  --\",I44=\"\"),\"\",IF(AND('Set UP'!G44=0,'Set UP'!H44=0),0,IF(I44-'Set UP'!I44*(1+$L$3/100)<=0,0,TRUNC((I44-'Set UP'!I44*(1+$L$3/100))/$K$3))))","v":""},"","",{"$f":"IF('Set UP'!K44<>1,\"\",$N44)","v":""},{"$f":"IF('Set UP'!K44<>2,\"\",$N44)","v":""},"","","","","","","","",""]
[null,39,{"$f":"IF(OR('Set UP'!$C45=0,'Set UP'!$D45=0,'Set UP'!$E45=0,'Set UP'!F45=0),\"  --\",'Set UP'!C45)","v":"  --"},{"$f":"IF(OR('Set UP'!$C45=0,'Set UP'!$D45=0,'Set UP'!$E45=0,'Set UP'!F45=0),\"  --\",'Set UP'!D45&\" \"&'Set UP'!E45)","v":"  --"},{"$f":"IF(OR('Set UP'!$C45=0,'Set UP'!$D45=0,'Set UP'!$E45=0,'Set UP'!F45=0,),\" --\",'Set UP'!F45)","v":" --"},null,null,null,"",null,null,{"$f":"IF(OR(D45=\"  --\",I45=\"\"),\"\",IF(AND('Set UP'!G45=0,'Set UP'!H45=0),0,IF(I45-'Set UP'!I45*(1+$L$3/100)<=0,0,TRUNC((I45-'Set UP'!I45*(1+$L$3/100))/$K$3))))","v":""},"","",{"$f":"IF('Set UP'!K45<>1,\"\",$N45)","v":""},{"$f":"IF('Set UP'!K45<>2,\"\",$N45)","v":""},"","","","",{"$f":"IF(N45=\"Disqualified\",MAX($R$7:$R$46)+1,T45)","v":""},"","","",""]
[null,40,{"$f":"IF(OR('Set UP'!$C46=0,'Set UP'!$D46=0,'Set UP'!$E46=0,'Set UP'!F46=0),\"  --\",'Set UP'!C46)","v":"  --"},{"$f":"IF(OR('Set UP'!$C46=0,'Set UP'!$D46=0,'Set UP'!$E46=0,'Set UP'!F46=0),\"  --\",'Set UP'!D46&\" \"&'Set UP'!E46)","v":"  --"},{"$f":"IF(OR('Set UP'!$C46=0,'Set UP'!$D46=0,'Set UP'!$E46=0,'Set UP'!F46=0,),\" --\",'Set UP'!F46)","v":" --"},null,null,null,"",null,null,{"$f":"IF(OR(D46=\"  --\",I46=\"\"),\"\",IF(AND('Set UP'!G46=0,'Set UP'!H46=0),0,IF(I46-'Set UP'!I46*(1+$L$3/100)<=0,0,TRUNC((I46-'Set UP'!I46*(1+$L$3/100))/$K$3))))","v":""},"","",{"$f":"IF('Set UP'!K46<>1,\"\",$N46)","v":""},{"$f":"IF('Set UP'!K46<>2,\"\",$N46)","v":""},"","","","",{"$f":"IF(N46=\"Disqualified\",MAX($R$7:$R$46)+1,T46)","v":""},"","","",""]
[]
[]
[]
[]
[]
[]
[]
[]
[]
[]
[]
[]
[]
[]
[null,null,null,null,null,null,null,null,null,"Finished"]
[null,null,null,null,null,null,null,null,null,"Disqualified"]

{"sheet":"Medley","index":8,"n_rows":62,"n_cols":23,"rows_kept":62,"cut":false,"hidden":false,"merged":[[4,9,5,9],[4,13,5,13],[4,21,5,21],[4,12,5,12],[4,11,5,11],[4,14,4,16],[4,10,5,10],[4,22,5,22],[4,19,5,19],[4,20,5,20],[4,17,5,17],[4,18,5,18],[4,1,5,1],[4,3,5,3],[4,5,4,7],[4,8,5,8],[4,4,5,4],[4,2,5,2]]}
[]
[null,null,null,null,null,null,null,null,null,null,"Penalty Time (seconds)"]
[null,null,null,{"$f":"'Set UP'!Q10","v":"Medley"},null,null,null,null,null,null,15]
[]
[null,null,"Web","Team","Class","Stopwatch Time",null,null,null,"Finish Status","No. \nPenalties","Total\n(Competition)","Total\n(A)","Total\n(B)","Total Time",null,null,"Competition Position\nExcluding DQ's","Position\n(Competition)","A League Position\nExcluding DQ's","Position\n(A League)","B League Position\nExcluding DQ's","Position\n(B League)"]
[null,null,null,null,null,"mins","secs","1/100\nsec",null,null,null,null,null,null,"mins","secs","1/100 sec"]
[null,1,{"$f":"IF(OR('Set UP'!$C7=0,'Set UP'!$D7=0,'Set UP'!$E7=0,'Set UP'!F7=0),\"  --\",'Set UP'!C7)","v":537},{"$f":"IF(OR('Set UP'!$C7=0,'Set UP'!$D7=0,'Set UP'!$E7=0,'Set UP'!F7=0),\"  --\",'Set UP'!D7&\" \"&'Set UP'!E7)","v":"Heanor A"},{"$f":"IF(OR('Set UP'!$C7=0,'Set UP'!$D7=0,'Set UP'!$E7=0,'Set UP'!F7=0),\" --\",'Set UP'!F7)","v":"NS"},2,1,6,{"$f":"IF(AND(ISBLANK(F7),ISBLANK(G7),ISBLANK(H7)),\"\",(F7*60)+G7+(H7/100))","v":121.06},"Finished",null,{"$f":"IF(D7=\"  --\",\"\",IF(J7=\"Disqualified\",J7,IF(J7=\"Finished\",IF(OR(G7=\"\",H7=\"\"),\"\",I7+(K7*$K$3)),\"\")))","v":121.06},{"$f":"IF('Set UP'!K7<>1,\"\",$L7)","v":""},{"$f":"IF('Set UP'!K7<>2,\"\",$L7)","v":""},{"$f":"IF(D7=\"  --\",\"\",IF(L7=\"Disqualified\",\"DQ\",IF(L7=\"\",\"\",INT(L7/60))))","v":2},{"$f":"IF(D7=\"  --\",\"\", IF(L7=\"Disqualified\",\"\",IF(L7=\"\",\"\",INT(L7-(O7*60)))))","v":1},{"$f":"IF(D7=\"  --\",\"\", IF(L7=\"Disqualified\",\"\",IF(L7=\"\",\"\",100*(L7-((O7*60)+P7)))))","v":6.0000000000002274},{"$f":"IF(OR(L7=\"Disqualified\",L7=\"\"),\"\",RANK(L7,$L$7:$L$46,1))","v":4},{"$f":"IF(L7=\"Disqualified\",MAX($R$7:$R$46)+1,R7)","v":4},{"$f":"IF(OR($M7=\"Disqualified\",$M7=\"\"),\"\",RANK($M7,$M$7:$M$46,1))","v":""},{"$f":"IF($M7=\"Disqualified\",MAX($T$7:$T$46)+1,T7)","v":""},{"$f":"IF(OR($N7=\"Disqualified\",$N7=\"\"),\"\",RANK($N7,$N$7:$N$46,1))","v":""},{"$f":"IF($N7=\"Disqualified\",MAX($V$7:$V$46)+1,V7)","v":""}]
[null,2,{"$f":"IF(OR('Set UP'!$C8=0,'Set UP'!$D8=0,'Set UP'!$E8=0,'Set UP'!F8=0),\"  --\",'Set UP'!C8)","v":483},{"$f":"IF(OR('Set UP'!$C8=0,'Set UP'!$D8=0,'Set UP'!$E8=0,'Set UP'!F8=0),\"  --\",'Set UP'!D8&\" \"&'Set UP'!E8)","v":"University of Cambridge C"},{"$f":"IF(OR('Set UP'!$C8=0,'Set UP'!$D8=0,'Set UP'!$E8=0,'Set UP'!F8=0),\" --\",'Set UP'!F8)","v":"S"},2,46,41,166.41,"Disqualified",null,{"$f":"IF(D8=\"  --\",\"\",IF(J8=\"Disqualified\",J8,IF(J8=\"Finished\",IF(OR(G8=\"\",H8=\"\"),\"\",I8+(K8*$K$3)),\"\")))","v":"Disqualified"},{"$f":"IF('Set UP'!K8<>1,\"\",$L8)","v":""},{"$f":"IF('Set UP'!K8<>2,\"\",$L8)","v":"Disqualified"},"DQ","","","",25,"",{"$f":"IF($M8=\"Disqualified\",MAX($T$7:$T$46)+1,T8)","v":""},{"$f":"IF(OR($N8=\"Disqualified\",$N8=\"\"),\"\",RANK($N8,$N$7:$N$46,1))","v":""},{"$f":"IF($N8=\"Disqualified\",MAX($V$7:$V$46)+1,V8)","v":12}]
[null,3,{"$f":"IF(OR('Set UP'!$C9=0,'Set UP'!$D9=0,'Set UP'!$E9=0,'Set UP'!F9=0),\"  --\",'Set UP'!C9)","v":474},{"$f":"IF(OR('Set UP'!$C9=0,'Set UP'!$D9=0,'Set UP'!$E9=0,'Set UP'!F9=0),\"  --\",'Set UP'!D9&\" \"&'Set UP'!E9)","v":"University of Cambridge B"},{"$f":"IF(OR('Set UP'!$C9=0,'Set UP'!$D9=0,'Set UP'!$E9=0,'Set UP'!F9=0),\" --\",'Set UP'!F9)","v":"S"},2,50,94,170.94,"Finished",null,170.94,{"$f":"IF('Set UP'!K9<>1,\"\",$L9)","v":""},{"$f":"IF('Set UP'!K9<>2,\"\",$L9)","v":170.94},2,50,93.999999999999773,24,24,"","",{"$f":"IF(OR($N9=\"Disqualified\",$N9=\"\"),\"\",RANK($N9,$N$7:$N$46,1))","v":11},11]
[null,4,{"$f":"IF(OR('Set UP'!$C10=0,'Set UP'!$D10=0,'Set UP'!$E10=0,'Set UP'!F10=0),\"  --\",'Set UP'!C10)","v":513},{"$f":"IF(OR('Set UP'!$C10=0,'Set UP'!$D10=0,'Set UP'!$E10=0,'Set UP'!F10=0),\"  --\",'Set UP'!D10&\" \"&'Set UP'!E10)","v":"University of Warwick D"},{"$f":"IF(OR('Set UP'!$C10=0,'Set UP'!$D10=0,'Set UP'!$E10=0,'Set UP'!F10=0),\" --\",'Set UP'!F10)","v":"S"},null,null,null,"","Disqualified",null,"Disqualified",{"$f":"IF('Set UP'!K10<>1,\"\",$L10)","v":""},{"$f":"IF('Set UP'!K10<>2,\"\",$L10)","v":"Disqualified"},"DQ","","","",25,"","","",12]
[null,5,{"$f":"IF(OR('Set UP'!$C11=0,'Set UP'!$D11=0,'Set UP'!$E11=0,'Set UP'!F11=0),\"  --\",'Set UP'!C11)","v":499},{"$f":"IF(OR('Set UP'!$C11=0,'Set UP'!$D11=0,'Set UP'!$E11=0,'Set UP'!F11=0),\"  --\",'Set UP'!D11&\" \"&'Set UP'!E11)","v":"University of St Andrews B"},{"$f":"IF(OR('Set UP'!$C11=0,'Set UP'!$D11=0,'Set UP'!$E11=0,'Set UP'!F11=0),\" --\",'Set UP'!F11)","v":"NC"},null,null,null,"","Disqualified",null,"Disqualified",{"$f":"IF('Set UP'!K11<>1,\"\",$L11)","v":""},{"$f":"IF('Set UP'!K11<>2,\"\",$L11)","v":""},"DQ","","","",25,"","","",""]
[null,6,{"$f":"IF(OR('Set UP'!$C12=0,'Set UP'!$D12=0,'Set UP'!$E12=0,'Set UP'!F12=0),\"  --\",'Set UP'!C12)","v":507},{"$f":"IF(OR('Set UP'!$C12=0,'Set UP'!$D12=0,'Set UP'!$E12=0,'Set UP'!F12=0),\"  --\",'Set UP'!D12&\" \"&'Set UP'!E12)","v":"University of Plymouth C"},{"$f":"IF(OR('Set UP'!$C12=0,'Set UP'!$D12=0,'Set UP'!$E12=0,'Set UP'!F12=0),\" --\",'Set UP'!F12)","v":"S"},2,42,93,162.93,"Finished",null,162.93,{"$f":"IF('Set UP'!K12<>1,\"\",$L12)","v":""},{"$f":"IF('Set UP'!K12<>2,\"\",$L12)","v":162.93},2,42,93.000000000000682,22,22,"","",9,9]
[null,7,{"$f":"IF(OR('Set UP'!$C13=0,'Set UP'!$D13=0,'Set UP'!$E13=0,'Set UP'!F13=0),\"  --\",'Set UP'!C13)","v":519},{"$f":"IF(OR('Set UP'!$C13=0,'Set UP'!$D13=0,'Set UP'!$E13=0,'Set UP'!F13=0),\"  --\",'Set UP'!D13&\" \"&'Set UP'!E13)","v":"University of Aberdeen B"},{"$f":"IF(OR('Set UP'!$C13=0,'Set UP'!$D13=0,'Set UP'!$E13=0,'Set UP'!F13=0),\" --\",'Set UP'!F13)","v":"NC"},2,44,62,164.62,"Disqualified",null,"Disqualified",{"$f":"IF('Set UP'!K13<>1,\"\",$L13)","v":""},{"$f":"IF('Set UP'!K13<>2,\"\",$L13)","v":""},"DQ","","","",25,"","","",""]
[null,8,{"$f":"IF(OR('Set UP'!$C14=0,'Set UP'!$D14=0,'Set UP'!$E14=0,'Set UP'!F14=0),\"  --\",'Set UP'!C14)","v":532},{"$f":"IF(OR('Set UP'!$C14=0,'Set UP'!$D14=0,'Set UP'!$E14=0,'Set UP'!F14=0),\"  --\",'Set UP'!D14&\" \"&'Set UP'!E14)","v":"University of London Union E"},{"$f":"IF(OR('Set UP'!$C14=0,'Set UP'!$D14=0,'Set UP'!$E14=0,'Set UP'!F14=0),\" --\",'Set UP'!F14)","v":"S"},2,46,40,166.4,"Finished",null,166.4,{"$f":"IF('Set UP'!K14<>1,\"\",$L14)","v":""},{"$f":"IF('Set UP'!K14<>2,\"\",$L14)","v":166.4},2,46,40.000000000000568,23,23,"","",10,10]
[null,9,{"$f":"IF(OR('Set UP'!$C15=0,'Set UP'!$D15=0,'Set UP'!$E15=0,'Set UP'!F15=0),\"  --\",'Set UP'!C15)","v":530},{"$f":"IF(OR('Set UP'!$C15=0,'Set UP'!$D15=0,'Set UP'!$E15=0,'Set UP'!F15=0),\"  --\",'Set UP'!D15&\" \"&'Set UP'!E15)","v":"University of London Union C"},{"$f":"IF(OR('Set UP'!$C15=0,'Set UP'!$D15=0,'Set UP'!$E15=0,'Set UP'!F15=0),\" --\",'Set UP'!F15)","v":"S"},2,33,81,153.81,"Finished",null,153.81,{"$f":"IF('Set UP'!K15<>1,\"\",$L15)","v":""},{"$f":"IF('Set UP'!K15<>2,\"\",$L15)","v":153.81},2,33,81.000000000000227,21,21,"","",8,8]
[null,10,{"$f":"IF(OR('Set UP'!$C16=0,'Set UP'!$D16=0,'Set UP'!$E16=0,'Set UP'!F16=0),\"  --\",'Set UP'!C16)","v":506},{"$f":"IF(OR('Set UP'!$C16=0,'Set UP'!$D16=0,'Set UP'!$E16=0,'Set UP'!F16=0),\"  --\",'Set UP'!D16&\" \"&'Set UP'!E16)","v":"University of Plymouth B"},{"$f":"IF(OR('Set UP'!$C16=0,'Set UP'!$D16=0,'Set UP'!$E16=0,'Set UP'!F16=0),\" --\",'Set UP'!F16)","v":"S"},2,23,51,143.51,"Finished",null,143.51,{"$f":"IF('Set UP'!K16<>1,\"\",$L16)","v":""},{"$f":"IF('Set UP'!K16<>2,\"\",$L16)","v":143.51},2,23,50.999999999999091,18,18,"","",5,5]
[null,11,{"$f":"IF(OR('Set UP'!$C17=0,'Set UP'!$D17=0,'Set UP'!$E17=0,'Set UP'!F17=0),\"  --\",'Set UP'!C17)","v":518},{"$f":"IF(OR('Set UP'!$C17=0,'Set UP'!$D17=0,'Set UP'!$E17=0,'Set UP'!F17=0),\"  --\",'Set UP'!D17&\" \"&'Set UP'!E17)","v":"University of Aberdeen A"},{"$f":"IF(OR('Set UP'!$C17=0,'Set UP'!$D17=0,'Set UP'!$E17=0,'Set UP'!F17=0),\" --\",'Set UP'!F17)","v":"S"},2,23,50,143.5,"Finished",null,143.5,{"$f":"IF('Set UP'!K17<>1,\"\",$L17)","v":143.5},{"$f":"IF('Set UP'!K17<>2,\"\",$L17)","v":""},2,23,50,17,17,9,9,"",""]
[null,12,{"$f":"IF(OR('Set UP'!$C18=0,'Set UP'!$D18=0,'Set UP'!$E18=0,'Set UP'!F18=0),\"  --\",'Set UP'!C18)","v":538},{"$f":"IF(OR('Set UP'!$C18=0,'Set UP'!$D18=0,'Set UP'!$E18=0,'Set UP'!F18=0),\"  --\",'Set UP'!D18&\" \"&'Set UP'!E18)","v":"University of Southampton C"},{"$f":"IF(OR('Set UP'!$C18=0,'Set UP'!$D18=0,'Set UP'!$E18=0,'Set UP'!F18=0),\" --\",'Set UP'!F18)","v":"S"},2,30,22,150.22,"Finished",null,150.22,{"$f":"IF('Set UP'!K18<>1,\"\",$L18)","v":""},{"$f":"IF('Set UP'!K18<>2,\"\",$L18)","v":150.22},2,30,21.999999999999886,20,20,"","",7,7]
[null,13,{"$f":"IF(OR('Set UP'!$C19=0,'Set UP'!$D19=0,'Set UP'!$E19=0,'Set UP'!F19=0),\"  --\",'Set UP'!C19)","v":515},{"$f":"IF(OR('Set UP'!$C19=0,'Set UP'!$D19=0,'Set UP'!$E19=0,'Set UP'!F19=0),\"  --\",'Set UP'!D19&\" \"&'Set UP'!E19)","v":"Loughborough University C"},{"$f":"IF(OR('Set UP'!$C19=0,'Set UP'!$D19=0,'Set UP'!$E19=0,'Set UP'!F19=0),\" --\",'Set UP'!F19)","v":"S"},2,16,79,136.79,"Finished",null,136.79,{"$f":"IF('Set UP'!K19<>1,\"\",$L19)","v":""},{"$f":"IF('Set UP'!K19<>2,\"\",$L19)","v":136.79},2,16,78.999999999999204,16,16,"","",4,4]
[null,14,{"$f":"IF(OR('Set UP'!$C20=0,'Set UP'!$D20=0,'Set UP'!$E20=0,'Set UP'!F20=0),\"  --\",'Set UP'!C20)","v":520},{"$f":"IF(OR('Set UP'!$C20=0,'Set UP'!$D20=0,'Set UP'!$E20=0,'Set UP'!F20=0),\"  --\",'Set UP'!D20&\" \"&'Set UP'!E20)","v":"Loughborough University D"},{"$f":"IF(OR('Set UP'!$C20=0,'Set UP'!$D20=0,'Set UP'!$E20=0,'Set UP'!F20=0),\" --\",'Set UP'!F20)","v":"NS"},2,8,72,128.72,"Finished",null,128.72,{"$f":"IF('Set UP'!K20<>1,\"\",$L20)","v":""},{"$f":"IF('Set UP'!K20<>2,\"\",$L20)","v":""},2,8,71.999999999999886,9,9,"","","",""]
[null,15,{"$f":"IF(OR('Set UP'!$C21=0,'Set UP'!$D21=0,'Set UP'!$E21=0,'Set UP'!F21=0),\"  --\",'Set UP'!C21)","v":512},{"$f":"IF(OR('Set UP'!$C21=0,'Set UP'!$D21=0,'Set UP'!$E21=0,'Set UP'!F21=0),\"  --\",'Set UP'!D21&\" \"&'Set UP'!E21)","v":"University of Warwick C"},{"$f":"IF(OR('Set UP'!$C21=0,'Set UP'!$D21=0,'Set UP'!$E21=0,'Set UP'!F21=0),\" --\",'Set UP'!F21)","v":"NC"},2,45,50,165.5,"Disqualified",null,"Disqualified",{"$f":"IF('Set UP'!K21<>1,\"\",$L21)","v":""},{"$f":"IF('Set UP'!K21<>2,\"\",$L21)","v":""},"DQ","","","",25,"","","",""]
[null,16,{"$f":"IF(OR('Set UP'!$C22=0,'Set UP'!$D22=0,'Set UP'!$E22=0,'Set UP'!F22=0),\"  --\",'Set UP'!C22)","v":531},{"$f":"IF(OR('Set UP'!$C22=0,'Set UP'!$D22=0,'Set UP'!$E22=0,'Set UP'!F22=0),\"  --\",'Set UP'!D22&\" \"&'Set UP'!E22)","v":"University of London Union D"},{"$f":"IF(OR('Set UP'!$C22=0,'Set UP'!$D22=0,'Set UP'!$E22=0,'Set UP'!F22=0),\" --\",'Set UP'!F22)","v":"NC"},2,6,47,126.47,"Finished",null,126.47,{"$f":"IF('Set UP'!K22<>1,\"\",$L22)","v":""},{"$f":"IF('Set UP'!K22<>2,\"\",$L22)","v":""},2,6,46.999999999999886,8,8,"","","",""]
[null,17,{"$f":"IF(OR('Set UP'!$C23=0,'Set UP'!$D23=0,'Set UP'!$E23=0,'Set UP'!F23=0),\"  --\",'Set UP'!C23)","v":471},{"$f":"IF(OR('Set UP'!$C23=0,'Set UP'!$D23=0,'Set UP'!$E23=0,'Set UP'!F23=0),\"  --\",'Set UP'!D23&\" \"&'Set UP'!E23)","v":"University of Cambridge A"},{"$f":"IF(OR('Set UP'!$C23=0,'Set UP'!$D23=0,'Set UP'!$E23=0,'Set UP'!F23=0),\" --\",'Set UP'!F23)","v":"S"},2,15,35,135.35,"Disqualified",null,"Disqualified",{"$f":"IF('Set UP'!K23<>1,\"\",$L23)","v":"Disqualified"},{"$f":"IF('Set UP'!K23<>2,\"\",$L23)","v":""},"DQ","","","",25,"",10,"",""]
[null,18,{"$f":"IF(OR('Set UP'!$C24=0,'Set UP'!$D24=0,'Set UP'!$E24=0,'Set UP'!F24=0),\"  --\",'Set UP'!C24)","v":522},{"$f":"IF(OR('Set UP'!$C24=0,'Set UP'!$D24=0,'Set UP'!$E24=0,'Set UP'!F24=0),\"  --\",'Set UP'!D24&\" \"&'Set UP'!E24)","v":"University of Birmingham B"},{"$f":"IF(OR('Set UP'!$C24=0,'Set UP'!$D24=0,'Set UP'!$E24=0,'Set UP'!F24=0),\" --\",'Set UP'!F24)","v":"S"},2,15,34,135.34,"Finished",null,135.34,{"$f":"IF('Set UP'!K24<>1,\"\",$L24)","v":""},{"$f":"IF('Set UP'!K24<>2,\"\",$L24)","v":135.34},2,15,34.000000000000341,15,15,"","",3,3]
[null,19,{"$f":"IF(OR('Set UP'!$C25=0,'Set UP'!$D25=0,'Set UP'!$E25=0,'Set UP'!F25=0),\"  --\",'Set UP'!C25)","v":498},{"$f":"IF(OR('Set UP'!$C25=0,'Set UP'!$D25=0,'Set UP'!$E25=0,'Set UP'!F25=0),\"  --\",'Set UP'!D25&\" \"&'Set UP'!E25)","v":"University of St Andrews A"},{"$f":"IF(OR('Set UP'!$C25=0,'Set UP'!$D25=0,'Set UP'!$E25=0,'Set UP'!F25=0),\" --\",'Set UP'!F25)","v":"S"},2,12,78,132.78,"Finished",null,132.78,{"$f":"IF('Set UP'!K25<>1,\"\",$L25)","v":132.78},{"$f":"IF('Set UP'!K25<>2,\"\",$L25)","v":""},2,12,78.000000000000114,13,13,8,8,"",""]
[null,20,{"$f":"IF(OR('Set UP'!$C26=0,'Set UP'!$D26=0,'Set UP'!$E26=0,'Set UP'!F26=0),\"  --\",'Set UP'!C26)","v":535},{"$f":"IF(OR('Set UP'!$C26=0,'Set UP'!$D26=0,'Set UP'!$E26=0,'Set UP'!F26=0),\"  --\",'Set UP'!D26&\" \"&'Set UP'!E26)","v":"University of Birmingham A"},{"$f":"IF(OR('Set UP'!$C26=0,'Set UP'!$D26=0,'Set UP'!$E26=0,'Set UP'!F26=0),\" --\",'Set UP'!F26)","v":"S"},2,8,94,128.94,"Finished",null,128.94,{"$f":"IF('Set UP'!K26<>1,\"\",$L26)","v":128.94},{"$f":"IF('Set UP'!K26<>2,\"\",$L26)","v":""},2,8,93.999999999999773,10,10,6,6,"",""]
[null,21,{"$f":"IF(OR('Set UP'!$C27=0,'Set UP'!$D27=0,'Set UP'!$E27=0,'Set UP'!F27=0),\"  --\",'Set UP'!C27)","v":508},{"$f":"IF(OR('Set UP'!$C27=0,'Set UP'!$D27=0,'Set UP'!$E27=0,'Set UP'!F27=0),\"  --\",'Set UP'!D27&\" \"&'Set UP'!E27)","v":"University of Nottingham A"},{"$f":"IF(OR('Set UP'!$C27=0,'Set UP'!$D27=0,'Set UP'!$E27=0,'Set UP'!F27=0),\" --\",'Set UP'!F27)","v":"S"},2,3,60,123.6,"Finished",null,123.6,{"$f":"IF('Set UP'!K27<>1,\"\",$L27)","v":123.6},{"$f":"IF('Set UP'!K27<>2,\"\",$L27)","v":""},2,3,59.999999999999432,6,6,4,4,"",""]
[null,22,{"$f":"IF(OR('Set UP'!$C28=0,'Set UP'!$D28=0,'Set UP'!$E28=0,'Set UP'!F28=0),\"  --\",'Set UP'!C28)","v":528},{"$f":"IF(OR('Set UP'!$C28=0,'Set UP'!$D28=0,'Set UP'!$E28=0,'Set UP'!F28=0),\"  --\",'Set UP'!D28&\" \"&'Set UP'!E28)","v":"University of London Union B"},{"$f":"IF(OR('Set UP'!$C28=0,'Set UP'!$D28=0,'Set UP'!$E28=0,'Set UP'!F28=0),\" --\",'Set UP'!F28)","v":"S"},2,14,18,134.18,"Finished",null,134.18,{"$f":"IF('Set UP'!K28<>1,\"\",$L28)","v":""},{"$f":"IF('Set UP'!K28<>2,\"\",$L28)","v":134.18},2,14,18.000000000000682,14,14,"","",2,2]
[null,23,{"$f":"IF(OR('Set UP'!$C29=0,'Set UP'!$D29=0,'Set UP'!$E29=0,'Set UP'!F29=0),\"  --\",'Set UP'!C29)","v":511},{"$f":"IF(OR('Set UP'!$C29=0,'Set UP'!$D29=0,'Set UP'!$E29=0,'Set UP'!F29=0),\"  --\",'Set UP'!D29&\" \"&'Set UP'!E29)","v":"University of Warwick B"},{"$f":"IF(OR('Set UP'!$C29=0,'Set UP'!$D29=0,'Set UP'!$E29=0,'Set UP'!F29=0),\" --\",'Set UP'!F29)","v":"S"},2,22,19,142.19,"Disqualified",null,"Disqualified",{"$f":"IF('Set UP'!K29<>1,\"\",$L29)","v":""},{"$f":"IF('Set UP'!K29<>2,\"\",$L29)","v":"Disqualified"},"DQ","","","",25,"","","",12]
[null,24,{"$f":"IF(OR('Set UP'!$C30=0,'Set UP'!$D30=0,'Set UP'!$E30=0,'Set UP'!F30=0),\"  --\",'Set UP'!C30)","v":509},{"$f":"IF(OR('Set UP'!$C30=0,'Set UP'!$D30=0,'Set UP'!$E30=0,'Set UP'!F30=0),\"  --\",'Set UP'!D30&\" \"&'Set UP'!E30)","v":"University of Nottingham B"},{"$f":"IF(OR('Set UP'!$C30=0,'Set UP'!$D30=0,'Set UP'!$E30=0,'Set UP'!F30=0),\" --\",'Set UP'!F30)","v":"S"},2,29,75,149.75,"Finished",null,149.75,{"$f":"IF('Set UP'!K30<>1,\"\",$L30)","v":""},{"$f":"IF('Set UP'!K30<>2,\"\",$L30)","v":149.75},2,29,75,19,19,"","",6,6]
[null,25,{"$f":"IF(OR('Set UP'!$C31=0,'Set UP'!$D31=0,'Set UP'!$E31=0,'Set UP'!F31=0),\"  --\",'Set UP'!C31)","v":517},{"$f":"IF(OR('Set UP'!$C31=0,'Set UP'!$D31=0,'Set UP'!$E31=0,'Set UP'!F31=0),\"  --\",'Set UP'!D31&\" \"&'Set UP'!E31)","v":"Loughborough University B"},{"$f":"IF(OR('Set UP'!$C31=0,'Set UP'!$D31=0,'Set UP'!$E31=0,'Set UP'!F31=0),\" --\",'Set UP'!F31)","v":"S"},2,1,78,121.78,"Disqualified",null,"Disqualified",{"$f":"IF('Set UP'!K31<>1,\"\",$L31)","v":""},{"$f":"IF('Set UP'!K31<>2,\"\",$L31)","v":"Disqualified"},"DQ","","","",25,"","","",12]
[null,26,{"$f":"IF(OR('Set UP'!$C32=0,'Set UP'!$D32=0,'Set UP'!$E32=0,'Set UP'!F32=0),\"  --\",'Set UP'!C32)","v":534},{"$f":"IF(OR('Set UP'!$C32=0,'Set UP'!$D32=0,'Set UP'!$E32=0,'Set UP'!F32=0),\"  --\",'Set UP'!D32&\" \"&'Set UP'!E32)","v":"University of Southampton B"},{"$f":"IF(OR('Set UP'!$C32=0,'Set UP'!$D32=0,'Set UP'!$E32=0,'Set UP'!F32=0),\" --\",'Set UP'!F32)","v":"S"},1,57,3,117.03,"Finished",null,117.03,{"$f":"IF('Set UP'!K32<>1,\"\",$L32)","v":""},{"$f":"IF('Set UP'!K32<>2,\"\",$L32)","v":117.03},1,57,3.0000000000001137,3,3,"","",1,1]
[null,27,{"$f":"IF(OR('Set UP'!$C33=0,'Set UP'!$D33=0,'Set UP'!$E33=0,'Set UP'!F33=0),\"  --\",'Set UP'!C33)","v":479},{"$f":"IF(OR('Set UP'!$C33=0,'Set UP'!$D33=0,'Set UP'!$E33=0,'Set UP'!F33=0),\"  --\",'Set UP'!D33&\" \"&'Set UP'!E33)","v":"Loughborough University A"},{"$f":"IF(OR('Set UP'!$C33=0,'Set UP'!$D33=0,'Set UP'!$E33=0,'Set UP'!F33=0),\" --\",'Set UP'!F33)","v":"S"},1,54,33,114.33,"Finished",null,114.33,{"$f":"IF('Set UP'!K33<>1,\"\",$L33)","v":114.33},{"$f":"IF('Set UP'!K33<>2,\"\",$L33)","v":""},1,54,32.999999999999829,2,2,2,2,"",""]
[null,28,{"$f":"IF(OR('Set UP'!$C34=0,'Set UP'!$D34=0,'Set UP'!$E34=0,'Set UP'!F34=0),\"  --\",'Set UP'!C34)","v":545},{"$f":"IF(OR('Set UP'!$C34=0,'Set UP'!$D34=0,'Set UP'!$E34=0,'Set UP'!F34=0),\"  --\",'Set UP'!D34&\" \"&'Set UP'!E34)","v":"Colwick Park A"},{"$f":"IF(OR('Set UP'!$C34=0,'Set UP'!$D34=0,'Set UP'!$E34=0,'Set UP'!F34=0),\" --\",'Set UP'!F34)","v":"NS"},2,11,60,131.6,"Finished",null,131.6,{"$f":"IF('Set UP'!K34<>1,\"\",$L34)","v":""},{"$f":"IF('Set UP'!K34<>2,\"\",$L34)","v":""},2,11,59.999999999999432,12,12,"","","",""]
[null,29,{"$f":"IF(OR('Set UP'!$C35=0,'Set UP'!$D35=0,'Set UP'!$E35=0,'Set UP'!F35=0),\"  --\",'Set UP'!C35)","v":533},{"$f":"IF(OR('Set UP'!$C35=0,'Set UP'!$D35=0,'Set UP'!$E35=0,'Set UP'!F35=0),\"  --\",'Set UP'!D35&\" \"&'Set UP'!E35)","v":"University of Southampton A"},{"$f":"IF(OR('Set UP'!$C35=0,'Set UP'!$D35=0,'Set UP'!$E35=0,'Set UP'!F35=0),\" --\",'Set UP'!F35)","v":"S"},1,54,32,114.32,"Finished",null,114.32,{"$f":"IF('Set UP'!K35<>1,\"\",$L35)","v":114.32},{"$f":"IF('Set UP'!K35<>2,\"\",$L35)","v":""},1,54,31.999999999999318,1,1,1,1,"",""]
[null,30,{"$f":"IF(OR('Set UP'!$C36=0,'Set UP'!$D36=0,'Set UP'!$E36=0,'Set UP'!F36=0),\"  --\",'Set UP'!C36)","v":523},{"$f":"IF(OR('Set UP'!$C36=0,'Set UP'!$D36=0,'Set UP'!$E36=0,'Set UP'!F36=0),\"  --\",'Set UP'!D36&\" \"&'Set UP'!E36)","v":"University of London Union A"},{"$f":"IF(OR('Set UP'!$C36=0,'Set UP'!$D36=0,'Set UP'!$E36=0,'Set UP'!F36=0),\" --\",'Set UP'!F36)","v":"S"},2,2,32,122.32,"Finished",null,122.32,{"$f":"IF('Set UP'!K36<>1,\"\",$L36)","v":122.32},{"$f":"IF('Set UP'!K36<>2,\"\",$L36)","v":""},2,2,31.999999999999318,5,5,3,3,"",""]
[null,31,{"$f":"IF(OR('Set UP'!$C37=0,'Set UP'!$D37=0,'Set UP'!$E37=0,'Set UP'!F37=0),\"  --\",'Set UP'!C37)","v":505},{"$f":"IF(OR('Set UP'!$C37=0,'Set UP'!$D37=0,'Set UP'!$E37=0,'Set UP'!F37=0),\"  --\",'Set UP'!D37&\" \"&'Set UP'!E37)","v":"University of Plymouth A"},{"$f":"IF(OR('Set UP'!$C37=0,'Set UP'!$D37=0,'Set UP'!$E37=0,'Set UP'!F37=0),\" --\",'Set UP'!F37)","v":"S"},2,4,87,124.87,"Finished",null,124.87,{"$f":"IF('Set UP'!K37<>1,\"\",$L37)","v":124.87},{"$f":"IF('Set UP'!K37<>2,\"\",$L37)","v":""},2,4,87.000000000000455,7,7,5,5,"",""]
[null,32,{"$f":"IF(OR('Set UP'!$C38=0,'Set UP'!$D38=0,'Set UP'!$E38=0,'Set UP'!F38=0),\"  --\",'Set UP'!C38)","v":510},{"$f":"IF(OR('Set UP'!$C38=0,'Set UP'!$D38=0,'Set UP'!$E38=0,'Set UP'!F38=0),\"  --\",'Set UP'!D38&\" \"&'Set UP'!E38)","v":"University of Warwick A"},{"$f":"IF(OR('Set UP'!$C38=0,'Set UP'!$D38=0,'Set UP'!$E38=0,'Set UP'!F38=0),\" --\",'Set UP'!F38)","v":"S"},2,11,56,131.56,"Finished",null,131.56,{"$f":"IF('Set UP'!K38<>1,\"\",$L38)","v":131.56},{"$f":"IF('Set UP'!K38<>2,\"\",$L38)","v":""},2,11,56.000000000000227,11,11,7,7,"",""]
[null,33,{"$f":"IF(OR('Set UP'!$C39=0,'Set UP'!$D39=0,'Set UP'!$E39=0,'Set UP'!F39=0),\"  --\",'Set UP'!C39)","v":"  --"},{"$f":"IF(OR('Set UP'!$C39=0,'Set UP'!$D39=0,'Set UP'!$E39=0,'Set UP'!F39=0),\"  --\",'Set UP'!D39&\" \"&'Set UP'!E39)","v":"  --"},{"$f":"IF(OR('Set UP'!$C39=0,'Set UP'!$D39=0,'Set UP'!$E39=0,'Set UP'!F39=0),\" --\",'Set UP'!F39)","v":" --"},null,null,null,"",null,null,"",{"$f":"IF('Set UP'!K39<>1,\"\",$L39)","v":""},{"$f":"IF('Set UP'!K39<>2,\"\",$L39)","v":""},"","","","","","","","",""]
[null,34,{"$f":"IF(OR('Set UP'!$C40=0,'Set UP'!$D40=0,'Set UP'!$E40=0,'Set UP'!F40=0),\"  --\",'Set UP'!C40)","v":"  --"},{"$f":"IF(OR('Set UP'!$C40=0,'Set UP'!$D40=0,'Set UP'!$E40=0,'Set UP'!F40=0),\"  --\",'Set UP'!D40&\" \"&'Set UP'!E40)","v":"  --"},{"$f":"IF(OR('Set UP'!$C40=0,'Set UP'!$D40=0,'Set UP'!$E40=0,'Set UP'!F40=0),\" --\",'Set UP'!F40)","v":" --"},null,null,null,"",null,null,"",{"$f":"IF('Set UP'!K40<>1,\"\",$L40)","v":""},{"$f":"IF('Set UP'!K40<>2,\"\",$L40)","v":""},"","","","","","","","",""]
[null,35,{"$f":"IF(OR('Set UP'!$C41=0,'Set UP'!$D41=0,'Set UP'!$E41=0,'Set UP'!F41=0),\"  --\",'Set UP'!C41)","v":"  --"},{"$f":"IF(OR('Set UP'!$C41=0,'Set UP'!$D41=0,'Set UP'!$E41=0,'Set UP'!F41=0),\"  --\",'Set UP'!D41&\" \"&'Set UP'!E41)","v":"  --"},{"$f":"IF(OR('Set UP'!$C41=0,'Set UP'!$D41=0,'Set UP'!$E41=0,'Set UP'!F41=0),\" --\",'Set UP'!F41)","v":" --"},null,null,null,"",null,null,"",{"$f":"IF('Set UP'!K41<>1,\"\",$L41)","v":""},{"$f":"IF('Set UP'!K41<>2,\"\",$L41)","v":""},"","","","","","","","",""]
[null,36,{"$f":"IF(OR('Set UP'!$C42=0,'Set UP'!$D42=0,'Set UP'!$E42=0,'Set UP'!F42=0),\"  --\",'Set UP'!C42)","v":"  --"},{"$f":"IF(OR('Set UP'!$C42=0,'Set UP'!$D42=0,'Set UP'!$E42=0,'Set UP'!F42=0),\"  --\",'Set UP'!D42&\" \"&'Set UP'!E42)","v":"  --"},{"$f":"IF(OR('Set UP'!$C42=0,'Set UP'!$D42=0,'Set UP'!$E42=0,'Set UP'!F42=0),\" --\",'Set UP'!F42)","v":" --"},null,null,null,"",null,null,"",{"$f":"IF('Set UP'!K42<>1,\"\",$L42)","v":""},{"$f":"IF('Set UP'!K42<>2,\"\",$L42)","v":""},"","","","","","","","",""]
[null,37,{"$f":"IF(OR('Set UP'!$C43=0,'Set UP'!$D43=0,'Set UP'!$E43=0,'Set UP'!F43=0),\"  --\",'Set UP'!C43)","v":"  --"},{"$f":"IF(OR('Set UP'!$C43=0,'Set UP'!$D43=0,'Set UP'!$E43=0,'Set UP'!F43=0),\"  --\",'Set UP'!D43&\" \"&'Set UP'!E43)","v":"  --"},{"$f":"IF(OR('Set UP'!$C43=0,'Set UP'!$D43=0,'Set UP'!$E43=0,'Set UP'!F43=0),\" --\",'Set UP'!F43)","v":" --"},null,null,null,"",null,null,"",{"$f":"IF('Set UP'!K43<>1,\"\",$L43)","v":""},{"$f":"IF('Set UP'!K43<>2,\"\",$L43)","v":""},"","","","","","","","",""]
[null,38,{"$f":"IF(OR('Set UP'!$C44=0,'Set UP'!$D44=0,'Set UP'!$E44=0,'Set UP'!F44=0),\"  --\",'Set UP'!C44)","v":"  --"},{"$f":"IF(OR('Set UP'!$C44=0,'Set UP'!$D44=0,'Set UP'!$E44=0,'Set UP'!F44=0),\"  --\",'Set UP'!D44&\" \"&'Set UP'!E44)","v":"  --"},{"$f":"IF(OR('Set UP'!$C44=0,'Set UP'!$D44=0,'Set UP'!$E44=0,'Set UP'!F44=0),\" --\",'Set UP'!F44)","v":" --"},null,null,null,"",null,null,"",{"$f":"IF('Set UP'!K44<>1,\"\",$L44)","v":""},{"$f":"IF('Set UP'!K44<>2,\"\",$L44)","v":""},"","","","","","","","",""]
[null,39,{"$f":"IF(OR('Set UP'!$C45=0,'Set UP'!$D45=0,'Set UP'!$E45=0,'Set UP'!F45=0),\"  --\",'Set UP'!C45)","v":"  --"},{"$f":"IF(OR('Set UP'!$C45=0,'Set UP'!$D45=0,'Set UP'!$E45=0,'Set UP'!F45=0),\"  --\",'Set UP'!D45&\" \"&'Set UP'!E45)","v":"  --"},{"$f":"IF(OR('Set UP'!$C45=0,'Set UP'!$D45=0,'Set UP'!$E45=0,'Set UP'!F45=0),\" --\",'Set UP'!F45)","v":" --"},null,null,null,"",null,null,"",{"$f":"IF('Set UP'!K45=1,\"\",$L45)","v":""},{"$f":"IF('Set UP'!K45<>2,\"\",$L45)","v":""},"","","","","","","","",""]
[null,40,{"$f":"IF(OR('Set UP'!$C46=0,'Set UP'!$D46=0,'Set UP'!$E46=0,'Set UP'!F46=0),\"  --\",'Set UP'!C46)","v":"  --"},{"$f":"IF(OR('Set UP'!$C46=0,'Set UP'!$D46=0,'Set UP'!$E46=0,'Set UP'!F46=0),\"  --\",'Set UP'!D46&\" \"&'Set UP'!E46)","v":"  --"},{"$f":"IF(OR('Set UP'!$C46=0,'Set UP'!$D46=0,'Set UP'!$E46=0,'Set UP'!F46=0),\" --\",'Set UP'!F46)","v":" --"},null,null,null,"",null,null,"",{"$f":"IF('Set UP'!K46=1,\"\",$L46)","v":""},{"$f":"IF('Set UP'!K46<>2,\"\",$L46)","v":""},"","","","","","","","",""]
[]
[]
[]
[]
[]
[]
[]
[]
[]
[]
[]
[]
[]
[]
[null,null,null,null,null,null,null,null,null,"Finished"]
[null,null,null,null,null,null,null,null,null,"Disqualified"]

{"sheet":"Manikin Carry","index":9,"n_rows":62,"n_cols":23,"rows_kept":62,"cut":false,"hidden":false,"merged":[[4,10,5,10],[4,11,5,11],[4,8,5,8],[4,1,5,1],[4,2,5,2],[4,3,5,3],[4,4,5,4],[4,5,4,7],[4,9,5,9],[4,12,5,12],[4,22,5,22],[4,18,5,18],[4,19,5,19],[4,20,5,20],[4,17,5,17],[4,21,5,21],[4,14,4,16],[4,13,5,13]]}
[]
[null,null,null,null,null,null,null,null,null,null,"Penalty Time (seconds)"]
[null,null,null,{"$f":"'Set UP'!Q11","v":"Manikin Carry"},null,null,null,null,null,null,15]
[]
[null,null,"Web","Team","Class","Stopwatch Time",null,null,null,"Finish Status","No. \nPenalties","Total\n(Competition)","Total\n(A)","Total\n(B)","Total Time",null,null,"Competition Position\nExcluding DQ's","Position\n(Competition)","A League Position\nExcluding DQ's","Position\n(A League)","B League Position\nExcluding DQ's","Position\n(B League)"]
[null,null,null,null,null,"mins","secs","1/100\nsec",null,null,null,null,null,null,"mins","secs","1/100 sec"]
[null,1,{"$f":"IF(OR('Set UP'!$C7=0,'Set UP'!$D7=0,'Set UP'!$E7=0,'Set UP'!F7=0),\"  --\",'Set UP'!C7)","v":537},{"$f":"IF(OR('Set UP'!$C7=0,'Set UP'!$D7=0,'Set UP'!$E7=0,'Set UP'!F7=0),\"  --\",'Set UP'!D7&\" \"&'Set UP'!E7)","v":"Heanor A"},{"$f":"IF(OR('Set UP'!$C7=0,'Set UP'!$D7=0,'Set UP'!$E7=0,'Set UP'!F7=0,),\" --\",'Set UP'!F7)","v":"NS"},null,null,null,{"$f":"IF(AND(ISBLANK(F7),ISBLANK(G7),ISBLANK(H7)),\"\",(F7*60)+G7+(H7/100))","v":""},null,null,{"$f":"IF(D7=\"  --\",\"\",IF(J7=\"Disqualified\",J7,IF(J7=\"Finished\",IF(OR(G7=\"\",H7=\"\"),\"\",I7+(K7*$K$3)),\"\")))","v":""},{"$f":"IF('Set UP'!K7<>1,\"\",$L7)","v":""},{"$f":"IF('Set UP'!K7<>2,\"\",$L7)","v":""},{"$f":"IF(D7=\"  --\",\"\",IF(L7=\"Disqualified\",\"DQ\",IF(L7=\"\",\"\",INT(L7/60))))","v":""},{"$f":"IF(D7=\"  --\",\"\", IF(L7=\"Disqualified\",\"\",IF(L7=\"\",\"\",INT(L7-(O7*60)))))","v":""},{"$f":"IF(D7=\"  --\",\"\", IF(L7=\"Disqualified\",\"\",IF(L7=\"\",\"\",100*(L7-((O7*60)+P7)))))","v":""},{"$f":"IF(OR(L7=\"Disqualified\",L7=\"\"),\"\",RANK(L7,$L$7:$L$46,1))","v":""},{"$f":"IF(L7=\"Disqualified\",MAX($R$7:$R$46)+1,R7)","v":""},{"$f":"IF(OR($M7=\"Disqualified\",$M7=\"\"),\"\",RANK($M7,$M$7:$M$46,1))","v":""},{"$f":"IF($M7=\"Disqualified\",MAX($T$7:$T$46)+1,T7)","v":""},{"$f":"IF(OR($N7=\"Disqualified\",$N7=\"\"),\"\",RANK($N7,$N$7:$N$46,1))","v":""},{"$f":"IF($N7=\"Disqualified\",MAX($V$7:$V$46)+1,V7)","v":""}]
[null,2,{"$f":"IF(OR('Set UP'!$C8=0,'Set UP'!$D8=0,'Set UP'!$E8=0,'Set UP'!F8=0),\"  --\",'Set UP'!C8)","v":483},{"$f":"IF(OR('Set UP'!$C8=0,'Set UP'!$D8=0,'Set UP'!$E8=0,'Set UP'!F8=0),\"  --\",'Set UP'!D8&\" \"&'Set UP'!E8)","v":"University of Cambridge C"},{"$f":"IF(OR('Set UP'!$C8=0,'Set UP'!$D8=0,'Set UP'!$E8=0,'Set UP'!F8=0,),\" --\",'Set UP'!F8)","v":"S"},null,null,null,"",null,null,{"$f":"IF(D8=\"  --\",\"\",IF(J8=\"Disqualified\",J8,IF(J8=\"Finished\",IF(OR(G8=\"\",H8=\"\"),\"\",I8+(K8*$K$3)),\"\")))","v":""},{"$f":"IF('Set UP'!K8<>1,\"\",$L8)","v":""},{"$f":"IF('Set UP'!K8<>2,\"\",$L8)","v":""},"","","","","","","",{"$f":"IF(OR($N8=\"Disqualified\",$N8=\"\"),\"\",RANK($N8,$N$7:$N$46,1))","v":""},{"$f":"IF($N8=\"Disqualified\",MAX($V$7:$V$46)+1,V8)","v":""}]
[null,3,{"$f":"IF(OR('Set UP'!$C9=0,'Set UP'!$D9=0,'Set UP'!$E9=0,'Set UP'!F9=0),\"  --\",'Set UP'!C9)","v":474},{"$f":"IF(OR('Set UP'!$C9=0,'Set UP'!$D9=0,'Set UP'!$E9=0,'Set UP'!F9=0),\"  --\",'Set UP'!D9&\" \"&'Set UP'!E9)","v":"University of Cambridge B"},{"$f":"IF(OR('Set UP'!$C9=0,'Set UP'!$D9=0,'Set UP'!$E9=0,'Set UP'!F9=0,),\" --\",'Set UP'!F9)","v":"S"},null,null,null,"",null,null,"",{"$f":"IF('Set UP'!K9<>1,\"\",$L9)","v":""},{"$f":"IF('Set UP'!K9<>2,\"\",$L9)","v":""},"","","","","","","","",""]
[null,4,{"$f":"IF(OR('Set UP'!$C10=0,'Set UP'!$D10=0,'Set UP'!$E10=0,'Set UP'!F10=0),\"  --\",'Set UP'!C10)","v":513},{"$f":"IF(OR('Set UP'!$C10=0,'Set UP'!$D10=0,'Set UP'!$E10=0,'Set UP'!F10=0),\"  --\",'Set UP'!D10&\" \"&'Set UP'!E10)","v":"University of Warwick D"},{"$f":"IF(OR('Set UP'!$C10=0,'Set UP'!$D10=0,'Set UP'!$E10=0,'Set UP'!F10=0,),\" --\",'Set UP'!F10)","v":"S"},null,null,null,"",null,null,"",{"$f":"IF('Set UP'!K10<>1,\"\",$L10)","v":""},{"$f":"IF('Set UP'!K10<>2,\"\",$L10)","v":""},"","","","","","","","",""]
[null,5,{"$f":"IF(OR('Set UP'!$C11=0,'Set UP'!$D11=0,'Set UP'!$E11=0,'Set UP'!F11=0),\"  --\",'Set UP'!C11)","v":499},{"$f":"IF(OR('Set UP'!$C11=0,'Set UP'!$D11=0,'Set UP'!$E11=0,'Set UP'!F11=0),\"  --\",'Set UP'!D11&\" \"&'Set UP'!E11)","v":"University of St Andrews B"},{"$f":"IF(OR('Set UP'!$C11=0,'Set UP'!$D11=0,'Set UP'!$E11=0,'Set UP'!F11=0,),\" --\",'Set UP'!F11)","v":"NC"},null,null,null,"",null,null,"",{"$f":"IF('Set UP'!K11<>1,\"\",$L11)","v":""},{"$f":"IF('Set UP'!K11<>2,\"\",$L11)","v":""},"","","","","","","","",""]
[null,6,{"$f":"IF(OR('Set UP'!$C12=0,'Set UP'!$D12=0,'Set UP'!$E12=0,'Set UP'!F12=0),\"  --\",'Set UP'!C12)","v":507},{"$f":"IF(OR('Set UP'!$C12=0,'Set UP'!$D12=0,'Set UP'!$E12=0,'Set UP'!F12=0),\"  --\",'Set UP'!D12&\" \"&'Set UP'!E12)","v":"University of Plymouth C"},{"$f":"IF(OR('Set UP'!$C12=0,'Set UP'!$D12=0,'Set UP'!$E12=0,'Set UP'!F12=0,),\" --\",'Set UP'!F12)","v":"S"},null,null,null,"",null,null,"",{"$f":"IF('Set UP'!K12<>1,\"\",$L12)","v":""},{"$f":"IF('Set UP'!K12<>2,\"\",$L12)","v":""},"","","","","","","","",""]
[null,7,{"$f":"IF(OR('Set UP'!$C13=0,'Set UP'!$D13=0,'Set UP'!$E13=0,'Set UP'!F13=0),\"  --\",'Set UP'!C13)","v":519},{"$f":"IF(OR('Set UP'!$C13=0,'Set UP'!$D13=0,'Set UP'!$E13=0,'Set UP'!F13=0),\"  --\",'Set UP'!D13&\" \"&'Set UP'!E13)","v":"University of Aberdeen B"},{"$f":"IF(OR('Set UP'!$C13=0,'Set UP'!$D13=0,'Set UP'!$E13=0,'Set UP'!F13=0,),\" --\",'Set UP'!F13)","v":"NC"},null,null,null,"",null,null,"",{"$f":"IF('Set UP'!K13<>1,\"\",$L13)","v":""},{"$f":"IF('Set UP'!K13<>2,\"\",$L13)","v":""},"","","","","","","","",""]
[null,8,{"$f":"IF(OR('Set UP'!$C14=0,'Set UP'!$D14=0,'Set UP'!$E14=0,'Set UP'!F14=0),\"  --\",'Set UP'!C14)","v":532},{"$f":"IF(OR('Set UP'!$C14=0,'Set UP'!$D14=0,'Set UP'!$E14=0,'Set UP'!F14=0),\"  --\",'Set UP'!D14&\" \"&'Set UP'!E14)","v":"University of London Union E"},{"$f":"IF(OR('Set UP'!$C14=0,'Set UP'!$D14=0,'Set UP'!$E14=0,'Set UP'!F14=0,),\" --\",'Set UP'!F14)","v":"S"},null,null,null,"",null,null,"",{"$f":"IF('Set UP'!K14<>1,\"\",$L14)","v":""},{"$f":"IF('Set UP'!K14<>2,\"\",$L14)","v":""},"","","","","","","","",""]
[null,9,{"$f":"IF(OR('Set UP'!$C15=0,'Set UP'!$D15=0,'Set UP'!$E15=0,'Set UP'!F15=0),\"  --\",'Set UP'!C15)","v":530},{"$f":"IF(OR('Set UP'!$C15=0,'Set UP'!$D15=0,'Set UP'!$E15=0,'Set UP'!F15=0),\"  --\",'Set UP'!D15&\" \"&'Set UP'!E15)","v":"University of London Union C"},{"$f":"IF(OR('Set UP'!$C15=0,'Set UP'!$D15=0,'Set UP'!$E15=0,'Set UP'!F15=0,),\" --\",'Set UP'!F15)","v":"S"},null,null,null,"",null,null,"",{"$f":"IF('Set UP'!K15<>1,\"\",$L15)","v":""},{"$f":"IF('Set UP'!K15<>2,\"\",$L15)","v":""},"","","","","","","","",""]
[null,10,{"$f":"IF(OR('Set UP'!$C16=0,'Set UP'!$D16=0,'Set UP'!$E16=0,'Set UP'!F16=0),\"  --\",'Set UP'!C16)","v":506},{"$f":"IF(OR('Set UP'!$C16=0,'Set UP'!$D16=0,'Set UP'!$E16=0,'Set UP'!F16=0),\"  --\",'Set UP'!D16&\" \"&'Set UP'!E16)","v":"University of Plymouth B"},{"$f":"IF(OR('Set UP'!$C16=0,'Set UP'!$D16=0,'Set UP'!$E16=0,'Set UP'!F16=0,),\" --\",'Set UP'!F16)","v":"S"},null,null,null,"",null,null,"",{"$f":"IF('Set UP'!K16<>1,\"\",$L16)","v":""},{"$f":"IF('Set UP'!K16<>2,\"\",$L16)","v":""},"","","","","","","","",""]
[null,11,{"$f":"IF(OR('Set UP'!$C17=0,'Set UP'!$D17=0,'Set UP'!$E17=0,'Set UP'!F17=0),\"  --\",'Set UP'!C17)","v":518},{"$f":"IF(OR('Set UP'!$C17=0,'Set UP'!$D17=0,'Set UP'!$E17=0,'Set UP'!F17=0),\"  --\",'Set UP'!D17&\" \"&'Set UP'!E17)","v":"University of Aberdeen A"},{"$f":"IF(OR('Set UP'!$C17=0,'Set UP'!$D17=0,'Set UP'!$E17=0,'Set UP'!F17=0,),\" --\",'Set UP'!F17)","v":"S"},null,null,null,"",null,null,"",{"$f":"IF('Set UP'!K17<>1,\"\",$L17)","v":""},{"$f":"IF('Set UP'!K17<>2,\"\",$L17)","v":""},"","","","","","","","",""]
[null,12,{"$f":"IF(OR('Set UP'!$C18=0,'Set UP'!$D18=0,'Set UP'!$E18=0,'Set UP'!F18=0),\"  --\",'Set UP'!C18)","v":538},{"$f":"IF(OR('Set UP'!$C18=0,'Set UP'!$D18=0,'Set UP'!$E18=0,'Set UP'!F18=0),\"  --\",'Set UP'!D18&\" \"&'Set UP'!E18)","v":"University of Southampton C"},{"$f":"IF(OR('Set UP'!$C18=0,'Set UP'!$D18=0,'Set UP'!$E18=0,'Set UP'!F18=0,),\" --\",'Set UP'!F18)","v":"S"},null,null,null,"",null,null,"",{"$f":"IF('Set UP'!K18<>1,\"\",$L18)","v":""},{"$f":"IF('Set UP'!K18<>2,\"\",$L18)","v":""},"","","","","","","","",""]
[null,13,{"$f":"IF(OR('Set UP'!$C19=0,'Set UP'!$D19=0,'Set UP'!$E19=0,'Set UP'!F19=0),\"  --\",'Set UP'!C19)","v":515},{"$f":"IF(OR('Set UP'!$C19=0,'Set UP'!$D19=0,'Set UP'!$E19=0,'Set UP'!F19=0),\"  --\",'Set UP'!D19&\" \"&'Set UP'!E19)","v":"Loughborough University C"},{"$f":"IF(OR('Set UP'!$C19=0,'Set UP'!$D19=0,'Set UP'!$E19=0,'Set UP'!F19=0,),\" --\",'Set UP'!F19)","v":"S"},null,null,null,"",null,null,"",{"$f":"IF('Set UP'!K19<>1,\"\",$L19)","v":""},{"$f":"IF('Set UP'!K19<>2,\"\",$L19)","v":""},"","","","","","","","",""]
[null,14,{"$f":"IF(OR('Set UP'!$C20=0,'Set UP'!$D20=0,'Set UP'!$E20=0,'Set UP'!F20=0),\"  --\",'Set UP'!C20)","v":520},{"$f":"IF(OR('Set UP'!$C20=0,'Set UP'!$D20=0,'Set UP'!$E20=0,'Set UP'!F20=0),\"  --\",'Set UP'!D20&\" \"&'Set UP'!E20)","v":"Loughborough University D"},{"$f":"IF(OR('Set UP'!$C20=0,'Set UP'!$D20=0,'Set UP'!$E20=0,'Set UP'!F20=0,),\" --\",'Set UP'!F20)","v":"NS"},null,null,null,"",null,null,"",{"$f":"IF('Set UP'!K20<>1,\"\",$L20)","v":""},{"$f":"IF('Set UP'!K20<>2,\"\",$L20)","v":""},"","","","","","","","",""]
[null,15,{"$f":"IF(OR('Set UP'!$C21=0,'Set UP'!$D21=0,'Set UP'!$E21=0,'Set UP'!F21=0),\"  --\",'Set UP'!C21)","v":512},{"$f":"IF(OR('Set UP'!$C21=0,'Set UP'!$D21=0,'Set UP'!$E21=0,'Set UP'!F21=0),\"  --\",'Set UP'!D21&\" \"&'Set UP'!E21)","v":"University of Warwick C"},{"$f":"IF(OR('Set UP'!$C21=0,'Set UP'!$D21=0,'Set UP'!$E21=0,'Set UP'!F21=0,),\" --\",'Set UP'!F21)","v":"NC"},null,null,null,"",null,null,"",{"$f":"IF('Set UP'!K21<>1,\"\",$L21)","v":""},{"$f":"IF('Set UP'!K21<>2,\"\",$L21)","v":""},"","","","","","","","",""]
[null,16,{"$f":"IF(OR('Set UP'!$C22=0,'Set UP'!$D22=0,'Set UP'!$E22=0,'Set UP'!F22=0),\"  --\",'Set UP'!C22)","v":531},{"$f":"IF(OR('Set UP'!$C22=0,'Set UP'!$D22=0,'Set UP'!$E22=0,'Set UP'!F22=0),\"  --\",'Set UP'!D22&\" \"&'Set UP'!E22)","v":"University of London Union D"},{"$f":"IF(OR('Set UP'!$C22=0,'Set UP'!$D22=0,'Set UP'!$E22=0,'Set UP'!F22=0,),\" --\",'Set UP'!F22)","v":"NC"},null,null,null,"",null,null,"",{"$f":"IF('Set UP'!K22<>1,\"\",$L22)","v":""},{"$f":"IF('Set UP'!K22<>2,\"\",$L22)","v":""},"","","","","","","","",""]
[null,17,{"$f":"IF(OR('Set UP'!$C23=0,'Set UP'!$D23=0,'Set UP'!$E23=0,'Set UP'!F23=0),\"  --\",'Set UP'!C23)","v":471},{"$f":"IF(OR('Set UP'!$C23=0,'Set UP'!$D23=0,'Set UP'!$E23=0,'Set UP'!F23=0),\"  --\",'Set UP'!D23&\" \"&'Set UP'!E23)","v":"University of Cambridge A"},{"$f":"IF(OR('Set UP'!$C23=0,'Set UP'!$D23=0,'Set UP'!$E23=0,'Set UP'!F23=0,),\" --\",'Set UP'!F23)","v":"S"},null,null,null,"",null,null,"",{"$f":"IF('Set UP'!K23<>1,\"\",$L23)","v":""},{"$f":"IF('Set UP'!K23<>2,\"\",$L23)","v":""},"","","","","","","","",""]
[null,18,{"$f":"IF(OR('Set UP'!$C24=0,'Set UP'!$D24=0,'Set UP'!$E24=0,'Set UP'!F24=0),\"  --\",'Set UP'!C24)","v":522},{"$f":"IF(OR('Set UP'!$C24=0,'Set UP'!$D24=0,'Set UP'!$E24=0,'Set UP'!F24=0),\"  --\",'Set UP'!D24&\" \"&'Set UP'!E24)","v":"University of Birmingham B"},{"$f":"IF(OR('Set UP'!$C24=0,'Set UP'!$D24=0,'Set UP'!$E24=0,'Set UP'!F24=0,),\" --\",'Set UP'!F24)","v":"S"},null,null,null,"",null,null,"",{"$f":"IF('Set UP'!K24<>1,\"\",$L24)","v":""},{"$f":"IF('Set UP'!K24<>2,\"\",$L24)","v":""},"","","","","","","","",""]
[null,19,{"$f":"IF(OR('Set UP'!$C25=0,'Set UP'!$D25=0,'Set UP'!$E25=0,'Set UP'!F25=0),\"  --\",'Set UP'!C25)","v":498},{"$f":"IF(OR('Set UP'!$C25=0,'Set UP'!$D25=0,'Set UP'!$E25=0,'Set UP'!F25=0),\"  --\",'Set UP'!D25&\" \"&'Set UP'!E25)","v":"University of St Andrews A"},{"$f":"IF(OR('Set UP'!$C25=0,'Set UP'!$D25=0,'Set UP'!$E25=0,'Set UP'!F25=0,),\" --\",'Set UP'!F25)","v":"S"},null,null,null,"",null,null,"",{"$f":"IF('Set UP'!K25<>1,\"\",$L25)","v":""},{"$f":"IF('Set UP'!K25<>2,\"\",$L25)","v":""},"","","","","","","","",""]
[null,20,{"$f":"IF(OR('Set UP'!$C26=0,'Set UP'!$D26=0,'Set UP'!$E26=0,'Set UP'!F26=0),\"  --\",'Set UP'!C26)","v":535},{"$f":"IF(OR('Set UP'!$C26=0,'Set UP'!$D26=0,'Set UP'!$E26=0,'Set UP'!F26=0),\"  --\",'Set UP'!D26&\" \"&'Set UP'!E26)","v":"University of Birmingham A"},{"$f":"IF(OR('Set UP'!$C26=0,'Set UP'!$D26=0,'Set UP'!$E26=0,'Set UP'!F26=0,),\" --\",'Set UP'!F26)","v":"S"},null,null,null,"",null,null,"",{"$f":"IF('Set UP'!K26<>1,\"\",$L26)","v":""},{"$f":"IF('Set UP'!K26<>2,\"\",$L26)","v":""},"","","","","","","","",""]
[null,21,{"$f":"IF(OR('Set UP'!$C27=0,'Set UP'!$D27=0,'Set UP'!$E27=0,'Set UP'!F27=0),\"  --\",'Set UP'!C27)","v":508},{"$f":"IF(OR('Set UP'!$C27=0,'Set UP'!$D27=0,'Set UP'!$E27=0,'Set UP'!F27=0),\"  --\",'Set UP'!D27&\" \"&'Set UP'!E27)","v":"University of Nottingham A"},{"$f":"IF(OR('Set UP'!$C27=0,'Set UP'!$D27=0,'Set UP'!$E27=0,'Set UP'!F27=0,),\" --\",'Set UP'!F27)","v":"S"},null,null,null,"",null,null,"",{"$f":"IF('Set UP'!K27<>1,\"\",$L27)","v":""},{"$f":"IF('Set UP'!K27<>2,\"\",$L27)","v":""},"","","","","","","","",""]
[null,22,{"$f":"IF(OR('Set UP'!$C28=0,'Set UP'!$D28=0,'Set UP'!$E28=0,'Set UP'!F28=0),\"  --\",'Set UP'!C28)","v":528},{"$f":"IF(OR('Set UP'!$C28=0,'Set UP'!$D28=0,'Set UP'!$E28=0,'Set UP'!F28=0),\"  --\",'Set UP'!D28&\" \"&'Set UP'!E28)","v":"University of London Union B"},{"$f":"IF(OR('Set UP'!$C28=0,'Set UP'!$D28=0,'Set UP'!$E28=0,'Set UP'!F28=0,),\" --\",'Set UP'!F28)","v":"S"},null,null,null,"",null,null,"",{"$f":"IF('Set UP'!K28<>1,\"\",$L28)","v":""},{"$f":"IF('Set UP'!K28<>2,\"\",$L28)","v":""},"","","","","","","","",""]
[null,23,{"$f":"IF(OR('Set UP'!$C29=0,'Set UP'!$D29=0,'Set UP'!$E29=0,'Set UP'!F29=0),\"  --\",'Set UP'!C29)","v":511},{"$f":"IF(OR('Set UP'!$C29=0,'Set UP'!$D29=0,'Set UP'!$E29=0,'Set UP'!F29=0),\"  --\",'Set UP'!D29&\" \"&'Set UP'!E29)","v":"University of Warwick B"},{"$f":"IF(OR('Set UP'!$C29=0,'Set UP'!$D29=0,'Set UP'!$E29=0,'Set UP'!F29=0,),\" --\",'Set UP'!F29)","v":"S"},null,null,null,"",null,null,"",{"$f":"IF('Set UP'!K29<>1,\"\",$L29)","v":""},{"$f":"IF('Set UP'!K29<>2,\"\",$L29)","v":""},"","","","","","","","",""]
[null,24,{"$f":"IF(OR('Set UP'!$C30=0,'Set UP'!$D30=0,'Set UP'!$E30=0,'Set UP'!F30=0),\"  --\",'Set UP'!C30)","v":509},{"$f":"IF(OR('Set UP'!$C30=0,'Set UP'!$D30=0,'Set UP'!$E30=0,'Set UP'!F30=0),\"  --\",'Set UP'!D30&\" \"&'Set UP'!E30)","v":"University of Nottingham B"},{"$f":"IF(OR('Set UP'!$C30=0,'Set UP'!$D30=0,'Set UP'!$E30=0,'Set UP'!F30=0,),\" --\",'Set UP'!F30)","v":"S"},null,null,null,"",null,null,"",{"$f":"IF('Set UP'!K30<>1,\"\",$L30)","v":""},{"$f":"IF('Set UP'!K30<>2,\"\",$L30)","v":""},"","","","","","","","",""]
[null,25,{"$f":"IF(OR('Set UP'!$C31=0,'Set UP'!$D31=0,'Set UP'!$E31=0,'Set UP'!F31=0),\"  --\",'Set UP'!C31)","v":517},{"$f":"IF(OR('Set UP'!$C31=0,'Set UP'!$D31=0,'Set UP'!$E31=0,'Set UP'!F31=0),\"  --\",'Set UP'!D31&\" \"&'Set UP'!E31)","v":"Loughborough University B"},{"$f":"IF(OR('Set UP'!$C31=0,'Set UP'!$D31=0,'Set UP'!$E31=0,'Set UP'!F31=0,),\" --\",'Set UP'!F31)","v":"S"},null,null,null,"",null,null,"",{"$f":"IF('Set UP'!K31<>1,\"\",$L31)","v":""},{"$f":"IF('Set UP'!K31<>2,\"\",$L31)","v":""},"","","","","","","","",""]
[null,26,{"$f":"IF(OR('Set UP'!$C32=0,'Set UP'!$D32=0,'Set UP'!$E32=0,'Set UP'!F32=0),\"  --\",'Set UP'!C32)","v":534},{"$f":"IF(OR('Set UP'!$C32=0,'Set UP'!$D32=0,'Set UP'!$E32=0,'Set UP'!F32=0),\"  --\",'Set UP'!D32&\" \"&'Set UP'!E32)","v":"University of Southampton B"},{"$f":"IF(OR('Set UP'!$C32=0,'Set UP'!$D32=0,'Set UP'!$E32=0,'Set UP'!F32=0,),\" --\",'Set UP'!F32)","v":"S"},null,null,null,"",null,null,"",{"$f":"IF('Set UP'!K32<>1,\"\",$L32)","v":""},{"$f":"IF('Set UP'!K32<>2,\"\",$L32)","v":""},"","","","","","","","",""]
[null,27,{"$f":"IF(OR('Set UP'!$C33=0,'Set UP'!$D33=0,'Set UP'!$E33=0,'Set UP'!F33=0),\"  --\",'Set UP'!C33)","v":479},{"$f":"IF(OR('Set UP'!$C33=0,'Set UP'!$D33=0,'Set UP'!$E33=0,'Set UP'!F33=0),\"  --\",'Set UP'!D33&\" \"&'Set UP'!E33)","v":"Loughborough University A"},{"$f":"IF(OR('Set UP'!$C33=0,'Set UP'!$D33=0,'Set UP'!$E33=0,'Set UP'!F33=0,),\" --\",'Set UP'!F33)","v":"S"},null,null,null,"",null,null,"",{"$f":"IF('Set UP'!K33<>1,\"\",$L33)","v":""},{"$f":"IF('Set UP'!K33<>2,\"\",$L33)","v":""},"","","","","","","","",""]
[null,28,{"$f":"IF(OR('Set UP'!$C34=0,'Set UP'!$D34=0,'Set UP'!$E34=0,'Set UP'!F34=0),\"  --\",'Set UP'!C34)","v":545},{"$f":"IF(OR('Set UP'!$C34=0,'Set UP'!$D34=0,'Set UP'!$E34=0,'Set UP'!F34=0),\"  --\",'Set UP'!D34&\" \"&'Set UP'!E34)","v":"Colwick Park A"},{"$f":"IF(OR('Set UP'!$C34=0,'Set UP'!$D34=0,'Set UP'!$E34=0,'Set UP'!F34=0,),\" --\",'Set UP'!F34)","v":"NS"},null,null,null,"",null,null,"",{"$f":"IF('Set UP'!K34<>1,\"\",$L34)","v":""},{"$f":"IF('Set UP'!K34<>2,\"\",$L34)","v":""},"","","","","","","","",""]
[null,29,{"$f":"IF(OR('Set UP'!$C35=0,'Set UP'!$D35=0,'Set UP'!$E35=0,'Set UP'!F35=0),\"  --\",'Set UP'!C35)","v":533},{"$f":"IF(OR('Set UP'!$C35=0,'Set UP'!$D35=0,'Set UP'!$E35=0,'Set UP'!F35=0),\"  --\",'Set UP'!D35&\" \"&'Set UP'!E35)","v":"University of Southampton A"},{"$f":"IF(OR('Set UP'!$C35=0,'Set UP'!$D35=0,'Set UP'!$E35=0,'Set UP'!F35=0,),\" --\",'Set UP'!F35)","v":"S"},null,null,null,"",null,null,"",{"$f":"IF('Set UP'!K35<>1,\"\",$L35)","v":""},{"$f":"IF('Set UP'!K35<>2,\"\",$L35)","v":""},"","","","","","","","",""]
[null,30,{"$f":"IF(OR('Set UP'!$C36=0,'Set UP'!$D36=0,'Set UP'!$E36=0,'Set UP'!F36=0),\"  --\",'Set UP'!C36)","v":523},{"$f":"IF(OR('Set UP'!$C36=0,'Set UP'!$D36=0,'Set UP'!$E36=0,'Set UP'!F36=0),\"  --\",'Set UP'!D36&\" \"&'Set UP'!E36)","v":"University of London Union A"},{"$f":"IF(OR('Set UP'!$C36=0,'Set UP'!$D36=0,'Set UP'!$E36=0,'Set UP'!F36=0,),\" --\",'Set UP'!F36)","v":"S"},null,null,null,"",null,null,"",{"$f":"IF('Set UP'!K36<>1,\"\",$L36)","v":""},{"$f":"IF('Set UP'!K36<>2,\"\",$L36)","v":""},"","","","","","","","",""]
[null,31,{"$f":"IF(OR('Set UP'!$C37=0,'Set UP'!$D37=0,'Set UP'!$E37=0,'Set UP'!F37=0),\"  --\",'Set UP'!C37)","v":505},{"$f":"IF(OR('Set UP'!$C37=0,'Set UP'!$D37=0,'Set UP'!$E37=0,'Set UP'!F37=0),\"  --\",'Set UP'!D37&\" \"&'Set UP'!E37)","v":"University of Plymouth A"},{"$f":"IF(OR('Set UP'!$C37=0,'Set UP'!$D37=0,'Set UP'!$E37=0,'Set UP'!F37=0,),\" --\",'Set UP'!F37)","v":"S"},null,null,null,"",null,null,"",{"$f":"IF('Set UP'!K37<>1,\"\",$L37)","v":""},{"$f":"IF('Set UP'!K37<>2,\"\",$L37)","v":""},"","","","","","","","",""]
[null,32,{"$f":"IF(OR('Set UP'!$C38=0,'Set UP'!$D38=0,'Set UP'!$E38=0,'Set UP'!F38=0),\"  --\",'Set UP'!C38)","v":510},{"$f":"IF(OR('Set UP'!$C38=0,'Set UP'!$D38=0,'Set UP'!$E38=0,'Set UP'!F38=0),\"  --\",'Set UP'!D38&\" \"&'Set UP'!E38)","v":"University of Warwick A"},{"$f":"IF(OR('Set UP'!$C38=0,'Set UP'!$D38=0,'Set UP'!$E38=0,'Set UP'!F38=0,),\" --\",'Set UP'!F38)","v":"S"},null,null,null,"",null,null,"",{"$f":"IF('Set UP'!K38<>1,\"\",$L38)","v":""},{"$f":"IF('Set UP'!K38<>2,\"\",$L38)","v":""},"","","","","","","","",""]
[null,33,{"$f":"IF(OR('Set UP'!$C39=0,'Set UP'!$D39=0,'Set UP'!$E39=0,'Set UP'!F39=0),\"  --\",'Set UP'!C39)","v":"  --"},{"$f":"IF(OR('Set UP'!$C39=0,'Set UP'!$D39=0,'Set UP'!$E39=0,'Set UP'!F39=0),\"  --\",'Set UP'!D39&\" \"&'Set UP'!E39)","v":"  --"},{"$f":"IF(OR('Set UP'!$C39=0,'Set UP'!$D39=0,'Set UP'!$E39=0,'Set UP'!F39=0,),\" --\",'Set UP'!F39)","v":" --"},null,null,null,"",null,null,"",{"$f":"IF('Set UP'!K39<>1,\"\",$L39)","v":""},{"$f":"IF('Set UP'!K39<>2,\"\",$L39)","v":""},"","","","","","","","",""]
[null,34,{"$f":"IF(OR('Set UP'!$C40=0,'Set UP'!$D40=0,'Set UP'!$E40=0,'Set UP'!F40=0),\"  --\",'Set UP'!C40)","v":"  --"},{"$f":"IF(OR('Set UP'!$C40=0,'Set UP'!$D40=0,'Set UP'!$E40=0,'Set UP'!F40=0),\"  --\",'Set UP'!D40&\" \"&'Set UP'!E40)","v":"  --"},{"$f":"IF(OR('Set UP'!$C40=0,'Set UP'!$D40=0,'Set UP'!$E40=0,'Set UP'!F40=0,),\" --\",'Set UP'!F40)","v":" --"},null,null,null,"",null,null,"",{"$f":"IF('Set UP'!K40<>1,\"\",$L40)","v":""},{"$f":"IF('Set UP'!K40<>2,\"\",$L40)","v":""},"","","","","","","","",""]
[null,35,{"$f":"IF(OR('Set UP'!$C41=0,'Set UP'!$D41=0,'Set UP'!$E41=0,'Set UP'!F41=0),\"  --\",'Set UP'!C41)","v":"  --"},{"$f":"IF(OR('Set UP'!$C41=0,'Set UP'!$D41=0,'Set UP'!$E41=0,'Set UP'!F41=0),\"  --\",'Set UP'!D41&\" \"&'Set UP'!E41)","v":"  --"},{"$f":"IF(OR('Set UP'!$C41=0,'Set UP'!$D41=0,'Set UP'!$E41=0,'Set UP'!F41=0,),\" --\",'Set UP'!F41)","v":" --"},null,null,null,"",null,null,"",{"$f":"IF('Set UP'!K41<>1,\"\",$L41)","v":""},{"$f":"IF('Set UP'!K41<>2,\"\",$L41)","v":""},"","","","","","","","",""]
[null,36,{"$f":"IF(OR('Set UP'!$C42=0,'Set UP'!$D42=0,'Set UP'!$E42=0,'Set UP'!F42=0),\"  --\",'Set UP'!C42)","v":"  --"},{"$f":"IF(OR('Set UP'!$C42=0,'Set UP'!$D42=0,'Set UP'!$E42=0,'Set UP'!F42=0),\"  --\",'Set UP'!D42&\" \"&'Set UP'!E42)","v":"  --"},{"$f":"IF(OR('Set UP'!$C42=0,'Set UP'!$D42=0,'Set UP'!$E42=0,'Set UP'!F42=0,),\" --\",'Set UP'!F42)","v":" --"},null,null,null,"",null,null,"",{"$f":"IF('Set UP'!K42<>1,\"\",$L42)","v":""},{"$f":"IF('Set UP'!K42<>2,\"\",$L42)","v":""},"","","","","","","","",""]
[null,37,{"$f":"IF(OR('Set UP'!$C43=0,'Set UP'!$D43=0,'Set UP'!$E43=0,'Set UP'!F43=0),\"  --\",'Set UP'!C43)","v":"  --"},{"$f":"IF(OR('Set UP'!$C43=0,'Set UP'!$D43=0,'Set UP'!$E43=0,'Set UP'!F43=0),\"  --\",'Set UP'!D43&\" \"&'Set UP'!E43)","v":"  --"},{"$f":"IF(OR('Set UP'!$C43=0,'Set UP'!$D43=0,'Set UP'!$E43=0,'Set UP'!F43=0,),\" --\",'Set UP'!F43)","v":" --"},null,null,null,"",null,null,"",{"$f":"IF('Set UP'!K43<>1,\"\",$L43)","v":""},{"$f":"IF('Set UP'!K43<>2,\"\",$L43)","v":""},"","","","","","","","",""]
[null,38,{"$f":"IF(OR('Set UP'!$C44=0,'Set UP'!$D44=0,'Set UP'!$E44=0,'Set UP'!F44=0),\"  --\",'Set UP'!C44)","v":"  --"},{"$f":"IF(OR('Set UP'!$C44=0,'Set UP'!$D44=0,'Set UP'!$E44=0,'Set UP'!F44=0),\"  --\",'Set UP'!D44&\" \"&'Set UP'!E44)","v":"  --"},{"$f":"IF(OR('Set UP'!$C44=0,'Set UP'!$D44=0,'Set UP'!$E44=0,'Set UP'!F44=0,),\" --\",'Set UP'!F44)","v":" --"},null,null,null,"",null,null,"",{"$f":"IF('Set UP'!K44<>1,\"\",$L44)","v":""},{"$f":"IF('Set UP'!K44<>2,\"\",$L44)","v":""},"","","","","","","","",""]
[null,39,{"$f":"IF(OR('Set UP'!$C45=0,'Set UP'!$D45=0,'Set UP'!$E45=0,'Set UP'!F45=0),\"  --\",'Set UP'!C45)","v":"  --"},{"$f":"IF(OR('Set UP'!$C45=0,'Set UP'!$D45=0,'Set UP'!$E45=0,'Set UP'!F45=0),\"  --\",'Set UP'!D45&\" \"&'Set UP'!E45)","v":"  --"},{"$f":"IF(OR('Set UP'!$C45=0,'Set UP'!$D45=0,'Set UP'!$E45=0,'Set UP'!F45=0,),\" --\",'Set UP'!F45)","v":" --"},null,null,null,"",null,null,"",{"$f":"IF('Set UP'!K45<>1,\"\",$L45)","v":""},{"$f":"IF('Set UP'!K45<>2,\"\",$L45)","v":""},"","","","","","","","",""]
[null,40,{"$f":"IF(OR('Set UP'!$C46=0,'Set UP'!$D46=0,'Set UP'!$E46=0,'Set UP'!F46=0),\"  --\",'Set UP'!C46)","v":"  --"},{"$f":"IF(OR('Set UP'!$C46=0,'Set UP'!$D46=0,'Set UP'!$E46=0,'Set UP'!F46=0),\"  --\",'Set UP'!D46&\" \"&'Set UP'!E46)","v":"  --"},{"$f":"IF(OR('Set UP'!$C46=0,'Set UP'!$D46=0,'Set UP'!$E46=0,'Set UP'!F46=0,),\" --\",'Set UP'!F46)","v":" --"},null,null,null,"",null,null,"",{"$f":"IF('Set UP'!K46<>1,\"\",$L46)","v":""},{"$f":"IF('Set UP'!K46<>2,\"\",$L46)","v":""},"","","","","","","","",""]
[]
[]
[]
[]
[]
[]
[]
[]
[]
[]
[]
[]
[]
[]
[null,null,null,null,null,null,null,null,null,"Finished"]
[null,null,null,null,null,null,null,null,null,"Disqualified"]

{"sheet":"Obstacle","index":10,"n_rows":62,"n_cols":23,"rows_kept":62,"cut":false,"hidden":false,"merged":[[4,8,5,8],[4,10,5,10],[4,9,5,9],[4,1,5,1],[4,2,5,2],[4,3,5,3],[4,4,5,4],[4,5,4,7],[4,17,5,17],[4,11,5,11],[4,21,5,21],[4,22,5,22],[4,18,5,18],[4,19,5,19],[4,20,5,20],[4,14,4,16],[4,12,5,12],[4,13,5,13]]}
[]
[null,null,null,null,null,null,null,null,null,null,"Penalty Time (seconds)"]
[null,null,null,{"$f":"'Set UP'!Q12","v":"Obstacle"},null,null,null,null,null,null,15]
[]
[null,null,"Web","Team","Class","Stopwatch Time",null,null,null,"Finish Status","No. \nPenalties","Total\n(Competition)","Total\n(A)","Total\n(B)","Total Time",null,null,"Competition Position\nExcluding DQ's","Position\n(Competition)","A League Position\nExcluding DQ's","Position\n(A League)","B League Position\nExcluding DQ's","Position\n(B League)"]
[null,null,null,null,null,"mins","secs","1/100\nsec",null,null,null,null,null,null,"mins","secs","1/100 sec"]
[null,1,{"$f":"IF(OR('Set UP'!$C7=0,'Set UP'!$D7=0,'Set UP'!$E7=0,'Set UP'!F7=0),\"  --\",'Set UP'!C7)","v":537},{"$f":"IF(OR('Set UP'!$C7=0,'Set UP'!$D7=0,'Set UP'!$E7=0,'Set UP'!F7=0),\"  --\",'Set UP'!D7&\" \"&'Set UP'!E7)","v":"Heanor A"},{"$f":"IF(OR('Set UP'!$C7=0,'Set UP'!$D7=0,'Set UP'!$E7=0,'Set UP'!F7=0),\" --\",'Set UP'!F7)","v":"NS"},null,null,null,{"$f":"IF(AND(ISBLANK(F7),ISBLANK(G7),ISBLANK(H7)),\"\",(F7*60)+G7+(H7/100))","v":""},null,null,{"$f":"IF(D7=\"  --\",\"\",IF(J7=\"Disqualified\",J7,IF(J7=\"Finished\",IF(OR(G7=\"\",H7=\"\"),\"\",I7+(K7*$K$3)),\"\")))","v":""},{"$f":"IF('Set UP'!K7<>1,\"\",$L7)","v":""},{"$f":"IF('Set UP'!K7<>2,\"\",$L7)","v":""},{"$f":"IF(D7=\"  --\",\"\",IF(L7=\"Disqualified\",\"DQ\",IF(L7=\"\",\"\",INT(L7/60))))","v":""},{"$f":"IF(D7=\"  --\",\"\", IF(L7=\"Disqualified\",\"\",IF(L7=\"\",\"\",INT(L7-(O7*60)))))","v":""},{"$f":"IF(D7=\"  --\",\"\", IF(L7=\"Disqualified\",\"\",IF(L7=\"\",\"\",100*(L7-((O7*60)+P7)))))","v":""},{"$f":"IF(OR(L7=\"Disqualified\",L7=\"\"),\"\",RANK(L7,$L$7:$L$46,1))","v":""},{"$f":"IF(L7=\"Disqualified\",MAX($R$7:$R$46)+1,R7)","v":""},{"$f":"IF(OR($M7=\"Disqualified\",$M7=\"\"),\"\",RANK($M7,$M$7:$M$46,1))","v":""},{"$f":"IF($M7=\"Disqualified\",MAX($T$7:$T$46)+1,T7)","v":""},{"$f":"IF(OR($N7=\"Disqualified\",$N7=\"\"),\"\",RANK($N7,$N$7:$N$46,1))","v":""},{"$f":"IF($N7=\"Disqualified\",MAX($V$7:$V$46)+1,V7)","v":""}]
[null,2,{"$f":"IF(OR('Set UP'!$C8=0,'Set UP'!$D8=0,'Set UP'!$E8=0,'Set UP'!F8=0),\"  --\",'Set UP'!C8)","v":483},{"$f":"IF(OR('Set UP'!$C8=0,'Set UP'!$D8=0,'Set UP'!$E8=0,'Set UP'!F8=0),\"  --\",'Set UP'!D8&\" \"&'Set UP'!E8)","v":"University of Cambridge C"},{"$f":"IF(OR('Set UP'!$C8=0,'Set UP'!$D8=0,'Set UP'!$E8=0,'Set UP'!F8=0),\" --\",'Set UP'!F8)","v":"S"},null,null,null,"",null,null,"",{"$f":"IF('Set UP'!K8<>1,\"\",$L8)","v":""},{"$f":"IF('Set UP'!K8<>2,\"\",$L8)","v":""},"","","","","","","",{"$f":"IF(OR($N8=\"Disqualified\",$N8=\"\"),\"\",RANK($N8,$N$7:$N$46,1))","v":""},{"$f":"IF($N8=\"Disqualified\",MAX($V$7:$V$46)+1,V8)","v":""}]
[null,3,{"$f":"IF(OR('Set UP'!$C9=0,'Set UP'!$D9=0,'Set UP'!$E9=0,'Set UP'!F9=0),\"  --\",'Set UP'!C9)","v":474},{"$f":"IF(OR('Set UP'!$C9=0,'Set UP'!$D9=0,'Set UP'!$E9=0,'Set UP'!F9=0),\"  --\",'Set UP'!D9&\" \"&'Set UP'!E9)","v":"University of Cambridge B"},{"$f":"IF(OR('Set UP'!$C9=0,'Set UP'!$D9=0,'Set UP'!$E9=0,'Set UP'!F9=0),\" --\",'Set UP'!F9)","v":"S"},null,null,null,"",null,null,"",{"$f":"IF('Set UP'!K9<>1,\"\",$L9)","v":""},{"$f":"IF('Set UP'!K9<>2,\"\",$L9)","v":""},"","","","","","","","",""]
[null,4,{"$f":"IF(OR('Set UP'!$C10=0,'Set UP'!$D10=0,'Set UP'!$E10=0,'Set UP'!F10=0),\"  --\",'Set UP'!C10)","v":513},{"$f":"IF(OR('Set UP'!$C10=0,'Set UP'!$D10=0,'Set UP'!$E10=0,'Set UP'!F10=0),\"  --\",'Set UP'!D10&\" \"&'Set UP'!E10)","v":"University of Warwick D"},{"$f":"IF(OR('Set UP'!$C10=0,'Set UP'!$D10=0,'Set UP'!$E10=0,'Set UP'!F10=0),\" --\",'Set UP'!F10)","v":"S"},null,null,null,"",null,null,"",{"$f":"IF('Set UP'!K10<>1,\"\",$L10)","v":""},{"$f":"IF('Set UP'!K10<>2,\"\",$L10)","v":""},"","","","","","","","",""]
[null,5,{"$f":"IF(OR('Set UP'!$C11=0,'Set UP'!$D11=0,'Set UP'!$E11=0,'Set UP'!F11=0),\"  --\",'Set UP'!C11)","v":499},{"$f":"IF(OR('Set UP'!$C11=0,'Set UP'!$D11=0,'Set UP'!$E11=0,'Set UP'!F11=0),\"  --\",'Set UP'!D11&\" \"&'Set UP'!E11)","v":"University of St Andrews B"},{"$f":"IF(OR('Set UP'!$C11=0,'Set UP'!$D11=0,'Set UP'!$E11=0,'Set UP'!F11=0),\" --\",'Set UP'!F11)","v":"NC"},null,null,null,"",null,null,"",{"$f":"IF('Set UP'!K11<>1,\"\",$L11)","v":""},{"$f":"IF('Set UP'!K11<>2,\"\",$L11)","v":""},"","","","","","","","",""]
[null,6,{"$f":"IF(OR('Set UP'!$C12=0,'Set UP'!$D12=0,'Set UP'!$E12=0,'Set UP'!F12=0),\"  --\",'Set UP'!C12)","v":507},{"$f":"IF(OR('Set UP'!$C12=0,'Set UP'!$D12=0,'Set UP'!$E12=0,'Set UP'!F12=0),\"  --\",'Set UP'!D12&\" \"&'Set UP'!E12)","v":"University of Plymouth C"},{"$f":"IF(OR('Set UP'!$C12=0,'Set UP'!$D12=0,'Set UP'!$E12=0,'Set UP'!F12=0),\" --\",'Set UP'!F12)","v":"S"},null,null,null,"",null,null,"",{"$f":"IF('Set UP'!K12<>1,\"\",$L12)","v":""},{"$f":"IF('Set UP'!K12<>2,\"\",$L12)","v":""},"","","","","","","","",""]
[null,7,{"$f":"IF(OR('Set UP'!$C13=0,'Set UP'!$D13=0,'Set UP'!$E13=0,'Set UP'!F13=0),\"  --\",'Set UP'!C13)","v":519},{"$f":"IF(OR('Set UP'!$C13=0,'Set UP'!$D13=0,'Set UP'!$E13=0,'Set UP'!F13=0),\"  --\",'Set UP'!D13&\" \"&'Set UP'!E13)","v":"University of Aberdeen B"},{"$f":"IF(OR('Set UP'!$C13=0,'Set UP'!$D13=0,'Set UP'!$E13=0,'Set UP'!F13=0),\" --\",'Set UP'!F13)","v":"NC"},null,null,null,"",null,null,"",{"$f":"IF('Set UP'!K13<>1,\"\",$L13)","v":""},{"$f":"IF('Set UP'!K13<>2,\"\",$L13)","v":""},"","","","","","","","",""]
[null,8,{"$f":"IF(OR('Set UP'!$C14=0,'Set UP'!$D14=0,'Set UP'!$E14=0,'Set UP'!F14=0),\"  --\",'Set UP'!C14)","v":532},{"$f":"IF(OR('Set UP'!$C14=0,'Set UP'!$D14=0,'Set UP'!$E14=0,'Set UP'!F14=0),\"  --\",'Set UP'!D14&\" \"&'Set UP'!E14)","v":"University of London Union E"},{"$f":"IF(OR('Set UP'!$C14=0,'Set UP'!$D14=0,'Set UP'!$E14=0,'Set UP'!F14=0),\" --\",'Set UP'!F14)","v":"S"},null,null,null,"",null,null,"",{"$f":"IF('Set UP'!K14<>1,\"\",$L14)","v":""},{"$f":"IF('Set UP'!K14<>2,\"\",$L14)","v":""},"","","","","","","","",""]
[null,9,{"$f":"IF(OR('Set UP'!$C15=0,'Set UP'!$D15=0,'Set UP'!$E15=0,'Set UP'!F15=0),\"  --\",'Set UP'!C15)","v":530},{"$f":"IF(OR('Set UP'!$C15=0,'Set UP'!$D15=0,'Set UP'!$E15=0,'Set UP'!F15=0),\"  --\",'Set UP'!D15&\" \"&'Set UP'!E15)","v":"University of London Union C"},{"$f":"IF(OR('Set UP'!$C15=0,'Set UP'!$D15=0,'Set UP'!$E15=0,'Set UP'!F15=0),\" --\",'Set UP'!F15)","v":"S"},null,null,null,"",null,null,"",{"$f":"IF('Set UP'!K15<>1,\"\",$L15)","v":""},{"$f":"IF('Set UP'!K15<>2,\"\",$L15)","v":""},"","","","","","","","",""]
[null,10,{"$f":"IF(OR('Set UP'!$C16=0,'Set UP'!$D16=0,'Set UP'!$E16=0,'Set UP'!F16=0),\"  --\",'Set UP'!C16)","v":506},{"$f":"IF(OR('Set UP'!$C16=0,'Set UP'!$D16=0,'Set UP'!$E16=0,'Set UP'!F16=0),\"  --\",'Set UP'!D16&\" \"&'Set UP'!E16)","v":"University of Plymouth B"},{"$f":"IF(OR('Set UP'!$C16=0,'Set UP'!$D16=0,'Set UP'!$E16=0,'Set UP'!F16=0),\" --\",'Set UP'!F16)","v":"S"},null,null,null,"",null,null,"",{"$f":"IF('Set UP'!K16<>1,\"\",$L16)","v":""},{"$f":"IF('Set UP'!K16<>2,\"\",$L16)","v":""},"","","","","","","","",""]
[null,11,{"$f":"IF(OR('Set UP'!$C17=0,'Set UP'!$D17=0,'Set UP'!$E17=0,'Set UP'!F17=0),\"  --\",'Set UP'!C17)","v":518},{"$f":"IF(OR('Set UP'!$C17=0,'Set UP'!$D17=0,'Set UP'!$E17=0,'Set UP'!F17=0),\"  --\",'Set UP'!D17&\" \"&'Set UP'!E17)","v":"University of Aberdeen A"},{"$f":"IF(OR('Set UP'!$C17=0,'Set UP'!$D17=0,'Set UP'!$E17=0,'Set UP'!F17=0),\" --\",'Set UP'!F17)","v":"S"},null,null,null,"",null,null,"",{"$f":"IF('Set UP'!K17<>1,\"\",$L17)","v":""},{"$f":"IF('Set UP'!K17<>2,\"\",$L17)","v":""},"","","","","","","","",""]
[null,12,{"$f":"IF(OR('Set UP'!$C18=0,'Set UP'!$D18=0,'Set UP'!$E18=0,'Set UP'!F18=0),\"  --\",'Set UP'!C18)","v":538},{"$f":"IF(OR('Set UP'!$C18=0,'Set UP'!$D18=0,'Set UP'!$E18=0,'Set UP'!F18=0),\"  --\",'Set UP'!D18&\" \"&'Set UP'!E18)","v":"University of Southampton C"},{"$f":"IF(OR('Set UP'!$C18=0,'Set UP'!$D18=0,'Set UP'!$E18=0,'Set UP'!F18=0),\" --\",'Set UP'!F18)","v":"S"},null,null,null,"",null,null,"",{"$f":"IF('Set UP'!K18<>1,\"\",$L18)","v":""},{"$f":"IF('Set UP'!K18<>2,\"\",$L18)","v":""},"","","","","","","","",""]
[null,13,{"$f":"IF(OR('Set UP'!$C19=0,'Set UP'!$D19=0,'Set UP'!$E19=0,'Set UP'!F19=0),\"  --\",'Set UP'!C19)","v":515},{"$f":"IF(OR('Set UP'!$C19=0,'Set UP'!$D19=0,'Set UP'!$E19=0,'Set UP'!F19=0),\"  --\",'Set UP'!D19&\" \"&'Set UP'!E19)","v":"Loughborough University C"},{"$f":"IF(OR('Set UP'!$C19=0,'Set UP'!$D19=0,'Set UP'!$E19=0,'Set UP'!F19=0),\" --\",'Set UP'!F19)","v":"S"},null,null,null,"",null,null,"",{"$f":"IF('Set UP'!K19<>1,\"\",$L19)","v":""},{"$f":"IF('Set UP'!K19<>2,\"\",$L19)","v":""},"","","","","","","","",""]
[null,14,{"$f":"IF(OR('Set UP'!$C20=0,'Set UP'!$D20=0,'Set UP'!$E20=0,'Set UP'!F20=0),\"  --\",'Set UP'!C20)","v":520},{"$f":"IF(OR('Set UP'!$C20=0,'Set UP'!$D20=0,'Set UP'!$E20=0,'Set UP'!F20=0),\"  --\",'Set UP'!D20&\" \"&'Set UP'!E20)","v":"Loughborough University D"},{"$f":"IF(OR('Set UP'!$C20=0,'Set UP'!$D20=0,'Set UP'!$E20=0,'Set UP'!F20=0),\" --\",'Set UP'!F20)","v":"NS"},null,null,null,"",null,null,"",{"$f":"IF('Set UP'!K20<>1,\"\",$L20)","v":""},{"$f":"IF('Set UP'!K20<>2,\"\",$L20)","v":""},"","","","","","","","",""]
[null,15,{"$f":"IF(OR('Set UP'!$C21=0,'Set UP'!$D21=0,'Set UP'!$E21=0,'Set UP'!F21=0),\"  --\",'Set UP'!C21)","v":512},{"$f":"IF(OR('Set UP'!$C21=0,'Set UP'!$D21=0,'Set UP'!$E21=0,'Set UP'!F21=0),\"  --\",'Set UP'!D21&\" \"&'Set UP'!E21)","v":"University of Warwick C"},{"$f":"IF(OR('Set UP'!$C21=0,'Set UP'!$D21=0,'Set UP'!$E21=0,'Set UP'!F21=0),\" --\",'Set UP'!F21)","v":"NC"},null,null,null,"",null,null,"",{"$f":"IF('Set UP'!K21<>1,\"\",$L21)","v":""},{"$f":"IF('Set UP'!K21<>2,\"\",$L21)","v":""},"","","","","","","","",""]
[null,16,{"$f":"IF(OR('Set UP'!$C22=0,'Set UP'!$D22=0,'Set UP'!$E22=0,'Set UP'!F22=0),\"  --\",'Set UP'!C22)","v":531},{"$f":"IF(OR('Set UP'!$C22=0,'Set UP'!$D22=0,'Set UP'!$E22=0,'Set UP'!F22=0),\"  --\",'Set UP'!D22&\" \"&'Set UP'!E22)","v":"University of London Union D"},{"$f":"IF(OR('Set UP'!$C22=0,'Set UP'!$D22=0,'Set UP'!$E22=0,'Set UP'!F22=0),\" --\",'Set UP'!F22)","v":"NC"},null,null,null,"",null,null,"",{"$f":"IF('Set UP'!K22<>1,\"\",$L22)","v":""},{"$f":"IF('Set UP'!K22<>2,\"\",$L22)","v":""},"","","","","","","","",""]
[null,17,{"$f":"IF(OR('Set UP'!$C23=0,'Set UP'!$D23=0,'Set UP'!$E23=0,'Set UP'!F23=0),\"  --\",'Set UP'!C23)","v":471},{"$f":"IF(OR('Set UP'!$C23=0,'Set UP'!$D23=0,'Set UP'!$E23=0,'Set UP'!F23=0),\"  --\",'Set UP'!D23&\" \"&'Set UP'!E23)","v":"University of Cambridge A"},{"$f":"IF(OR('Set UP'!$C23=0,'Set UP'!$D23=0,'Set UP'!$E23=0,'Set UP'!F23=0),\" --\",'Set UP'!F23)","v":"S"},null,null,null,"",null,null,"",{"$f":"IF('Set UP'!K23<>1,\"\",$L23)","v":""},{"$f":"IF('Set UP'!K23<>2,\"\",$L23)","v":""},"","","","","","","","",""]
[null,18,{"$f":"IF(OR('Set UP'!$C24=0,'Set UP'!$D24=0,'Set UP'!$E24=0,'Set UP'!F24=0),\"  --\",'Set UP'!C24)","v":522},{"$f":"IF(OR('Set UP'!$C24=0,'Set UP'!$D24=0,'Set UP'!$E24=0,'Set UP'!F24=0),\"  --\",'Set UP'!D24&\" \"&'Set UP'!E24)","v":"University of Birmingham B"},{"$f":"IF(OR('Set UP'!$C24=0,'Set UP'!$D24=0,'Set UP'!$E24=0,'Set UP'!F24=0),\" --\",'Set UP'!F24)","v":"S"},null,null,null,"",null,null,"",{"$f":"IF('Set UP'!K24<>1,\"\",$L24)","v":""},{"$f":"IF('Set UP'!K24<>2,\"\",$L24)","v":""},"","","","","","","","",""]
[null,19,{"$f":"IF(OR('Set UP'!$C25=0,'Set UP'!$D25=0,'Set UP'!$E25=0,'Set UP'!F25=0),\"  --\",'Set UP'!C25)","v":498},{"$f":"IF(OR('Set UP'!$C25=0,'Set UP'!$D25=0,'Set UP'!$E25=0,'Set UP'!F25=0),\"  --\",'Set UP'!D25&\" \"&'Set UP'!E25)","v":"University of St Andrews A"},{"$f":"IF(OR('Set UP'!$C25=0,'Set UP'!$D25=0,'Set UP'!$E25=0,'Set UP'!F25=0),\" --\",'Set UP'!F25)","v":"S"},null,null,null,"",null,null,"",{"$f":"IF('Set UP'!K25<>1,\"\",$L25)","v":""},{"$f":"IF('Set UP'!K25<>2,\"\",$L25)","v":""},"","","","","","","","",""]
[null,20,{"$f":"IF(OR('Set UP'!$C26=0,'Set UP'!$D26=0,'Set UP'!$E26=0,'Set UP'!F26=0),\"  --\",'Set UP'!C26)","v":535},{"$f":"IF(OR('Set UP'!$C26=0,'Set UP'!$D26=0,'Set UP'!$E26=0,'Set UP'!F26=0),\"  --\",'Set UP'!D26&\" \"&'Set UP'!E26)","v":"University of Birmingham A"},{"$f":"IF(OR('Set UP'!$C26=0,'Set UP'!$D26=0,'Set UP'!$E26=0,'Set UP'!F26=0),\" --\",'Set UP'!F26)","v":"S"},null,null,null,"",null,null,"",{"$f":"IF('Set UP'!K26<>1,\"\",$L26)","v":""},{"$f":"IF('Set UP'!K26<>2,\"\",$L26)","v":""},"","","","","","","","",""]
[null,21,{"$f":"IF(OR('Set UP'!$C27=0,'Set UP'!$D27=0,'Set UP'!$E27=0,'Set UP'!F27=0),\"  --\",'Set UP'!C27)","v":508},{"$f":"IF(OR('Set UP'!$C27=0,'Set UP'!$D27=0,'Set UP'!$E27=0,'Set UP'!F27=0),\"  --\",'Set UP'!D27&\" \"&'Set UP'!E27)","v":"University of Nottingham A"},{"$f":"IF(OR('Set UP'!$C27=0,'Set UP'!$D27=0,'Set UP'!$E27=0,'Set UP'!F27=0),\" --\",'Set UP'!F27)","v":"S"},null,null,null,"",null,null,"",{"$f":"IF('Set UP'!K27<>1,\"\",$L27)","v":""},{"$f":"IF('Set UP'!K27<>2,\"\",$L27)","v":""},"","","","","","","","",""]
[null,22,{"$f":"IF(OR('Set UP'!$C28=0,'Set UP'!$D28=0,'Set UP'!$E28=0,'Set UP'!F28=0),\"  --\",'Set UP'!C28)","v":528},{"$f":"IF(OR('Set UP'!$C28=0,'Set UP'!$D28=0,'Set UP'!$E28=0,'Set UP'!F28=0),\"  --\",'Set UP'!D28&\" \"&'Set UP'!E28)","v":"University of London Union B"},{"$f":"IF(OR('Set UP'!$C28=0,'Set UP'!$D28=0,'Set UP'!$E28=0,'Set UP'!F28=0),\" --\",'Set UP'!F28)","v":"S"},null,null,null,"",null,null,"",{"$f":"IF('Set UP'!K28<>1,\"\",$L28)","v":""},{"$f":"IF('Set UP'!K28<>2,\"\",$L28)","v":""},"","","","","","","","",""]
[null,23,{"$f":"IF(OR('Set UP'!$C29=0,'Set UP'!$D29=0,'Set UP'!$E29=0,'Set UP'!F29=0),\"  --\",'Set UP'!C29)","v":511},{"$f":"IF(OR('Set UP'!$C29=0,'Set UP'!$D29=0,'Set UP'!$E29=0,'Set UP'!F29=0),\"  --\",'Set UP'!D29&\" \"&'Set UP'!E29)","v":"University of Warwick B"},{"$f":"IF(OR('Set UP'!$C29=0,'Set UP'!$D29=0,'Set UP'!$E29=0,'Set UP'!F29=0),\" --\",'Set UP'!F29)","v":"S"},null,null,null,"",null,null,"",{"$f":"IF('Set UP'!K29<>1,\"\",$L29)","v":""},{"$f":"IF('Set UP'!K29<>2,\"\",$L29)","v":""},"","","","","","","","",""]
[null,24,{"$f":"IF(OR('Set UP'!$C30=0,'Set UP'!$D30=0,'Set UP'!$E30=0,'Set UP'!F30=0),\"  --\",'Set UP'!C30)","v":509},{"$f":"IF(OR('Set UP'!$C30=0,'Set UP'!$D30=0,'Set UP'!$E30=0,'Set UP'!F30=0),\"  --\",'Set UP'!D30&\" \"&'Set UP'!E30)","v":"University of Nottingham B"},{"$f":"IF(OR('Set UP'!$C30=0,'Set UP'!$D30=0,'Set UP'!$E30=0,'Set UP'!F30=0),\" --\",'Set UP'!F30)","v":"S"},null,null,null,"",null,null,"",{"$f":"IF('Set UP'!K30<>1,\"\",$L30)","v":""},{"$f":"IF('Set UP'!K30<>2,\"\",$L30)","v":""},"","","","","","","","",""]
[null,25,{"$f":"IF(OR('Set UP'!$C31=0,'Set UP'!$D31=0,'Set UP'!$E31=0,'Set UP'!F31=0),\"  --\",'Set UP'!C31)","v":517},{"$f":"IF(OR('Set UP'!$C31=0,'Set UP'!$D31=0,'Set UP'!$E31=0,'Set UP'!F31=0),\"  --\",'Set UP'!D31&\" \"&'Set UP'!E31)","v":"Loughborough University B"},{"$f":"IF(OR('Set UP'!$C31=0,'Set UP'!$D31=0,'Set UP'!$E31=0,'Set UP'!F31=0),\" --\",'Set UP'!F31)","v":"S"},null,null,null,"",null,null,"",{"$f":"IF('Set UP'!K31<>1,\"\",$L31)","v":""},{"$f":"IF('Set UP'!K31<>2,\"\",$L31)","v":""},"","","","","","","","",""]
[null,26,{"$f":"IF(OR('Set UP'!$C32=0,'Set UP'!$D32=0,'Set UP'!$E32=0,'Set UP'!F32=0),\"  --\",'Set UP'!C32)","v":534},{"$f":"IF(OR('Set UP'!$C32=0,'Set UP'!$D32=0,'Set UP'!$E32=0,'Set UP'!F32=0),\"  --\",'Set UP'!D32&\" \"&'Set UP'!E32)","v":"University of Southampton B"},{"$f":"IF(OR('Set UP'!$C32=0,'Set UP'!$D32=0,'Set UP'!$E32=0,'Set UP'!F32=0),\" --\",'Set UP'!F32)","v":"S"},null,null,null,"",null,null,"",{"$f":"IF('Set UP'!K32<>1,\"\",$L32)","v":""},{"$f":"IF('Set UP'!K32<>2,\"\",$L32)","v":""},"","","","","","","","",""]
[null,27,{"$f":"IF(OR('Set UP'!$C33=0,'Set UP'!$D33=0,'Set UP'!$E33=0,'Set UP'!F33=0),\"  --\",'Set UP'!C33)","v":479},{"$f":"IF(OR('Set UP'!$C33=0,'Set UP'!$D33=0,'Set UP'!$E33=0,'Set UP'!F33=0),\"  --\",'Set UP'!D33&\" \"&'Set UP'!E33)","v":"Loughborough University A"},{"$f":"IF(OR('Set UP'!$C33=0,'Set UP'!$D33=0,'Set UP'!$E33=0,'Set UP'!F33=0),\" --\",'Set UP'!F33)","v":"S"},null,null,null,"",null,null,"",{"$f":"IF('Set UP'!K33<>1,\"\",$L33)","v":""},{"$f":"IF('Set UP'!K33<>2,\"\",$L33)","v":""},"","","","","","","","",""]
[null,28,{"$f":"IF(OR('Set UP'!$C34=0,'Set UP'!$D34=0,'Set UP'!$E34=0,'Set UP'!F34=0),\"  --\",'Set UP'!C34)","v":545},{"$f":"IF(OR('Set UP'!$C34=0,'Set UP'!$D34=0,'Set UP'!$E34=0,'Set UP'!F34=0),\"  --\",'Set UP'!D34&\" \"&'Set UP'!E34)","v":"Colwick Park A"},{"$f":"IF(OR('Set UP'!$C34=0,'Set UP'!$D34=0,'Set UP'!$E34=0,'Set UP'!F34=0),\" --\",'Set UP'!F34)","v":"NS"},null,null,null,"",null,null,"",{"$f":"IF('Set UP'!K34<>1,\"\",$L34)","v":""},{"$f":"IF('Set UP'!K34<>2,\"\",$L34)","v":""},"","","","","","","","",""]
[null,29,{"$f":"IF(OR('Set UP'!$C35=0,'Set UP'!$D35=0,'Set UP'!$E35=0,'Set UP'!F35=0),\"  --\",'Set UP'!C35)","v":533},{"$f":"IF(OR('Set UP'!$C35=0,'Set UP'!$D35=0,'Set UP'!$E35=0,'Set UP'!F35=0),\"  --\",'Set UP'!D35&\" \"&'Set UP'!E35)","v":"University of Southampton A"},{"$f":"IF(OR('Set UP'!$C35=0,'Set UP'!$D35=0,'Set UP'!$E35=0,'Set UP'!F35=0),\" --\",'Set UP'!F35)","v":"S"},null,null,null,"",null,null,"",{"$f":"IF('Set UP'!K35<>1,\"\",$L35)","v":""},{"$f":"IF('Set UP'!K35<>2,\"\",$L35)","v":""},"","","","","","","","",""]
[null,30,{"$f":"IF(OR('Set UP'!$C36=0,'Set UP'!$D36=0,'Set UP'!$E36=0,'Set UP'!F36=0),\"  --\",'Set UP'!C36)","v":523},{"$f":"IF(OR('Set UP'!$C36=0,'Set UP'!$D36=0,'Set UP'!$E36=0,'Set UP'!F36=0),\"  --\",'Set UP'!D36&\" \"&'Set UP'!E36)","v":"University of London Union A"},{"$f":"IF(OR('Set UP'!$C36=0,'Set UP'!$D36=0,'Set UP'!$E36=0,'Set UP'!F36=0),\" --\",'Set UP'!F36)","v":"S"},null,null,null,"",null,null,"",{"$f":"IF('Set UP'!K36<>1,\"\",$L36)","v":""},{"$f":"IF('Set UP'!K36<>2,\"\",$L36)","v":""},"","","","","","","","",""]
[null,31,{"$f":"IF(OR('Set UP'!$C37=0,'Set UP'!$D37=0,'Set UP'!$E37=0,'Set UP'!F37=0),\"  --\",'Set UP'!C37)","v":505},{"$f":"IF(OR('Set UP'!$C37=0,'Set UP'!$D37=0,'Set UP'!$E37=0,'Set UP'!F37=0),\"  --\",'Set UP'!D37&\" \"&'Set UP'!E37)","v":"University of Plymouth A"},{"$f":"IF(OR('Set UP'!$C37=0,'Set UP'!$D37=0,'Set UP'!$E37=0,'Set UP'!F37=0),\" --\",'Set UP'!F37)","v":"S"},null,null,null,"",null,null,"",{"$f":"IF('Set UP'!K37<>1,\"\",$L37)","v":""},{"$f":"IF('Set UP'!K37<>2,\"\",$L37)","v":""},"","","","","","","","",""]
[null,32,{"$f":"IF(OR('Set UP'!$C38=0,'Set UP'!$D38=0,'Set UP'!$E38=0,'Set UP'!F38=0),\"  --\",'Set UP'!C38)","v":510},{"$f":"IF(OR('Set UP'!$C38=0,'Set UP'!$D38=0,'Set UP'!$E38=0,'Set UP'!F38=0),\"  --\",'Set UP'!D38&\" \"&'Set UP'!E38)","v":"University of Warwick A"},{"$f":"IF(OR('Set UP'!$C38=0,'Set UP'!$D38=0,'Set UP'!$E38=0,'Set UP'!F38=0),\" --\",'Set UP'!F38)","v":"S"},null,null,null,"",null,null,"",{"$f":"IF('Set UP'!K38<>1,\"\",$L38)","v":""},{"$f":"IF('Set UP'!K38<>2,\"\",$L38)","v":""},"","","","","","","","",""]
[null,33,{"$f":"IF(OR('Set UP'!$C39=0,'Set UP'!$D39=0,'Set UP'!$E39=0,'Set UP'!F39=0),\"  --\",'Set UP'!C39)","v":"  --"},{"$f":"IF(OR('Set UP'!$C39=0,'Set UP'!$D39=0,'Set UP'!$E39=0,'Set UP'!F39=0),\"  --\",'Set UP'!D39&\" \"&'Set UP'!E39)","v":"  --"},{"$f":"IF(OR('Set UP'!$C39=0,'Set UP'!$D39=0,'Set UP'!$E39=0,'Set UP'!F39=0),\" --\",'Set UP'!F39)","v":" --"},null,null,null,"",null,null,"",{"$f":"IF('Set UP'!K39<>1,\"\",$L39)","v":""},{"$f":"IF('Set UP'!K39<>2,\"\",$L39)","v":""},"","","","","","","","",""]
[null,34,{"$f":"IF(OR('Set UP'!$C40=0,'Set UP'!$D40=0,'Set UP'!$E40=0,'Set UP'!F40=0),\"  --\",'Set UP'!C40)","v":"  --"},{"$f":"IF(OR('Set UP'!$C40=0,'Set UP'!$D40=0,'Set UP'!$E40=0,'Set UP'!F40=0),\"  --\",'Set UP'!D40&\" \"&'Set UP'!E40)","v":"  --"},{"$f":"IF(OR('Set UP'!$C40=0,'Set UP'!$D40=0,'Set UP'!$E40=0,'Set UP'!F40=0),\" --\",'Set UP'!F40)","v":" --"},null,null,null,"",null,null,"",{"$f":"IF('Set UP'!K40<>1,\"\",$L40)","v":""},{"$f":"IF('Set UP'!K40<>2,\"\",$L40)","v":""},"","","","","","","","",""]
[null,35,{"$f":"IF(OR('Set UP'!$C41=0,'Set UP'!$D41=0,'Set UP'!$E41=0,'Set UP'!F41=0),\"  --\",'Set UP'!C41)","v":"  --"},{"$f":"IF(OR('Set UP'!$C41=0,'Set UP'!$D41=0,'Set UP'!$E41=0,'Set UP'!F41=0),\"  --\",'Set UP'!D41&\" \"&'Set UP'!E41)","v":"  --"},{"$f":"IF(OR('Set UP'!$C41=0,'Set UP'!$D41=0,'Set UP'!$E41=0,'Set UP'!F41=0),\" --\",'Set UP'!F41)","v":" --"},null,null,null,"",null,null,"",{"$f":"IF('Set UP'!K41<>1,\"\",$L41)","v":""},{"$f":"IF('Set UP'!K41<>2,\"\",$L41)","v":""},"","","","","","","","",""]
[null,36,{"$f":"IF(OR('Set UP'!$C42=0,'Set UP'!$D42=0,'Set UP'!$E42=0,'Set UP'!F42=0),\"  --\",'Set UP'!C42)","v":"  --"},{"$f":"IF(OR('Set UP'!$C42=0,'Set UP'!$D42=0,'Set UP'!$E42=0,'Set UP'!F42=0),\"  --\",'Set UP'!D42&\" \"&'Set UP'!E42)","v":"  --"},{"$f":"IF(OR('Set UP'!$C42=0,'Set UP'!$D42=0,'Set UP'!$E42=0,'Set UP'!F42=0),\" --\",'Set UP'!F42)","v":" --"},null,null,null,"",null,null,"",{"$f":"IF('Set UP'!K42<>1,\"\",$L42)","v":""},{"$f":"IF('Set UP'!K42<>2,\"\",$L42)","v":""},"","","","","","","","",""]
[null,37,{"$f":"IF(OR('Set UP'!$C43=0,'Set UP'!$D43=0,'Set UP'!$E43=0,'Set UP'!F43=0),\"  --\",'Set UP'!C43)","v":"  --"},{"$f":"IF(OR('Set UP'!$C43=0,'Set UP'!$D43=0,'Set UP'!$E43=0,'Set UP'!F43=0),\"  --\",'Set UP'!D43&\" \"&'Set UP'!E43)","v":"  --"},{"$f":"IF(OR('Set UP'!$C43=0,'Set UP'!$D43=0,'Set UP'!$E43=0,'Set UP'!F43=0),\" --\",'Set UP'!F43)","v":" --"},null,null,null,"",null,null,"",{"$f":"IF('Set UP'!K43<>1,\"\",$L43)","v":""},{"$f":"IF('Set UP'!K43<>2,\"\",$L43)","v":""},"","","","","","","","",""]
[null,38,{"$f":"IF(OR('Set UP'!$C44=0,'Set UP'!$D44=0,'Set UP'!$E44=0,'Set UP'!F44=0),\"  --\",'Set UP'!C44)","v":"  --"},{"$f":"IF(OR('Set UP'!$C44=0,'Set UP'!$D44=0,'Set UP'!$E44=0,'Set UP'!F44=0),\"  --\",'Set UP'!D44&\" \"&'Set UP'!E44)","v":"  --"},{"$f":"IF(OR('Set UP'!$C44=0,'Set UP'!$D44=0,'Set UP'!$E44=0,'Set UP'!F44=0),\" --\",'Set UP'!F44)","v":" --"},null,null,null,"",null,null,"",{"$f":"IF('Set UP'!K44<>1,\"\",$L44)","v":""},{"$f":"IF('Set UP'!K44<>2,\"\",$L44)","v":""},"","","","","","","","",""]
[null,39,{"$f":"IF(OR('Set UP'!$C45=0,'Set UP'!$D45=0,'Set UP'!$E45=0,'Set UP'!F45=0),\"  --\",'Set UP'!C45)","v":"  --"},{"$f":"IF(OR('Set UP'!$C45=0,'Set UP'!$D45=0,'Set UP'!$E45=0,'Set UP'!F45=0),\"  --\",'Set UP'!D45&\" \"&'Set UP'!E45)","v":"  --"},{"$f":"IF(OR('Set UP'!$C45=0,'Set UP'!$D45=0,'Set UP'!$E45=0,'Set UP'!F45=0),\" --\",'Set UP'!F45)","v":" --"},null,null,null,"",null,null,"",{"$f":"IF('Set UP'!K45<>1,\"\",$L45)","v":""},{"$f":"IF('Set UP'!K45<>2,\"\",$L45)","v":""},"","","","","","","","",""]
[null,40,{"$f":"IF(OR('Set UP'!$C46=0,'Set UP'!$D46=0,'Set UP'!$E46=0,'Set UP'!F46=0),\"  --\",'Set UP'!C46)","v":"  --"},{"$f":"IF(OR('Set UP'!$C46=0,'Set UP'!$D46=0,'Set UP'!$E46=0,'Set UP'!F46=0),\"  --\",'Set UP'!D46&\" \"&'Set UP'!E46)","v":"  --"},{"$f":"IF(OR('Set UP'!$C46=0,'Set UP'!$D46=0,'Set UP'!$E46=0,'Set UP'!F46=0),\" --\",'Set UP'!F46)","v":" --"},null,null,null,"",null,null,"",{"$f":"IF('Set UP'!K46<>1,\"\",$L46)","v":""},{"$f":"IF('Set UP'!K46<>2,\"\",$L46)","v":""},"","","","","","","","",""]
[]
[]
[]
[]
[]
[]
[]
[]
[]
[]
[]
[]
[]
[]
[null,null,null,null,null,null,null,null,null,"Finished"]
[null,null,null,null,null,null,null,null,null,"Disqualified"]

{"sheet":"Competition Places","index":11,"n_rows":47,"n_cols":4,"rows_kept":47,"cut":false,"hidden":false,"merged":[[47,1,47,6],[46,1,46,4],[2,2,2,3]]}
[]
[]
[null,null,"Competition Places"]
[]
[null,null,"Place","Team"]
[null,null,1,"University of Southampton A"]
[null,null,2,"University of London Union D"]
[null,null,3,"University of London Union A"]
[null,null,4,"University of Nottingham A"]
[null,null,5,"University of Warwick A"]
[null,null,6,"University of St Andrews A"]
[null,null,7,"University of Southampton B"]
[null,null,8,"University of Birmingham A"]
[null,null,9,"University of Cambridge A"]
[null,null,10,"Loughborough University A"]
[null,null,11,"University of Birmingham B"]
[null,null,12,"University of Warwick B"]
[null,null,13,"University of London Union B"]
[null,null,14,"University of Nottingham B"]
[null,null,15,"University of Aberdeen A"]
[null,null,16,"University of Warwick C"]
[null,null,17,"Colwick Park A"]
[null,null,18,"Loughborough University B"]
[null,null,19,"Heanor A"]
[null,null,20,"University of Cambridge B"]
[null,null,21,"University of London Union C"]
[null,null,22,"University of Southampton C"]
[null,null,23,"University of Plymouth A"]
[null,null,24,"Loughborough University C"]
[null,null,25,"University of Plymouth C"]
[null,null,26,"Loughborough University D"]
[null,null,27,"University of London Union E"]
[null,null,28,"University of Plymouth B"]
[null,null,29,"University of Aberdeen B"]
[null,null,30,"University of Cambridge C"]
[null,null,31,"University of Warwick D"]
[null,null,31,"University of St Andrews B"]
[]
[]
[]
[]
[]
[]
[]
[]
[]
[null,"Copyright Simon Harrison 2008, Oliver Coleman 2009"]

{"sheet":"A Places","index":12,"n_rows":47,"n_cols":4,"rows_kept":47,"cut":false,"hidden":false,"merged":[[2,2,2,3],[46,1,46,4],[47,1,47,6]]}
[]
[]
[null,null,"A Places"]
[]
[null,null,"Place","Team"]
[null,null,1,"University of Southampton A"]
[null,null,2,"University of Warwick A"]
[null,null,3,"University of Nottingham A"]
[null,null,4,"University of London Union A"]
[null,null,5,"Loughborough University A"]
[null,null,6,"University of St Andrews A"]
[null,null,7,"University of Birmingham A"]
[null,null,8,"University of Cambridge A"]
[null,null,9,"University of Aberdeen A"]
[null,null,10,"University of Plymouth A"]
[]
[]
[]
[]
[]
[]
[]
[]
[]
[]
[]
[]
[]
[]
[]
[]
[]
[]
[]
[]
[]
[]
[]
[]
[]
[]
[]
[]
[]
[]
[]
[null,"Copyright Simon Harrison 2008, Oliver Coleman 2009"]

{"sheet":"B Places","index":13,"n_rows":47,"n_cols":4,"rows_kept":47,"cut":false,"hidden":false,"merged":[[2,2,2,3],[46,1,46,4],[47,1,47,6]]}
[]
[]
[null,null,"B Places"]
[]
[null,null,"Place","Team"]
[null,null,1,"University of Birmingham B"]
[null,null,2,"University of Southampton B"]
[null,null,3,"University of Warwick B"]
[null,null,4,"University of London Union B"]
[null,null,5,"University of Nottingham B"]
[null,null,6,"Loughborough University B"]
[null,null,7,"University of London Union C"]
[null,null,8,"University of Southampton C"]
[null,null,9,"University of Plymouth C"]
[null,null,10,"Loughborough University C"]
[null,null,11,"University of Cambridge B"]
[null,null,12,"University of Plymouth B"]
[null,null,13,"University of London Union E"]
[null,null,14,"University of Cambridge C"]
[null,null,15,"University of Warwick D"]
[]
[]
[]
[]
[]
[]
[]
[]
[]
[]
[]
[]
[]
[]
[]
[]
[]
[]
[]
[]
[]
[]
[]
[]
[]
[]
[null,"Copyright Simon Harrison 2008, Oliver Coleman 2009"]

{"sheet":"Freshers Places","index":14,"n_rows":47,"n_cols":4,"rows_kept":47,"cut":false,"hidden":false,"merged":[[2,2,2,3],[46,1,46,4],[47,1,47,6]]}
[]
[]
[null,null,"Freshers Places"]
[]
[null,null,"Place","Team"]
[]
[]
[]
[]
[]
[]
[]
[]
[]
[]
[]
[]
[]
[]
[]
[]
[]
[]
[]
[]
[]
[]
[]
[]
[]
[]
[]
[]
[]
[]
[]
[]
[]
[]
[]
[]
[]
[]
[]
[]
[]
[null,"Copyright Simon Harrison 2008, Oliver Coleman 2009"]

{"sheet":"Competition Results","index":15,"n_rows":49,"n_cols":14,"rows_kept":49,"cut":false,"hidden":false,"merged":[[4,13,5,13],[47,1,47,13],[48,3,48,12],[4,3,5,3],[4,1,5,1],[4,12,5,12],[4,2,5,2],[4,4,5,4]]}
[]
[null,null,null,null,null,"Weighting","Weighting","Weighting","Weighting","Weighting","Weighting","Weighting"]
[null,null,null,"Competition Results",null,{"$f":"'Set UP'!S6","v":2},{"$f":"'Set UP'!S7","v":2},{"$f":"'Set UP'!S13","v":1},{"$f":"'Set UP'!S8","v":1},{"$f":"'Set UP'!S9","v":1},{"$f":"'Set UP'!S10","v":1},{"$f":"'Set UP'!S12","v":0}]
[]
[null,null,"Web","Team","Class",{"$f":"'Set UP'!Q6","v":"Wet Incident"},{"$f":"'Set UP'!Q7","v":"Dry Incident"},{"$f":"'Set UP'!Q13","v":"Extra Event"},{"$f":"'Set UP'!Q8","v":"Rope Throw"},{"$f":"'Set UP'!Q9","v":"Swim and Tow"},{"$f":"'Set UP'!Q10","v":"Medley"},{"$f":"'Set UP'!Q12","v":"Obstacle"},"Sum of Weighted Positions","FINAL POSITION"]
[null,null,null,null,null,"Weighted Position","Weighted Position","Weighted Position","Weighted Position","Weighted Position","Weighted Position","Weighted Position"]
[null,1,{"$f":"IF(OR('Set UP'!$C7=0,'Set UP'!$D7=0,'Set UP'!$E7=0,'Set UP'!F7=0),\"  --\",'Set UP'!C7)","v":537},{"$f":"IF(OR('Set UP'!$C7=0,'Set UP'!$D7=0,'Set UP'!$E7=0,'Set UP'!F7=0),\"  --\",'Set UP'!D7&\" \"&'Set UP'!E7)","v":"Heanor A"},{"$f":"IF(OR('Set UP'!$C7=0,'Set UP'!$D7=0,'Set UP'!$E7=0,'Set UP'!F7=0),\" --\",'Set UP'!F7)","v":"NS"},{"$f":"IF('Wet Incident'!$BY9=\"\",\"\",'Wet Incident'!$BY9*$F$3)","v":20},{"$f":"IF('Dry Incident'!$BX9=\"\",\"\",'Dry Incident'!$BX9*$G$3)","v":60},{"$f":"IF('Extra Event'!$BX9=\"\",\"\",'Extra Event'!$BX9*$H$3)","v":18},{"$f":"IF(RopeThrow!U7=\"\",\"\",RopeThrow!U7*$I$3)","v":14},{"$f":"IF('Swim&Tow'!$U7=\"\",\"\",'Swim&Tow'!$U7*$J$3)","v":27},{"$f":"IF(Medley!$S7=\"\",\"\",Medley!$S7*$K$3)","v":4},{"$f":"IF(Obstacle!$S7=\"\",\"\",Obstacle!$S7*$L$3)","v":""},{"$f":"IF(AND(F7=\"\",G7=\"\",I7=\"\",J7=\"\",K7=\"\",H7=\"\",L7=\"\"),\"\",SUM(F7:L7))","v":143},19]
[null,2,{"$f":"IF(OR('Set UP'!$C8=0,'Set UP'!$D8=0,'Set UP'!$E8=0,'Set UP'!F8=0),\"  --\",'Set UP'!C8)","v":483},{"$f":"IF(OR('Set UP'!$C8=0,'Set UP'!$D8=0,'Set UP'!$E8=0,'Set UP'!F8=0),\"  --\",'Set UP'!D8&\" \"&'Set UP'!E8)","v":"University of Cambridge C"},{"$f":"IF(OR('Set UP'!$C8=0,'Set UP'!$D8=0,'Set UP'!$E8=0,'Set UP'!F8=0),\" --\",'Set UP'!F8)","v":"S"},{"$f":"IF('Wet Incident'!$BY10=\"\",\"\",'Wet Incident'!$BY10*$F$3)","v":58},{"$f":"IF('Dry Incident'!$BX10=\"\",\"\",'Dry Incident'!$BX10*$G$3)","v":56},{"$f":"IF('Extra Event'!$BX10=\"\",\"\",'Extra Event'!$BX10*$H$3)","v":28},{"$f":"IF(RopeThrow!U8=\"\",\"\",RopeThrow!U8*$I$3)","v":29.5},{"$f":"IF('Swim&Tow'!$U8=\"\",\"\",'Swim&Tow'!$U8*$J$3)","v":25},{"$f":"IF(Medley!$S8=\"\",\"\",Medley!$S8*$K$3)","v":25},{"$f":"IF(Obstacle!$S8=\"\",\"\",Obstacle!$S8*$L$3)","v":""},221.5,30]
[null,3,{"$f":"IF(OR('Set UP'!$C9=0,'Set UP'!$D9=0,'Set UP'!$E9=0,'Set UP'!F9=0),\"  --\",'Set UP'!C9)","v":474},{"$f":"IF(OR('Set UP'!$C9=0,'Set UP'!$D9=0,'Set UP'!$E9=0,'Set UP'!F9=0),\"  --\",'Set UP'!D9&\" \"&'Set UP'!E9)","v":"University of Cambridge B"},{"$f":"IF(OR('Set UP'!$C9=0,'Set UP'!$D9=0,'Set UP'!$E9=0,'Set UP'!F9=0),\" --\",'Set UP'!F9)","v":"S"},{"$f":"IF('Wet Incident'!$BY11=\"\",\"\",'Wet Incident'!$BY11*$F$3)","v":54},{"$f":"IF('Dry Incident'!$BX11=\"\",\"\",'Dry Incident'!$BX11*$G$3)","v":16},{"$f":"IF('Extra Event'!$BX11=\"\",\"\",'Extra Event'!$BX11*$H$3)","v":5},{"$f":"IF(RopeThrow!U9=\"\",\"\",RopeThrow!U9*$I$3)","v":25.5},{"$f":"IF('Swim&Tow'!$U9=\"\",\"\",'Swim&Tow'!$U9*$J$3)","v":21},{"$f":"IF(Medley!$S9=\"\",\"\",Medley!$S9*$K$3)","v":24},{"$f":"IF(Obstacle!$S9=\"\",\"\",Obstacle!$S9*$L$3)","v":""},145.5,20]
[null,4,{"$f":"IF(OR('Set UP'!$C10=0,'Set UP'!$D10=0,'Set UP'!$E10=0,'Set UP'!F10=0),\"  --\",'Set UP'!C10)","v":513},{"$f":"IF(OR('Set UP'!$C10=0,'Set UP'!$D10=0,'Set UP'!$E10=0,'Set UP'!F10=0),\"  --\",'Set UP'!D10&\" \"&'Set UP'!E10)","v":"University of Warwick D"},{"$f":"IF(OR('Set UP'!$C10=0,'Set UP'!$D10=0,'Set UP'!$E10=0,'Set UP'!F10=0),\" --\",'Set UP'!F10)","v":"S"},{"$f":"IF('Wet Incident'!$BY12=\"\",\"\",'Wet Incident'!$BY12*$F$3)","v":62},{"$f":"IF('Dry Incident'!$BX12=\"\",\"\",'Dry Incident'!$BX12*$G$3)","v":62},{"$f":"IF('Extra Event'!$BX12=\"\",\"\",'Extra Event'!$BX12*$H$3)","v":31},{"$f":"IF(RopeThrow!U10=\"\",\"\",RopeThrow!U10*$I$3)","v":31},{"$f":"IF('Swim&Tow'!$U10=\"\",\"\",'Swim&Tow'!$U10*$J$3)","v":27},{"$f":"IF(Medley!$S10=\"\",\"\",Medley!$S10*$K$3)","v":25},{"$f":"IF(Obstacle!$S10=\"\",\"\",Obstacle!$S10*$L$3)","v":""},238,31]
[null,5,{"$f":"IF(OR('Set UP'!$C11=0,'Set UP'!$D11=0,'Set UP'!$E11=0,'Set UP'!F11=0),\"  --\",'Set UP'!C11)","v":499},{"$f":"IF(OR('Set UP'!$C11=0,'Set UP'!$D11=0,'Set UP'!$E11=0,'Set UP'!F11=0),\"  --\",'Set UP'!D11&\" \"&'Set UP'!E11)","v":"University of St Andrews B"},{"$f":"IF(OR('Set UP'!$C11=0,'Set UP'!$D11=0,'Set UP'!$E11=0,'Set UP'!F11=0),\" --\",'Set UP'!F11)","v":"NC"},{"$f":"IF('Wet Incident'!$BY13=\"\",\"\",'Wet Incident'!$BY13*$F$3)","v":62},{"$f":"IF('Dry Incident'!$BX13=\"\",\"\",'Dry Incident'!$BX13*$G$3)","v":62},{"$f":"IF('Extra Event'!$BX13=\"\",\"\",'Extra Event'!$BX13*$H$3)","v":31},{"$f":"IF(RopeThrow!U11=\"\",\"\",RopeThrow!U11*$I$3)","v":31},{"$f":"IF('Swim&Tow'!$U11=\"\",\"\",'Swim&Tow'!$U11*$J$3)","v":27},{"$f":"IF(Medley!$S11=\"\",\"\",Medley!$S11*$K$3)","v":25},{"$f":"IF(Obstacle!$S11=\"\",\"\",Obstacle!$S11*$L$3)","v":""},238,31]
[null,6,{"$f":"IF(OR('Set UP'!$C12=0,'Set UP'!$D12=0,'Set UP'!$E12=0,'Set UP'!F12=0),\"  --\",'Set UP'!C12)","v":507},{"$f":"IF(OR('Set UP'!$C12=0,'Set UP'!$D12=0,'Set UP'!$E12=0,'Set UP'!F12=0),\"  --\",'Set UP'!D12&\" \"&'Set UP'!E12)","v":"University of Plymouth C"},{"$f":"IF(OR('Set UP'!$C12=0,'Set UP'!$D12=0,'Set UP'!$E12=0,'Set UP'!F12=0),\" --\",'Set UP'!F12)","v":"S"},{"$f":"IF('Wet Incident'!$BY14=\"\",\"\",'Wet Incident'!$BY14*$F$3)","v":48},{"$f":"IF('Dry Incident'!$BX14=\"\",\"\",'Dry Incident'!$BX14*$G$3)","v":30},{"$f":"IF('Extra Event'!$BX14=\"\",\"\",'Extra Event'!$BX14*$H$3)","v":26},{"$f":"IF(RopeThrow!U12=\"\",\"\",RopeThrow!U12*$I$3)","v":14},{"$f":"IF('Swim&Tow'!$U12=\"\",\"\",'Swim&Tow'!$U12*$J$3)","v":24},{"$f":"IF(Medley!$S12=\"\",\"\",Medley!$S12*$K$3)","v":22},{"$f":"IF(Obstacle!$S12=\"\",\"\",Obstacle!$S12*$L$3)","v":""},164,25]
[null,7,{"$f":"IF(OR('Set UP'!$C13=0,'Set UP'!$D13=0,'Set UP'!$E13=0,'Set UP'!F13=0),\"  --\",'Set UP'!C13)","v":519},{"$f":"IF(OR('Set UP'!$C13=0,'Set UP'!$D13=0,'Set UP'!$E13=0,'Set UP'!F13=0),\"  --\",'Set UP'!D13&\" \"&'Set UP'!E13)","v":"University of Aberdeen B"},{"$f":"IF(OR('Set UP'!$C13=0,'Set UP'!$D13=0,'Set UP'!$E13=0,'Set UP'!F13=0),\" --\",'Set UP'!F13)","v":"NC"},{"$f":"IF('Wet Incident'!$BY15=\"\",\"\",'Wet Incident'!$BY15*$F$3)","v":60},{"$f":"IF('Dry Incident'!$BX15=\"\",\"\",'Dry Incident'!$BX15*$G$3)","v":54},{"$f":"IF('Extra Event'!$BX15=\"\",\"\",'Extra Event'!$BX15*$H$3)","v":11},{"$f":"IF(RopeThrow!U13=\"\",\"\",RopeThrow!U13*$I$3)","v":20},{"$f":"IF('Swim&Tow'!$U13=\"\",\"\",'Swim&Tow'!$U13*$J$3)","v":27},{"$f":"IF(Medley!$S13=\"\",\"\",Medley!$S13*$K$3)","v":25},{"$f":"IF(Obstacle!$S13=\"\",\"\",Obstacle!$S13*$L$3)","v":""},197,29]
[null,8,{"$f":"IF(OR('Set UP'!$C14=0,'Set UP'!$D14=0,'Set UP'!$E14=0,'Set UP'!F14=0),\"  --\",'Set UP'!C14)","v":532},{"$f":"IF(OR('Set UP'!$C14=0,'Set UP'!$D14=0,'Set UP'!$E14=0,'Set UP'!F14=0),\"  --\",'Set UP'!D14&\" \"&'Set UP'!E14)","v":"University of London Union E"},{"$f":"IF(OR('Set UP'!$C14=0,'Set UP'!$D14=0,'Set UP'!$E14=0,'Set UP'!F14=0),\" --\",'Set UP'!F14)","v":"S"},{"$f":"IF('Wet Incident'!$BY16=\"\",\"\",'Wet Incident'!$BY16*$F$3)","v":38},{"$f":"IF('Dry Incident'!$BX16=\"\",\"\",'Dry Incident'!$BX16*$G$3)","v":48},{"$f":"IF('Extra Event'!$BX16=\"\",\"\",'Extra Event'!$BX16*$H$3)","v":9},{"$f":"IF(RopeThrow!U14=\"\",\"\",RopeThrow!U14*$I$3)","v":29.5},{"$f":"IF('Swim&Tow'!$U14=\"\",\"\",'Swim&Tow'!$U14*$J$3)","v":26},{"$f":"IF(Medley!$S14=\"\",\"\",Medley!$S14*$K$3)","v":23},{"$f":"IF(Obstacle!$S14=\"\",\"\",Obstacle!$S14*$L$3)","v":""},173.5,27]
[null,9,{"$f":"IF(OR('Set UP'!$C15=0,'Set UP'!$D15=0,'Set UP'!$E15=0,'Set UP'!F15=0),\"  --\",'Set UP'!C15)","v":530},{"$f":"IF(OR('Set UP'!$C15=0,'Set UP'!$D15=0,'Set UP'!$E15=0,'Set UP'!F15=0),\"  --\",'Set UP'!D15&\" \"&'Set UP'!E15)","v":"University of London Union C"},{"$f":"IF(OR('Set UP'!$C15=0,'Set UP'!$D15=0,'Set UP'!$E15=0,'Set UP'!F15=0),\" --\",'Set UP'!F15)","v":"S"},{"$f":"IF('Wet Incident'!$BY17=\"\",\"\",'Wet Incident'!$BY17*$F$3)","v":8},{"$f":"IF('Dry Incident'!$BX17=\"\",\"\",'Dry Incident'!$BX17*$G$3)","v":42},{"$f":"IF('Extra Event'!$BX17=\"\",\"\",'Extra Event'!$BX17*$H$3)","v":29},{"$f":"IF(RopeThrow!U15=\"\",\"\",RopeThrow!U15*$I$3)","v":25.5},{"$f":"IF('Swim&Tow'!$U15=\"\",\"\",'Swim&Tow'!$U15*$J$3)","v":23},{"$f":"IF(Medley!$S15=\"\",\"\",Medley!$S15*$K$3)","v":21},{"$f":"IF(Obstacle!$S15=\"\",\"\",Obstacle!$S15*$L$3)","v":""},148.5,21]
[null,10,{"$f":"IF(OR('Set UP'!$C16=0,'Set UP'!$D16=0,'Set UP'!$E16=0,'Set UP'!F16=0),\"  --\",'Set UP'!C16)","v":506},{"$f":"IF(OR('Set UP'!$C16=0,'Set UP'!$D16=0,'Set UP'!$E16=0,'Set UP'!F16=0),\"  --\",'Set UP'!D16&\" \"&'Set UP'!E16)","v":"University of Plymouth B"},{"$f":"IF(OR('Set UP'!$C16=0,'Set UP'!$D16=0,'Set UP'!$E16=0,'Set UP'!F16=0),\" --\",'Set UP'!F16)","v":"S"},{"$f":"IF('Wet Incident'!$BY18=\"\",\"\",'Wet Incident'!$BY18*$F$3)","v":44},{"$f":"IF('Dry Incident'!$BX18=\"\",\"\",'Dry Incident'!$BX18*$G$3)","v":44},{"$f":"IF('Extra Event'!$BX18=\"\",\"\",'Extra Event'!$BX18*$H$3)","v":24},{"$f":"IF(RopeThrow!U16=\"\",\"\",RopeThrow!U16*$I$3)","v":25.5},{"$f":"IF('Swim&Tow'!$U16=\"\",\"\",'Swim&Tow'!$U16*$J$3)","v":27},{"$f":"IF(Medley!$S16=\"\",\"\",Medley!$S16*$K$3)","v":18},{"$f":"IF(Obstacle!$S16=\"\",\"\",Obstacle!$S16*$L$3)","v":""},182.5,28]
[null,11,{"$f":"IF(OR('Set UP'!$C17=0,'Set UP'!$D17=0,'Set UP'!$E17=0,'Set UP'!F17=0),\"  --\",'Set UP'!C17)","v":518},{"$f":"IF(OR('Set UP'!$C17=0,'Set UP'!$D17=0,'Set UP'!$E17=0,'Set UP'!F17=0),\"  --\",'Set UP'!D17&\" \"&'Set UP'!E17)","v":"University of Aberdeen A"},{"$f":"IF(OR('Set UP'!$C17=0,'Set UP'!$D17=0,'Set UP'!$E17=0,'Set UP'!F17=0),\" --\",'Set UP'!F17)","v":"S"},{"$f":"IF('Wet Incident'!$BY19=\"\",\"\",'Wet Incident'!$BY19*$F$3)","v":24},{"$f":"IF('Dry Incident'!$BX19=\"\",\"\",'Dry Incident'!$BX19*$G$3)","v":20},{"$f":"IF('Extra Event'!$BX19=\"\",\"\",'Extra Event'!$BX19*$H$3)","v":23},{"$f":"IF(RopeThrow!U17=\"\",\"\",RopeThrow!U17*$I$3)","v":25.5},{"$f":"IF('Swim&Tow'!$U17=\"\",\"\",'Swim&Tow'!$U17*$J$3)","v":19},{"$f":"IF(Medley!$S17=\"\",\"\",Medley!$S17*$K$3)","v":17},{"$f":"IF(Obstacle!$S17=\"\",\"\",Obstacle!$S17*$L$3)","v":""},128.5,15]
[null,12,{"$f":"IF(OR('Set UP'!$C18=0,'Set UP'!$D18=0,'Set UP'!$E18=0,'Set UP'!F18=0),\"  --\",'Set UP'!C18)","v":538},{"$f":"IF(OR('Set UP'!$C18=0,'Set UP'!$D18=0,'Set UP'!$E18=0,'Set UP'!F18=0),\"  --\",'Set UP'!D18&\" \"&'Set UP'!E18)","v":"University of Southampton C"},{"$f":"IF(OR('Set UP'!$C18=0,'Set UP'!$D18=0,'Set UP'!$E18=0,'Set UP'!F18=0),\" --\",'Set UP'!F18)","v":"S"},{"$f":"IF('Wet Incident'!$BY20=\"\",\"\",'Wet Incident'!$BY20*$F$3)","v":42},{"$f":"IF('Dry Incident'!$BX20=\"\",\"\",'Dry Incident'!$BX20*$G$3)","v":34},{"$f":"IF('Extra Event'!$BX20=\"\",\"\",'Extra Event'!$BX20*$H$3)","v":21},{"$f":"IF(RopeThrow!U18=\"\",\"\",RopeThrow!U18*$I$3)","v":14},{"$f":"IF('Swim&Tow'!$U18=\"\",\"\",'Swim&Tow'!$U18*$J$3)","v":20},{"$f":"IF(Medley!$S18=\"\",\"\",Medley!$S18*$K$3)","v":20},{"$f":"IF(Obstacle!$S18=\"\",\"\",Obstacle!$S18*$L$3)","v":""},151,22]
[null,13,{"$f":"IF(OR('Set UP'!$C19=0,'Set UP'!$D19=0,'Set UP'!$E19=0,'Set UP'!F19=0),\"  --\",'Set UP'!C19)","v":515},{"$f":"IF(OR('Set UP'!$C19=0,'Set UP'!$D19=0,'Set UP'!$E19=0,'Set UP'!F19=0),\"  --\",'Set UP'!D19&\" \"&'Set UP'!E19)","v":"Loughborough University C"},{"$f":"IF(OR('Set UP'!$C19=0,'Set UP'!$D19=0,'Set UP'!$E19=0,'Set UP'!F19=0),\" --\",'Set UP'!F19)","v":"S"},{"$f":"IF('Wet Incident'!$BY21=\"\",\"\",'Wet Incident'!$BY21*$F$3)","v":34},{"$f":"IF('Dry Incident'!$BX21=\"\",\"\",'Dry Incident'!$BX21*$G$3)","v":40},{"$f":"IF('Extra Event'!$BX21=\"\",\"\",'Extra Event'!$BX21*$H$3)","v":15},{"$f":"IF(RopeThrow!U19=\"\",\"\",RopeThrow!U19*$I$3)","v":25.5},{"$f":"IF('Swim&Tow'!$U19=\"\",\"\",'Swim&Tow'!$U19*$J$3)","v":27},{"$f":"IF(Medley!$S19=\"\",\"\",Medley!$S19*$K$3)","v":16},{"$f":"IF(Obstacle!$S19=\"\",\"\",Obstacle!$S19*$L$3)","v":""},157.5,24]
[null,14,{"$f":"IF(OR('Set UP'!$C20=0,'Set UP'!$D20=0,'Set UP'!$E20=0,'Set UP'!F20=0),\"  --\",'Set UP'!C20)","v":520},{"$f":"IF(OR('Set UP'!$C20=0,'Set UP'!$D20=0,'Set UP'!$E20=0,'Set UP'!F20=0),\"  --\",'Set UP'!D20&\" \"&'Set UP'!E20)","v":"Loughborough University D"},{"$f":"IF(OR('Set UP'!$C20=0,'Set UP'!$D20=0,'Set UP'!$E20=0,'Set UP'!F20=0),\" --\",'Set UP'!F20)","v":"NS"},{"$f":"IF('Wet Incident'!$BY22=\"\",\"\",'Wet Incident'!$BY22*$F$3)","v":46},{"$f":"IF('Dry Incident'!$BX22=\"\",\"\",'Dry Incident'!$BX22*$G$3)","v":50},{"$f":"IF('Extra Event'!$BX22=\"\",\"\",'Extra Event'!$BX22*$H$3)","v":27},{"$f":"IF(RopeThrow!U20=\"\",\"\",RopeThrow!U20*$I$3)","v":20},{"$f":"IF('Swim&Tow'!$U20=\"\",\"\",'Swim&Tow'!$U20*$J$3)","v":13},{"$f":"IF(Medley!$S20=\"\",\"\",Medley!$S20*$K$3)","v":9},{"$f":"IF(Obstacle!$S20=\"\",\"\",Obstacle!$S20*$L$3)","v":""},165,26]
[null,15,{"$f":"IF(OR('Set UP'!$C21=0,'Set UP'!$D21=0,'Set UP'!$E21=0,'Set UP'!F21=0),\"  --\",'Set UP'!C21)","v":512},{"$f":"IF(OR('Set UP'!$C21=0,'Set UP'!$D21=0,'Set UP'!$E21=0,'Set UP'!F21=0),\"  --\",'Set UP'!D21&\" \"&'Set UP'!E21)","v":"University of Warwick C"},{"$f":"IF(OR('Set UP'!$C21=0,'Set UP'!$D21=0,'Set UP'!$E21=0,'Set UP'!F21=0),\" --\",'Set UP'!F21)","v":"NC"},{"$f":"IF('Wet Incident'!$BY23=\"\",\"\",'Wet Incident'!$BY23*$F$3)","v":36},{"$f":"IF('Dry Incident'!$BX23=\"\",\"\",'Dry Incident'!$BX23*$G$3)","v":14},{"$f":"IF('Extra Event'!$BX23=\"\",\"\",'Extra Event'!$BX23*$H$3)","v":9},{"$f":"IF(RopeThrow!U21=\"\",\"\",RopeThrow!U21*$I$3)","v":25.5},{"$f":"IF('Swim&Tow'!$U21=\"\",\"\",'Swim&Tow'!$U21*$J$3)","v":22},{"$f":"IF(Medley!$S21=\"\",\"\",Medley!$S21*$K$3)","v":25},{"$f":"IF(Obstacle!$S21=\"\",\"\",Obstacle!$S21*$L$3)","v":""},131.5,16]
[null,16,{"$f":"IF(OR('Set UP'!$C22=0,'Set UP'!$D22=0,'Set UP'!$E22=0,'Set UP'!F22=0),\"  --\",'Set UP'!C22)","v":531},{"$f":"IF(OR('Set UP'!$C22=0,'Set UP'!$D22=0,'Set UP'!$E22=0,'Set UP'!F22=0),\"  --\",'Set UP'!D22&\" \"&'Set UP'!E22)","v":"University of London Union D"},{"$f":"IF(OR('Set UP'!$C22=0,'Set UP'!$D22=0,'Set UP'!$E22=0,'Set UP'!F22=0),\" --\",'Set UP'!F22)","v":"NC"},{"$f":"IF('Wet Incident'!$BY24=\"\",\"\",'Wet Incident'!$BY24*$F$3)","v":16},{"$f":"IF('Dry Incident'!$BX24=\"\",\"\",'Dry Incident'!$BX24*$G$3)","v":12},{"$f":"IF('Extra Event'!$BX24=\"\",\"\",'Extra Event'!$BX24*$H$3)","v":4},{"$f":"IF(RopeThrow!U22=\"\",\"\",RopeThrow!U22*$I$3)","v":3},{"$f":"IF('Swim&Tow'!$U22=\"\",\"\",'Swim&Tow'!$U22*$J$3)","v":7},{"$f":"IF(Medley!$S22=\"\",\"\",Medley!$S22*$K$3)","v":8},{"$f":"IF(Obstacle!$S22=\"\",\"\",Obstacle!$S22*$L$3)","v":""},50,2]
[null,17,{"$f":"IF(OR('Set UP'!$C23=0,'Set UP'!$D23=0,'Set UP'!$E23=0,'Set UP'!F23=0),\"  --\",'Set UP'!C23)","v":471},{"$f":"IF(OR('Set UP'!$C23=0,'Set UP'!$D23=0,'Set UP'!$E23=0,'Set UP'!F23=0),\"  --\",'Set UP'!D23&\" \"&'Set UP'!E23)","v":"University of Cambridge A"},{"$f":"IF(OR('Set UP'!$C23=0,'Set UP'!$D23=0,'Set UP'!$E23=0,'Set UP'!F23=0),\" --\",'Set UP'!F23)","v":"S"},{"$f":"IF('Wet Incident'!$BY25=\"\",\"\",'Wet Incident'!$BY25*$F$3)","v":4},{"$f":"IF('Dry Incident'!$BX25=\"\",\"\",'Dry Incident'!$BX25*$G$3)","v":24},{"$f":"IF('Extra Event'!$BX25=\"\",\"\",'Extra Event'!$BX25*$H$3)","v":13},{"$f":"IF(RopeThrow!U23=\"\",\"\",RopeThrow!U23*$I$3)","v":14},{"$f":"IF('Swim&Tow'!$U23=\"\",\"\",'Swim&Tow'!$U23*$J$3)","v":11},{"$f":"IF(Medley!$S23=\"\",\"\",Medley!$S23*$K$3)","v":25},{"$f":"IF(Obstacle!$S23=\"\",\"\",Obstacle!$S23*$L$3)","v":""},91,9]
[null,18,{"$f":"IF(OR('Set UP'!$C24=0,'Set UP'!$D24=0,'Set UP'!$E24=0,'Set UP'!F24=0),\"  --\",'Set UP'!C24)","v":522},{"$f":"IF(OR('Set UP'!$C24=0,'Set UP'!$D24=0,'Set UP'!$E24=0,'Set UP'!F24=0),\"  --\",'Set UP'!D24&\" \"&'Set UP'!E24)","v":"University of Birmingham B"},{"$f":"IF(OR('Set UP'!$C24=0,'Set UP'!$D24=0,'Set UP'!$E24=0,'Set UP'!F24=0),\" --\",'Set UP'!F24)","v":"S"},{"$f":"IF('Wet Incident'!$BY26=\"\",\"\",'Wet Incident'!$BY26*$F$3)","v":26},{"$f":"IF('Dry Incident'!$BX26=\"\",\"\",'Dry Incident'!$BX26*$G$3)","v":26},{"$f":"IF('Extra Event'!$BX26=\"\",\"\",'Extra Event'!$BX26*$H$3)","v":7},{"$f":"IF(RopeThrow!U24=\"\",\"\",RopeThrow!U24*$I$3)","v":14},{"$f":"IF('Swim&Tow'!$U24=\"\",\"\",'Swim&Tow'!$U24*$J$3)","v":16},{"$f":"IF(Medley!$S24=\"\",\"\",Medley!$S24*$K$3)","v":15},{"$f":"IF(Obstacle!$S24=\"\",\"\",Obstacle!$S24*$L$3)","v":""},104,11]
[null,19,{"$f":"IF(OR('Set UP'!$C25=0,'Set UP'!$D25=0,'Set UP'!$E25=0,'Set UP'!F25=0),\"  --\",'Set UP'!C25)","v":498},{"$f":"IF(OR('Set UP'!$C25=0,'Set UP'!$D25=0,'Set UP'!$E25=0,'Set UP'!F25=0),\"  --\",'Set UP'!D25&\" \"&'Set UP'!E25)","v":"University of St Andrews A"},{"$f":"IF(OR('Set UP'!$C25=0,'Set UP'!$D25=0,'Set UP'!$E25=0,'Set UP'!F25=0),\" --\",'Set UP'!F25)","v":"S"},{"$f":"IF('Wet Incident'!$BY27=\"\",\"\",'Wet Incident'!$BY27*$F$3)","v":30},{"$f":"IF('Dry Incident'!$BX27=\"\",\"\",'Dry Incident'!$BX27*$G$3)","v":4},{"$f":"IF('Extra Event'!$BX27=\"\",\"\",'Extra Event'!$BX27*$H$3)","v":5},{"$f":"IF(RopeThrow!U25=\"\",\"\",RopeThrow!U25*$I$3)","v":10},{"$f":"IF('Swim&Tow'!$U25=\"\",\"\",'Swim&Tow'!$U25*$J$3)","v":17},{"$f":"IF(Medley!$S25=\"\",\"\",Medley!$S25*$K$3)","v":13},{"$f":"IF(Obstacle!$S25=\"\",\"\",Obstacle!$S25*$L$3)","v":""},79,6]
[null,20,{"$f":"IF(OR('Set UP'!$C26=0,'Set UP'!$D26=0,'Set UP'!$E26=0,'Set UP'!F26=0),\"  --\",'Set UP'!C26)","v":535},{"$f":"IF(OR('Set UP'!$C26=0,'Set UP'!$D26=0,'Set UP'!$E26=0,'Set UP'!F26=0),\"  --\",'Set UP'!D26&\" \"&'Set UP'!E26)","v":"University of Birmingham A"},{"$f":"IF(OR('Set UP'!$C26=0,'Set UP'!$D26=0,'Set UP'!$E26=0,'Set UP'!F26=0),\" --\",'Set UP'!F26)","v":"S"},{"$f":"IF('Wet Incident'!$BY28=\"\",\"\",'Wet Incident'!$BY28*$F$3)","v":2},{"$f":"IF('Dry Incident'!$BX28=\"\",\"\",'Dry Incident'!$BX28*$G$3)","v":28},{"$f":"IF('Extra Event'!$BX28=\"\",\"\",'Extra Event'!$BX28*$H$3)","v":14},{"$f":"IF(RopeThrow!U26=\"\",\"\",RopeThrow!U26*$I$3)","v":20},{"$f":"IF('Swim&Tow'!$U26=\"\",\"\",'Swim&Tow'!$U26*$J$3)","v":15},{"$f":"IF(Medley!$S26=\"\",\"\",Medley!$S26*$K$3)","v":10},{"$f":"IF(Obstacle!$S26=\"\",\"\",Obstacle!$S26*$L$3)","v":""},89,8]
[null,21,{"$f":"IF(OR('Set UP'!$C27=0,'Set UP'!$D27=0,'Set UP'!$E27=0,'Set UP'!F27=0),\"  --\",'Set UP'!C27)","v":508},{"$f":"IF(OR('Set UP'!$C27=0,'Set UP'!$D27=0,'Set UP'!$E27=0,'Set UP'!F27=0),\"  --\",'Set UP'!D27&\" \"&'Set UP'!E27)","v":"University of Nottingham A"},{"$f":"IF(OR('Set UP'!$C27=0,'Set UP'!$D27=0,'Set UP'!$E27=0,'Set UP'!F27=0),\" --\",'Set UP'!F27)","v":"S"},{"$f":"IF('Wet Incident'!$BY29=\"\",\"\",'Wet Incident'!$BY29*$F$3)","v":14},{"$f":"IF('Dry Incident'!$BX29=\"\",\"\",'Dry Incident'!$BX29*$G$3)","v":18},{"$f":"IF('Extra Event'!$BX29=\"\",\"\",'Extra Event'!$BX29*$H$3)","v":19},{"$f":"IF(RopeThrow!U27=\"\",\"\",RopeThrow!U27*$I$3)","v":2},{"$f":"IF('Swim&Tow'!$U27=\"\",\"\",'Swim&Tow'!$U27*$J$3)","v":6},{"$f":"IF(Medley!$S27=\"\",\"\",Medley!$S27*$K$3)","v":6},{"$f":"IF(Obstacle!$S27=\"\",\"\",Obstacle!$S27*$L$3)","v":""},65,4]
[null,22,{"$f":"IF(OR('Set UP'!$C28=0,'Set UP'!$D28=0,'Set UP'!$E28=0,'Set UP'!F28=0),\"  --\",'Set UP'!C28)","v":528},{"$f":"IF(OR('Set UP'!$C28=0,'Set UP'!$D28=0,'Set UP'!$E28=0,'Set UP'!F28=0),\"  --\",'Set UP'!D28&\" \"&'Set UP'!E28)","v":"University of London Union B"},{"$f":"IF(OR('Set UP'!$C28=0,'Set UP'!$D28=0,'Set UP'!$E28=0,'Set UP'!F28=0),\" --\",'Set UP'!F28)","v":"S"},{"$f":"IF('Wet Incident'!$BY30=\"\",\"\",'Wet Incident'!$BY30*$F$3)","v":22},{"$f":"IF('Dry Incident'!$BX30=\"\",\"\",'Dry Incident'!$BX30*$G$3)","v":52},{"$f":"IF('Extra Event'!$BX30=\"\",\"\",'Extra Event'!$BX30*$H$3)","v":8},{"$f":"IF(RopeThrow!U28=\"\",\"\",RopeThrow!U28*$I$3)","v":8},{"$f":"IF('Swim&Tow'!$U28=\"\",\"\",'Swim&Tow'!$U28*$J$3)","v":10},{"$f":"IF(Medley!$S28=\"\",\"\",Medley!$S28*$K$3)","v":14},{"$f":"IF(Obstacle!$S28=\"\",\"\",Obstacle!$S28*$L$3)","v":""},114,13]
[null,23,{"$f":"IF(OR('Set UP'!$C29=0,'Set UP'!$D29=0,'Set UP'!$E29=0,'Set UP'!F29=0),\"  --\",'Set UP'!C29)","v":511},{"$f":"IF(OR('Set UP'!$C29=0,'Set UP'!$D29=0,'Set UP'!$E29=0,'Set UP'!F29=0),\"  --\",'Set UP'!D29&\" \"&'Set UP'!E29)","v":"University of Warwick B"},{"$f":"IF(OR('Set UP'!$C29=0,'Set UP'!$D29=0,'Set UP'!$E29=0,'Set UP'!F29=0),\" --\",'Set UP'!F29)","v":"S"},{"$f":"IF('Wet Incident'!$BY31=\"\",\"\",'Wet Incident'!$BY31*$F$3)","v":12},{"$f":"IF('Dry Incident'!$BX31=\"\",\"\",'Dry Incident'!$BX31*$G$3)","v":32},{"$f":"IF('Extra Event'!$BX31=\"\",\"\",'Extra Event'!$BX31*$H$3)","v":19},{"$f":"IF(RopeThrow!U29=\"\",\"\",RopeThrow!U29*$I$3)","v":9},{"$f":"IF('Swim&Tow'!$U29=\"\",\"\",'Swim&Tow'!$U29*$J$3)","v":14},{"$f":"IF(Medley!$S29=\"\",\"\",Medley!$S29*$K$3)","v":25},{"$f":"IF(Obstacle!$S29=\"\",\"\",Obstacle!$S29*$L$3)","v":""},111,12]
[null,24,{"$f":"IF(OR('Set UP'!$C30=0,'Set UP'!$D30=0,'Set UP'!$E30=0,'Set UP'!F30=0),\"  --\",'Set UP'!C30)","v":509},{"$f":"IF(OR('Set UP'!$C30=0,'Set UP'!$D30=0,'Set UP'!$E30=0,'Set UP'!F30=0),\"  --\",'Set UP'!D30&\" \"&'Set UP'!E30)","v":"University of Nottingham B"},{"$f":"IF(OR('Set UP'!$C30=0,'Set UP'!$D30=0,'Set UP'!$E30=0,'Set UP'!F30=0),\" --\",'Set UP'!F30)","v":"S"},{"$f":"IF('Wet Incident'!$BY32=\"\",\"\",'Wet Incident'!$BY32*$F$3)","v":48},{"$f":"IF('Dry Incident'!$BX32=\"\",\"\",'Dry Incident'!$BX32*$G$3)","v":6},{"$f":"IF('Extra Event'!$BX32=\"\",\"\",'Extra Event'!$BX32*$H$3)","v":16},{"$f":"IF(RopeThrow!U30=\"\",\"\",RopeThrow!U30*$I$3)","v":20},{"$f":"IF('Swim&Tow'!$U30=\"\",\"\",'Swim&Tow'!$U30*$J$3)","v":18},{"$f":"IF(Medley!$S30=\"\",\"\",Medley!$S30*$K$3)","v":19},{"$f":"IF(Obstacle!$S30=\"\",\"\",Obstacle!$S30*$L$3)","v":""},127,14]
[null,25,{"$f":"IF(OR('Set UP'!$C31=0,'Set UP'!$D31=0,'Set UP'!$E31=0,'Set UP'!F31=0),\"  --\",'Set UP'!C31)","v":517},{"$f":"IF(OR('Set UP'!$C31=0,'Set UP'!$D31=0,'Set UP'!$E31=0,'Set UP'!F31=0),\"  --\",'Set UP'!D31&\" \"&'Set UP'!E31)","v":"Loughborough University B"},{"$f":"IF(OR('Set UP'!$C31=0,'Set UP'!$D31=0,'Set UP'!$E31=0,'Set UP'!F31=0),\" --\",'Set UP'!F31)","v":"S"},{"$f":"IF('Wet Incident'!$BY33=\"\",\"\",'Wet Incident'!$BY33*$F$3)","v":32},{"$f":"IF('Dry Incident'!$BX33=\"\",\"\",'Dry Incident'!$BX33*$G$3)","v":36},{"$f":"IF('Extra Event'!$BX33=\"\",\"\",'Extra Event'!$BX33*$H$3)","v":25},{"$f":"IF(RopeThrow!U31=\"\",\"\",RopeThrow!U31*$I$3)","v":14},{"$f":"IF('Swim&Tow'!$U31=\"\",\"\",'Swim&Tow'!$U31*$J$3)","v":5},{"$f":"IF(Medley!$S31=\"\",\"\",Medley!$S31*$K$3)","v":25},{"$f":"IF(Obstacle!$S31=\"\",\"\",Obstacle!$S31*$L$3)","v":""},137,18]
[null,26,{"$f":"IF(OR('Set UP'!$C32=0,'Set UP'!$D32=0,'Set UP'!$E32=0,'Set UP'!F32=0),\"  --\",'Set UP'!C32)","v":534},{"$f":"IF(OR('Set UP'!$C32=0,'Set UP'!$D32=0,'Set UP'!$E32=0,'Set UP'!F32=0),\"  --\",'Set UP'!D32&\" \"&'Set UP'!E32)","v":"University of Southampton B"},{"$f":"IF(OR('Set UP'!$C32=0,'Set UP'!$D32=0,'Set UP'!$E32=0,'Set UP'!F32=0),\" --\",'Set UP'!F32)","v":"S"},{"$f":"IF('Wet Incident'!$BY34=\"\",\"\",'Wet Incident'!$BY34*$F$3)","v":28},{"$f":"IF('Dry Incident'!$BX34=\"\",\"\",'Dry Incident'!$BX34*$G$3)","v":38},{"$f":"IF('Extra Event'!$BX34=\"\",\"\",'Extra Event'!$BX34*$H$3)","v":3},{"$f":"IF(RopeThrow!U32=\"\",\"\",RopeThrow!U32*$I$3)","v":5},{"$f":"IF('Swim&Tow'!$U32=\"\",\"\",'Swim&Tow'!$U32*$J$3)","v":3},{"$f":"IF(Medley!$S32=\"\",\"\",Medley!$S32*$K$3)","v":3},{"$f":"IF(Obstacle!$S32=\"\",\"\",Obstacle!$S32*$L$3)","v":""},80,7]
[null,27,{"$f":"IF(OR('Set UP'!$C33=0,'Set UP'!$D33=0,'Set UP'!$E33=0,'Set UP'!F33=0),\"  --\",'Set UP'!C33)","v":479},{"$f":"IF(OR('Set UP'!$C33=0,'Set UP'!$D33=0,'Set UP'!$E33=0,'Set UP'!F33=0),\"  --\",'Set UP'!D33&\" \"&'Set UP'!E33)","v":"Loughborough University A"},{"$f":"IF(OR('Set UP'!$C33=0,'Set UP'!$D33=0,'Set UP'!$E33=0,'Set UP'!F33=0),\" --\",'Set UP'!F33)","v":"S"},{"$f":"IF('Wet Incident'!$BY35=\"\",\"\",'Wet Incident'!$BY35*$F$3)","v":52},{"$f":"IF('Dry Incident'!$BX35=\"\",\"\",'Dry Incident'!$BX35*$G$3)","v":22},{"$f":"IF('Extra Event'!$BX35=\"\",\"\",'Extra Event'!$BX35*$H$3)","v":12},{"$f":"IF(RopeThrow!U33=\"\",\"\",RopeThrow!U33*$I$3)","v":6},{"$f":"IF('Swim&Tow'!$U33=\"\",\"\",'Swim&Tow'!$U33*$J$3)","v":2},{"$f":"IF(Medley!$S33=\"\",\"\",Medley!$S33*$K$3)","v":2},{"$f":"IF(Obstacle!$S33=\"\",\"\",Obstacle!$S33*$L$3)","v":""},96,10]
[null,28,{"$f":"IF(OR('Set UP'!$C34=0,'Set UP'!$D34=0,'Set UP'!$E34=0,'Set UP'!F34=0),\"  --\",'Set UP'!C34)","v":545},{"$f":"IF(OR('Set UP'!$C34=0,'Set UP'!$D34=0,'Set UP'!$E34=0,'Set UP'!F34=0),\"  --\",'Set UP'!D34&\" \"&'Set UP'!E34)","v":"Colwick Park A"},{"$f":"IF(OR('Set UP'!$C34=0,'Set UP'!$D34=0,'Set UP'!$E34=0,'Set UP'!F34=0),\" --\",'Set UP'!F34)","v":"NS"},{"$f":"IF('Wet Incident'!$BY36=\"\",\"\",'Wet Incident'!$BY36*$F$3)","v":40},{"$f":"IF('Dry Incident'!$BX36=\"\",\"\",'Dry Incident'!$BX36*$G$3)","v":58},{"$f":"IF('Extra Event'!$BX36=\"\",\"\",'Extra Event'!$BX36*$H$3)","v":17},{"$f":"IF(RopeThrow!U34=\"\",\"\",RopeThrow!U34*$I$3)","v":1},{"$f":"IF('Swim&Tow'!$U34=\"\",\"\",'Swim&Tow'!$U34*$J$3)","v":4},{"$f":"IF(Medley!$S34=\"\",\"\",Medley!$S34*$K$3)","v":12},{"$f":"IF(Obstacle!$S34=\"\",\"\",Obstacle!$S34*$L$3)","v":""},132,17]
[null,29,{"$f":"IF(OR('Set UP'!$C35=0,'Set UP'!$D35=0,'Set UP'!$E35=0,'Set UP'!F35=0),\"  --\",'Set UP'!C35)","v":533},{"$f":"IF(OR('Set UP'!$C35=0,'Set UP'!$D35=0,'Set UP'!$E35=0,'Set UP'!F35=0),\"  --\",'Set UP'!D35&\" \"&'Set UP'!E35)","v":"University of Southampton A"},{"$f":"IF(OR('Set UP'!$C35=0,'Set UP'!$D35=0,'Set UP'!$E35=0,'Set UP'!F35=0),\" --\",'Set UP'!F35)","v":"S"},{"$f":"IF('Wet Incident'!$BY37=\"\",\"\",'Wet Incident'!$BY37*$F$3)","v":10},{"$f":"IF('Dry Incident'!$BX37=\"\",\"\",'Dry Incident'!$BX37*$G$3)","v":6},{"$f":"IF('Extra Event'!$BX37=\"\",\"\",'Extra Event'!$BX37*$H$3)","v":1},{"$f":"IF(RopeThrow!U35=\"\",\"\",RopeThrow!U35*$I$3)","v":4},{"$f":"IF('Swim&Tow'!$U35=\"\",\"\",'Swim&Tow'!$U35*$J$3)","v":1},{"$f":"IF(Medley!$S35=\"\",\"\",Medley!$S35*$K$3)","v":1},{"$f":"IF(Obstacle!$S35=\"\",\"\",Obstacle!$S35*$L$3)","v":""},23,1]
[null,30,{"$f":"IF(OR('Set UP'!$C36=0,'Set UP'!$D36=0,'Set UP'!$E36=0,'Set UP'!F36=0),\"  --\",'Set UP'!C36)","v":523},{"$f":"IF(OR('Set UP'!$C36=0,'Set UP'!$D36=0,'Set UP'!$E36=0,'Set UP'!F36=0),\"  --\",'Set UP'!D36&\" \"&'Set UP'!E36)","v":"University of London Union A"},{"$f":"IF(OR('Set UP'!$C36=0,'Set UP'!$D36=0,'Set UP'!$E36=0,'Set UP'!F36=0),\" --\",'Set UP'!F36)","v":"S"},{"$f":"IF('Wet Incident'!$BY38=\"\",\"\",'Wet Incident'!$BY38*$F$3)","v":18},{"$f":"IF('Dry Incident'!$BX38=\"\",\"\",'Dry Incident'!$BX38*$G$3)","v":2},{"$f":"IF('Extra Event'!$BX38=\"\",\"\",'Extra Event'!$BX38*$H$3)","v":2},{"$f":"IF(RopeThrow!U36=\"\",\"\",RopeThrow!U36*$I$3)","v":14},{"$f":"IF('Swim&Tow'!$U36=\"\",\"\",'Swim&Tow'!$U36*$J$3)","v":12},{"$f":"IF(Medley!$S36=\"\",\"\",Medley!$S36*$K$3)","v":5},{"$f":"IF(Obstacle!$S36=\"\",\"\",Obstacle!$S36*$L$3)","v":""},53,3]
[null,31,{"$f":"IF(OR('Set UP'!$C37=0,'Set UP'!$D37=0,'Set UP'!$E37=0,'Set UP'!F37=0),\"  --\",'Set UP'!C37)","v":505},{"$f":"IF(OR('Set UP'!$C37=0,'Set UP'!$D37=0,'Set UP'!$E37=0,'Set UP'!F37=0),\"  --\",'Set UP'!D37&\" \"&'Set UP'!E37)","v":"University of Plymouth A"},{"$f":"IF(OR('Set UP'!$C37=0,'Set UP'!$D37=0,'Set UP'!$E37=0,'Set UP'!F37=0),\" --\",'Set UP'!F37)","v":"S"},{"$f":"IF('Wet Incident'!$BY39=\"\",\"\",'Wet Incident'!$BY39*$F$3)","v":54},{"$f":"IF('Dry Incident'!$BX39=\"\",\"\",'Dry Incident'!$BX39*$G$3)","v":46},{"$f":"IF('Extra Event'!$BX39=\"\",\"\",'Extra Event'!$BX39*$H$3)","v":21},{"$f":"IF(RopeThrow!U37=\"\",\"\",RopeThrow!U37*$I$3)","v":20},{"$f":"IF('Swim&Tow'!$U37=\"\",\"\",'Swim&Tow'!$U37*$J$3)","v":9},{"$f":"IF(Medley!$S37=\"\",\"\",Medley!$S37*$K$3)","v":7},{"$f":"IF(Obstacle!$S37=\"\",\"\",Obstacle!$S37*$L$3)","v":""},157,23]
[null,32,{"$f":"IF(OR('Set UP'!$C38=0,'Set UP'!$D38=0,'Set UP'!$E38=0,'Set UP'!F38=0),\"  --\",'Set UP'!C38)","v":510},{"$f":"IF(OR('Set UP'!$C38=0,'Set UP'!$D38=0,'Set UP'!$E38=0,'Set UP'!F38=0),\"  --\",'Set UP'!D38&\" \"&'Set UP'!E38)","v":"University of Warwick A"},{"$f":"IF(OR('Set UP'!$C38=0,'Set UP'!$D38=0,'Set UP'!$E38=0,'Set UP'!F38=0),\" --\",'Set UP'!F38)","v":"S"},{"$f":"IF('Wet Incident'!$BY40=\"\",\"\",'Wet Incident'!$BY40*$F$3)","v":6},{"$f":"IF('Dry Incident'!$BX40=\"\",\"\",'Dry Incident'!$BX40*$G$3)","v":6},{"$f":"IF('Extra Event'!$BX40=\"\",\"\",'Extra Event'!$BX40*$H$3)","v":30},{"$f":"IF(RopeThrow!U38=\"\",\"\",RopeThrow!U38*$I$3)","v":7},{"$f":"IF('Swim&Tow'!$U38=\"\",\"\",'Swim&Tow'!$U38*$J$3)","v":8},{"$f":"IF(Medley!$S38=\"\",\"\",Medley!$S38*$K$3)","v":11},{"$f":"IF(Obstacle!$S38=\"\",\"\",Obstacle!$S38*$L$3)","v":""},68,5]
[null,33,{"$f":"IF(OR('Set UP'!$C39=0,'Set UP'!$D39=0,'Set UP'!$E39=0,'Set UP'!F39=0),\"  --\",'Set UP'!C39)","v":"  --"},{"$f":"IF(OR('Set UP'!$C39=0,'Set UP'!$D39=0,'Set UP'!$E39=0,'Set UP'!F39=0),\"  --\",'Set UP'!D39&\" \"&'Set UP'!E39)","v":"  --"},{"$f":"IF(OR('Set UP'!$C39=0,'Set UP'!$D39=0,'Set UP'!$E39=0,'Set UP'!F39=0),\" --\",'Set UP'!F39)","v":" --"},{"$f":"IF('Wet Incident'!$BY41=\"\",\"\",'Wet Incident'!$BY41*$F$3)","v":""},{"$f":"IF('Dry Incident'!$BX41=\"\",\"\",'Dry Incident'!$BX41*$G$3)","v":""},{"$f":"IF('Extra Event'!$BX41=\"\",\"\",'Extra Event'!$BX41*$H$3)","v":""},{"$f":"IF(RopeThrow!U39=\"\",\"\",RopeThrow!U39*$I$3)","v":""},{"$f":"IF('Swim&Tow'!$U39=\"\",\"\",'Swim&Tow'!$U39*$J$3)","v":""},{"$f":"IF(Medley!$S39=\"\",\"\",Medley!$S39*$K$3)","v":""},{"$f":"IF(Obstacle!$S39=\"\",\"\",Obstacle!$S39*$L$3)","v":""},""]
[null,34,{"$f":"IF(OR('Set UP'!$C40=0,'Set UP'!$D40=0,'Set UP'!$E40=0,'Set UP'!F40=0),\"  --\",'Set UP'!C40)","v":"  --"},{"$f":"IF(OR('Set UP'!$C40=0,'Set UP'!$D40=0,'Set UP'!$E40=0,'Set UP'!F40=0),\"  --\",'Set UP'!D40&\" \"&'Set UP'!E40)","v":"  --"},{"$f":"IF(OR('Set UP'!$C40=0,'Set UP'!$D40=0,'Set UP'!$E40=0,'Set UP'!F40=0),\" --\",'Set UP'!F40)","v":" --"},{"$f":"IF('Wet Incident'!$BY42=\"\",\"\",'Wet Incident'!$BY42*$F$3)","v":""},{"$f":"IF('Dry Incident'!$BX42=\"\",\"\",'Dry Incident'!$BX42*$G$3)","v":""},{"$f":"IF('Extra Event'!$BX42=\"\",\"\",'Extra Event'!$BX42*$H$3)","v":""},{"$f":"IF(RopeThrow!U40=\"\",\"\",RopeThrow!U40*$I$3)","v":""},{"$f":"IF('Swim&Tow'!$U40=\"\",\"\",'Swim&Tow'!$U40*$J$3)","v":""},{"$f":"IF(Medley!$S40=\"\",\"\",Medley!$S40*$K$3)","v":""},{"$f":"IF(Obstacle!$S40=\"\",\"\",Obstacle!$S40*$L$3)","v":""},""]
[null,35,{"$f":"IF(OR('Set UP'!$C41=0,'Set UP'!$D41=0,'Set UP'!$E41=0,'Set UP'!F41=0),\"  --\",'Set UP'!C41)","v":"  --"},{"$f":"IF(OR('Set UP'!$C41=0,'Set UP'!$D41=0,'Set UP'!$E41=0,'Set UP'!F41=0),\"  --\",'Set UP'!D41&\" \"&'Set UP'!E41)","v":"  --"},{"$f":"IF(OR('Set UP'!$C41=0,'Set UP'!$D41=0,'Set UP'!$E41=0,'Set UP'!F41=0),\" --\",'Set UP'!F41)","v":" --"},{"$f":"IF('Wet Incident'!$BY43=\"\",\"\",'Wet Incident'!$BY43*$F$3)","v":""},{"$f":"IF('Dry Incident'!$BX43=\"\",\"\",'Dry Incident'!$BX43*$G$3)","v":""},{"$f":"IF('Extra Event'!$BX43=\"\",\"\",'Extra Event'!$BX43*$H$3)","v":""},{"$f":"IF(RopeThrow!U41=\"\",\"\",RopeThrow!U41*$I$3)","v":""},{"$f":"IF('Swim&Tow'!$U41=\"\",\"\",'Swim&Tow'!$U41*$J$3)","v":""},{"$f":"IF(Medley!$S41=\"\",\"\",Medley!$S41*$K$3)","v":""},{"$f":"IF(Obstacle!$S41=\"\",\"\",Obstacle!$S41*$L$3)","v":""},""]
[null,36,{"$f":"IF(OR('Set UP'!$C42=0,'Set UP'!$D42=0,'Set UP'!$E42=0,'Set UP'!F42=0),\"  --\",'Set UP'!C42)","v":"  --"},{"$f":"IF(OR('Set UP'!$C42=0,'Set UP'!$D42=0,'Set UP'!$E42=0,'Set UP'!F42=0),\"  --\",'Set UP'!D42&\" \"&'Set UP'!E42)","v":"  --"},{"$f":"IF(OR('Set UP'!$C42=0,'Set UP'!$D42=0,'Set UP'!$E42=0,'Set UP'!F42=0),\" --\",'Set UP'!F42)","v":" --"},{"$f":"IF('Wet Incident'!$BY44=\"\",\"\",'Wet Incident'!$BY44*$F$3)","v":""},{"$f":"IF('Dry Incident'!$BX44=\"\",\"\",'Dry Incident'!$BX44*$G$3)","v":""},{"$f":"IF('Extra Event'!$BX44=\"\",\"\",'Extra Event'!$BX44*$H$3)","v":""},{"$f":"IF(RopeThrow!U42=\"\",\"\",RopeThrow!U42*$I$3)","v":""},{"$f":"IF('Swim&Tow'!$U42=\"\",\"\",'Swim&Tow'!$U42*$J$3)","v":""},{"$f":"IF(Medley!$S42=\"\",\"\",Medley!$S42*$K$3)","v":""},{"$f":"IF(Obstacle!$S42=\"\",\"\",Obstacle!$S42*$L$3)","v":""},""]
[null,37,{"$f":"IF(OR('Set UP'!$C43=0,'Set UP'!$D43=0,'Set UP'!$E43=0,'Set UP'!F43=0),\"  --\",'Set UP'!C43)","v":"  --"},{"$f":"IF(OR('Set UP'!$C43=0,'Set UP'!$D43=0,'Set UP'!$E43=0,'Set UP'!F43=0),\"  --\",'Set UP'!D43&\" \"&'Set UP'!E43)","v":"  --"},{"$f":"IF(OR('Set UP'!$C43=0,'Set UP'!$D43=0,'Set UP'!$E43=0,'Set UP'!F43=0),\" --\",'Set UP'!F43)","v":" --"},{"$f":"IF('Wet Incident'!$BY45=\"\",\"\",'Wet Incident'!$BY45*$F$3)","v":""},{"$f":"IF('Dry Incident'!$BX45=\"\",\"\",'Dry Incident'!$BX45*$G$3)","v":""},{"$f":"IF('Extra Event'!$BX45=\"\",\"\",'Extra Event'!$BX45*$H$3)","v":""},{"$f":"IF(RopeThrow!U43=\"\",\"\",RopeThrow!U43*$I$3)","v":""},{"$f":"IF('Swim&Tow'!$U43=\"\",\"\",'Swim&Tow'!$U43*$J$3)","v":""},{"$f":"IF(Medley!$S43=\"\",\"\",Medley!$S43*$K$3)","v":""},{"$f":"IF(Obstacle!$S43=\"\",\"\",Obstacle!$S43*$L$3)","v":""},""]
[null,38,{"$f":"IF(OR('Set UP'!$C44=0,'Set UP'!$D44=0,'Set UP'!$E44=0,'Set UP'!F44=0),\"  --\",'Set UP'!C44)","v":"  --"},{"$f":"IF(OR('Set UP'!$C44=0,'Set UP'!$D44=0,'Set UP'!$E44=0,'Set UP'!F44=0),\"  --\",'Set UP'!D44&\" \"&'Set UP'!E44)","v":"  --"},{"$f":"IF(OR('Set UP'!$C44=0,'Set UP'!$D44=0,'Set UP'!$E44=0,'Set UP'!F44=0),\" --\",'Set UP'!F44)","v":" --"},{"$f":"IF('Wet Incident'!$BY46=\"\",\"\",'Wet Incident'!$BY46*$F$3)","v":""},{"$f":"IF('Dry Incident'!$BX46=\"\",\"\",'Dry Incident'!$BX46*$G$3)","v":""},{"$f":"IF('Extra Event'!$BX46=\"\",\"\",'Extra Event'!$BX46*$H$3)","v":""},{"$f":"IF(RopeThrow!U44=\"\",\"\",RopeThrow!U44*$I$3)","v":""},{"$f":"IF('Swim&Tow'!$U44=\"\",\"\",'Swim&Tow'!$U44*$J$3)","v":""},{"$f":"IF(Medley!$S44=\"\",\"\",Medley!$S44*$K$3)","v":""},{"$f":"IF(Obstacle!$S44=\"\",\"\",Obstacle!$S44*$L$3)","v":""},""]
[null,39,{"$f":"IF(OR('Set UP'!$C45=0,'Set UP'!$D45=0,'Set UP'!$E45=0,'Set UP'!F45=0),\"  --\",'Set UP'!C45)","v":"  --"},{"$f":"IF(OR('Set UP'!$C45=0,'Set UP'!$D45=0,'Set UP'!$E45=0,'Set UP'!F45=0),\"  --\",'Set UP'!D45&\" \"&'Set UP'!E45)","v":"  --"},{"$f":"IF(OR('Set UP'!$C45=0,'Set UP'!$D45=0,'Set UP'!$E45=0,'Set UP'!F45=0),\" --\",'Set UP'!F45)","v":" --"},{"$f":"IF('Wet Incident'!$BY47=\"\",\"\",'Wet Incident'!$BY47*$F$3)","v":""},{"$f":"IF('Dry Incident'!$BX47=\"\",\"\",'Dry Incident'!$BX47*$G$3)","v":""},{"$f":"IF('Extra Event'!$BX47=\"\",\"\",'Extra Event'!$BX47*$H$3)","v":""},{"$f":"IF(RopeThrow!U45=\"\",\"\",RopeThrow!U45*$I$3)","v":""},{"$f":"IF('Swim&Tow'!$U45=\"\",\"\",'Swim&Tow'!$U45*$J$3)","v":""},{"$f":"IF(Medley!$S45=\"\",\"\",Medley!$S45*$K$3)","v":""},{"$f":"IF(Obstacle!$S45=\"\",\"\",Obstacle!$S45*$L$3)","v":""},""]
[null,40,{"$f":"IF(OR('Set UP'!$C46=0,'Set UP'!$D46=0,'Set UP'!$E46=0,'Set UP'!F46=0),\"  --\",'Set UP'!C46)","v":"  --"},{"$f":"IF(OR('Set UP'!$C46=0,'Set UP'!$D46=0,'Set UP'!$E46=0,'Set UP'!F46=0),\"  --\",'Set UP'!D46&\" \"&'Set UP'!E46)","v":"  --"},{"$f":"IF(OR('Set UP'!$C46=0,'Set UP'!$D46=0,'Set UP'!$E46=0,'Set UP'!F46=0),\" --\",'Set UP'!F46)","v":" --"},{"$f":"IF('Wet Incident'!$BY48=\"\",\"\",'Wet Incident'!$BY48*$F$3)","v":""},{"$f":"IF('Dry Incident'!$BX48=\"\",\"\",'Dry Incident'!$BX48*$G$3)","v":""},{"$f":"IF('Extra Event'!$BX48=\"\",\"\",'Extra Event'!$BX48*$H$3)","v":""},{"$f":"IF(RopeThrow!U46=\"\",\"\",RopeThrow!U46*$I$3)","v":""},{"$f":"IF('Swim&Tow'!$U46=\"\",\"\",'Swim&Tow'!$U46*$J$3)","v":""},{"$f":"IF(Medley!$S46=\"\",\"\",Medley!$S46*$K$3)","v":""},{"$f":"IF(Obstacle!$S46=\"\",\"\",Obstacle!$S46*$L$3)","v":""},""]
[null,null,null,null,null,null,{"$f":"IF('Dry Incident'!$BX49=\"\",\"\",'Dry Incident'!$BX49*$G$3)","v":""},{"$f":"IF('Extra Event'!$BX49=\"\",\"\",'Extra Event'!$BX49*$H$3)","v":""},null,null,null,{"$f":"IF(Obstacle!$S47=\"\",\"\",Obstacle!$S47*$L$3)","v":""},""]
[null,"Copyright Simon Harrison 2008, Oliver Coleman 2009"]
[null,null,null,"ENSURE ALL THE ROPETHROW SHEET HAS HAD THE POSITIONS UPDATED BEFORE USING THE RESULTS ON THIS SHEET"]

{"sheet":"League Results","index":16,"n_rows":49,"n_cols":19,"rows_kept":49,"cut":false,"hidden":false,"merged":[[4,18,5,18],[4,13,5,13],[4,17,5,17],[4,15,5,15],[4,16,5,16],[4,14,5,14],[48,3,48,12],[4,1,5,1],[4,2,5,2],[4,3,5,3],[4,4,5,4],[4,12,5,12],[47,1,47,14]]}
[]
[null,null,null,null,null,"Weighting","Weighting","Weighting","Weighting","Weighting","Weighting","Weighting"]
[null,null,null,"League Results",null,{"$f":"'Set UP'!R6","v":2},{"$f":"'Set UP'!R7","v":2},{"$f":"'Set UP'!R8","v":1},{"$f":"'Set UP'!R9","v":1},{"$f":"'Set UP'!R10","v":1},{"$f":"'Set UP'!R11","v":0},{"$f":"'Set UP'!R12","v":0}]
[]
[null,null,"Web","Team","Class",{"$f":"'Set UP'!Q6","v":"Wet Incident"},{"$f":"'Set UP'!Q7","v":"Dry Incident"},{"$f":"'Set UP'!Q8","v":"Rope Throw"},{"$f":"'Set UP'!Q9","v":"Swim and Tow"},{"$f":"'Set UP'!Q10","v":"Medley"},{"$f":"'Set UP'!Q11","v":"Manikin Carry"},{"$f":"'Set UP'!Q12","v":"Obstacle"},"Sum of Weighted Positions ","Sum of Weighted\nPositions (A)","FINAL POSITION\n(A)","Sum of Weighted\nPositions (B)","FINAL POSITION\n(B)","Sum of Weighted\nPositions (Freshers)","FINAL POSITION\n(Freshers)"]
[null,null,null,null,null,"Weighted Position","Weighted Position","Weighted Position","Weighted Position","Weighted Position","Weighted Position","Weighted Position"]
[null,1,{"$f":"IF(OR('Set UP'!$C7=0,'Set UP'!$D7=0,'Set UP'!$E7=0,'Set UP'!F7=0),\"  --\",'Set UP'!C7)","v":537},{"$f":"IF(OR('Set UP'!$C7=0,'Set UP'!$D7=0,'Set UP'!$E7=0,'Set UP'!F7=0),\"  --\",'Set UP'!D7&\" \"&'Set UP'!E7)","v":"Heanor A"},{"$f":"IF(OR('Set UP'!$C7=0,'Set UP'!$D7=0,'Set UP'!$E7=0,'Set UP'!F7=0),\" --\",'Set UP'!F7)","v":"NS"},{"$f":"IF('Set UP'!$K7<=0,\"\",F$3*OFFSET('Wet Incident'!BY9,0,2*'Set UP'!$K7))","v":""},{"$f":"IF('Set UP'!$K7<=0,\"\",G$3*OFFSET('Dry Incident'!BX9,0,2*'Set UP'!$K7))","v":""},{"$f":"IF('Set UP'!$K7<=0,\"\",H$3*OFFSET(RopeThrow!U7,0,'Set UP'!$K7))","v":""},{"$f":"IF('Set UP'!$K7<=0,\"\",IF(OFFSET('Swim&Tow'!U7,0,2*'Set UP'!$K7)=\"\",\"\",I$3*OFFSET('Swim&Tow'!U7,0,2*'Set UP'!$K7)))","v":""},{"$f":"IF('Set UP'!$K7<=0,\"\",IF(OFFSET(Medley!S7,0,2*'Set UP'!$K7)=\"\",\"\",J$3*OFFSET(Medley!S7,0,2*'Set UP'!$K7)))","v":""},{"$f":"IF('Set UP'!$K7<=0,\"\",IF(OFFSET('Manikin Carry'!S7,0,2*'Set UP'!$K7)=\"\",\"\",K$3*OFFSET('Manikin Carry'!S7,0,2*'Set UP'!$K7)))","v":""},{"$f":"IF('Set UP'!$K7<=0,\"\",IF(OFFSET(Obstacle!S7,0,2*'Set UP'!$K7)=\"\",\"\",L$3*OFFSET(Obstacle!S7,0,2*'Set UP'!$K7)))","v":""},{"$f":"IF(AND(F7=\"\",G7=\"\",H7=\"\",I7=\"\",J7=\"\",K7=\"\",L7=\"\"),\"\",SUM(F7:L7))","v":""},{"$f":"IF('Set UP'!$K7=1,$M7,\"\")","v":""},null,{"$f":"IF('Set UP'!$K7=2,$M7,\"\")","v":""},null,{"$f":"IF(E7=\"F\",P7,\"\")","v":""}]
[null,2,{"$f":"IF(OR('Set UP'!$C8=0,'Set UP'!$D8=0,'Set UP'!$E8=0,'Set UP'!F8=0),\"  --\",'Set UP'!C8)","v":483},{"$f":"IF(OR('Set UP'!$C8=0,'Set UP'!$D8=0,'Set UP'!$E8=0,'Set UP'!F8=0),\"  --\",'Set UP'!D8&\" \"&'Set UP'!E8)","v":"University of Cambridge C"},{"$f":"IF(OR('Set UP'!$C8=0,'Set UP'!$D8=0,'Set UP'!$E8=0,'Set UP'!F8=0),\" --\",'Set UP'!F8)","v":"S"},{"$f":"IF('Set UP'!$K8<=0,\"\",F$3*OFFSET('Wet Incident'!BY10,0,2*'Set UP'!$K8))","v":28},{"$f":"IF('Set UP'!$K8<=0,\"\",G$3*OFFSET('Dry Incident'!BX10,0,2*'Set UP'!$K8))","v":28},{"$f":"IF('Set UP'!$K8<=0,\"\",H$3*OFFSET(RopeThrow!U8,0,'Set UP'!$K8))","v":13.5},{"$f":"IF('Set UP'!$K8<=0,\"\",IF(OFFSET('Swim&Tow'!U8,0,2*'Set UP'!$K8)=\"\",\"\",I$3*OFFSET('Swim&Tow'!U8,0,2*'Set UP'!$K8)))","v":11},{"$f":"IF('Set UP'!$K8<=0,\"\",IF(OFFSET(Medley!S8,0,2*'Set UP'!$K8)=\"\",\"\",J$3*OFFSET(Medley!S8,0,2*'Set UP'!$K8)))","v":12},{"$f":"IF('Set UP'!$K8<=0,\"\",IF(OFFSET('Manikin Carry'!S8,0,2*'Set UP'!$K8)=\"\",\"\",K$3*OFFSET('Manikin Carry'!S8,0,2*'Set UP'!$K8)))","v":""},{"$f":"IF('Set UP'!$K8<=0,\"\",IF(OFFSET(Obstacle!S8,0,2*'Set UP'!$K8)=\"\",\"\",L$3*OFFSET(Obstacle!S8,0,2*'Set UP'!$K8)))","v":""},{"$f":"IF(AND(F8=\"\",G8=\"\",H8=\"\",I8=\"\",J8=\"\",K8=\"\",L8=\"\"),\"\",SUM(F8:L8))","v":92.5},{"$f":"IF('Set UP'!K8=1,$M8,\"\")","v":""},null,{"$f":"IF('Set UP'!$K8=2,$M8,\"\")","v":92.5},14,""]
[null,3,{"$f":"IF(OR('Set UP'!$C9=0,'Set UP'!$D9=0,'Set UP'!$E9=0,'Set UP'!F9=0),\"  --\",'Set UP'!C9)","v":474},{"$f":"IF(OR('Set UP'!$C9=0,'Set UP'!$D9=0,'Set UP'!$E9=0,'Set UP'!F9=0),\"  --\",'Set UP'!D9&\" \"&'Set UP'!E9)","v":"University of Cambridge B"},{"$f":"IF(OR('Set UP'!$C9=0,'Set UP'!$D9=0,'Set UP'!$E9=0,'Set UP'!F9=0),\" --\",'Set UP'!F9)","v":"S"},{"$f":"IF('Set UP'!$K9<=0,\"\",F$3*OFFSET('Wet Incident'!BY11,0,2*'Set UP'!$K9))","v":26},{"$f":"IF('Set UP'!$K9<=0,\"\",G$3*OFFSET('Dry Incident'!BX11,0,2*'Set UP'!$K9))","v":4},{"$f":"IF('Set UP'!$K9<=0,\"\",H$3*OFFSET(RopeThrow!U9,0,'Set UP'!$K9))","v":10.5},{"$f":"IF('Set UP'!$K9<=0,\"\",IF(OFFSET('Swim&Tow'!U9,0,2*'Set UP'!$K9)=\"\",\"\",I$3*OFFSET('Swim&Tow'!U9,0,2*'Set UP'!$K9)))","v":8},{"$f":"IF('Set UP'!$K9<=0,\"\",IF(OFFSET(Medley!S9,0,2*'Set UP'!$K9)=\"\",\"\",J$3*OFFSET(Medley!S9,0,2*'Set UP'!$K9)))","v":11},{"$f":"IF('Set UP'!$K9<=0,\"\",IF(OFFSET('Manikin Carry'!S9,0,2*'Set UP'!$K9)=\"\",\"\",K$3*OFFSET('Manikin Carry'!S9,0,2*'Set UP'!$K9)))","v":""},{"$f":"IF('Set UP'!$K9<=0,\"\",IF(OFFSET(Obstacle!S9,0,2*'Set UP'!$K9)=\"\",\"\",L$3*OFFSET(Obstacle!S9,0,2*'Set UP'!$K9)))","v":""},{"$f":"IF(AND(F9=\"\",G9=\"\",H9=\"\",I9=\"\",J9=\"\",K9=\"\",L9=\"\"),\"\",SUM(F9:L9))","v":59.5},{"$f":"IF('Set UP'!K9=1,$M9,\"\")","v":""},null,{"$f":"IF('Set UP'!$K9=2,$M9,\"\")","v":59.5},11,""]
[null,4,{"$f":"IF(OR('Set UP'!$C10=0,'Set UP'!$D10=0,'Set UP'!$E10=0,'Set UP'!F10=0),\"  --\",'Set UP'!C10)","v":513},{"$f":"IF(OR('Set UP'!$C10=0,'Set UP'!$D10=0,'Set UP'!$E10=0,'Set UP'!F10=0),\"  --\",'Set UP'!D10&\" \"&'Set UP'!E10)","v":"University of Warwick D"},{"$f":"IF(OR('Set UP'!$C10=0,'Set UP'!$D10=0,'Set UP'!$E10=0,'Set UP'!F10=0),\" --\",'Set UP'!F10)","v":"S"},{"$f":"IF('Set UP'!$K10<=0,\"\",F$3*OFFSET('Wet Incident'!BY12,0,2*'Set UP'!$K10))","v":30},{"$f":"IF('Set UP'!$K10<=0,\"\",G$3*OFFSET('Dry Incident'!BX12,0,2*'Set UP'!$K10))","v":30},{"$f":"IF('Set UP'!$K10<=0,\"\",H$3*OFFSET(RopeThrow!U10,0,'Set UP'!$K10))","v":15},{"$f":"IF('Set UP'!$K10<=0,\"\",IF(OFFSET('Swim&Tow'!U10,0,2*'Set UP'!$K10)=\"\",\"\",I$3*OFFSET('Swim&Tow'!U10,0,2*'Set UP'!$K10)))","v":13},{"$f":"IF('Set UP'!$K10<=0,\"\",IF(OFFSET(Medley!S10,0,2*'Set UP'!$K10)=\"\",\"\",J$3*OFFSET(Medley!S10,0,2*'Set UP'!$K10)))","v":12},{"$f":"IF('Set UP'!$K10<=0,\"\",IF(OFFSET('Manikin Carry'!S10,0,2*'Set UP'!$K10)=\"\",\"\",K$3*OFFSET('Manikin Carry'!S10,0,2*'Set UP'!$K10)))","v":""},{"$f":"IF('Set UP'!$K10<=0,\"\",IF(OFFSET(Obstacle!S10,0,2*'Set UP'!$K10)=\"\",\"\",L$3*OFFSET(Obstacle!S10,0,2*'Set UP'!$K10)))","v":""},100,{"$f":"IF('Set UP'!K10=1,$M10,\"\")","v":""},null,{"$f":"IF('Set UP'!$K10=2,$M10,\"\")","v":100},15,""]
[null,5,{"$f":"IF(OR('Set UP'!$C11=0,'Set UP'!$D11=0,'Set UP'!$E11=0,'Set UP'!F11=0),\"  --\",'Set UP'!C11)","v":499},{"$f":"IF(OR('Set UP'!$C11=0,'Set UP'!$D11=0,'Set UP'!$E11=0,'Set UP'!F11=0),\"  --\",'Set UP'!D11&\" \"&'Set UP'!E11)","v":"University of St Andrews B"},{"$f":"IF(OR('Set UP'!$C11=0,'Set UP'!$D11=0,'Set UP'!$E11=0,'Set UP'!F11=0),\" --\",'Set UP'!F11)","v":"NC"},{"$f":"IF('Set UP'!$K11<=0,\"\",F$3*OFFSET('Wet Incident'!BY13,0,2*'Set UP'!$K11))","v":""},{"$f":"IF('Set UP'!$K11<=0,\"\",G$3*OFFSET('Dry Incident'!BX13,0,2*'Set UP'!$K11))","v":""},{"$f":"IF('Set UP'!$K11<=0,\"\",H$3*OFFSET(RopeThrow!U11,0,'Set UP'!$K11))","v":""},{"$f":"IF('Set UP'!$K11<=0,\"\",IF(OFFSET('Swim&Tow'!U11,0,2*'Set UP'!$K11)=\"\",\"\",I$3*OFFSET('Swim&Tow'!U11,0,2*'Set UP'!$K11)))","v":""},{"$f":"IF('Set UP'!$K11<=0,\"\",IF(OFFSET(Medley!S11,0,2*'Set UP'!$K11)=\"\",\"\",J$3*OFFSET(Medley!S11,0,2*'Set UP'!$K11)))","v":""},{"$f":"IF('Set UP'!$K11<=0,\"\",IF(OFFSET('Manikin Carry'!S11,0,2*'Set UP'!$K11)=\"\",\"\",K$3*OFFSET('Manikin Carry'!S11,0,2*'Set UP'!$K11)))","v":""},{"$f":"IF('Set UP'!$K11<=0,\"\",IF(OFFSET(Obstacle!S11,0,2*'Set UP'!$K11)=\"\",\"\",L$3*OFFSET(Obstacle!S11,0,2*'Set UP'!$K11)))","v":""},"",{"$f":"IF('Set UP'!K11=1,$M11,\"\")","v":""},null,{"$f":"IF('Set UP'!$K11=2,$M11,\"\")","v":""},null,""]
[null,6,{"$f":"IF(OR('Set UP'!$C12=0,'Set UP'!$D12=0,'Set UP'!$E12=0,'Set UP'!F12=0),\"  --\",'Set UP'!C12)","v":507},{"$f":"IF(OR('Set UP'!$C12=0,'Set UP'!$D12=0,'Set UP'!$E12=0,'Set UP'!F12=0),\"  --\",'Set UP'!D12&\" \"&'Set UP'!E12)","v":"University of Plymouth C"},{"$f":"IF(OR('Set UP'!$C12=0,'Set UP'!$D12=0,'Set UP'!$E12=0,'Set UP'!F12=0),\" --\",'Set UP'!F12)","v":"S"},{"$f":"IF('Set UP'!$K12<=0,\"\",F$3*OFFSET('Wet Incident'!BY14,0,2*'Set UP'!$K12))","v":22},{"$f":"IF('Set UP'!$K12<=0,\"\",G$3*OFFSET('Dry Incident'!BX14,0,2*'Set UP'!$K12))","v":8},{"$f":"IF('Set UP'!$K12<=0,\"\",H$3*OFFSET(RopeThrow!U12,0,'Set UP'!$K12))","v":5.5},{"$f":"IF('Set UP'!$K12<=0,\"\",IF(OFFSET('Swim&Tow'!U12,0,2*'Set UP'!$K12)=\"\",\"\",I$3*OFFSET('Swim&Tow'!U12,0,2*'Set UP'!$K12)))","v":10},{"$f":"IF('Set UP'!$K12<=0,\"\",IF(OFFSET(Medley!S12,0,2*'Set UP'!$K12)=\"\",\"\",J$3*OFFSET(Medley!S12,0,2*'Set UP'!$K12)))","v":9},{"$f":"IF('Set UP'!$K12<=0,\"\",IF(OFFSET('Manikin Carry'!S12,0,2*'Set UP'!$K12)=\"\",\"\",K$3*OFFSET('Manikin Carry'!S12,0,2*'Set UP'!$K12)))","v":""},{"$f":"IF('Set UP'!$K12<=0,\"\",IF(OFFSET(Obstacle!S12,0,2*'Set UP'!$K12)=\"\",\"\",L$3*OFFSET(Obstacle!S12,0,2*'Set UP'!$K12)))","v":""},54.5,{"$f":"IF('Set UP'!K12=1,$M12,\"\")","v":""},null,{"$f":"IF('Set UP'!$K12=2,$M12,\"\")","v":54.5},9,""]
[null,7,{"$f":"IF(OR('Set UP'!$C13=0,'Set UP'!$D13=0,'Set UP'!$E13=0,'Set UP'!F13=0),\"  --\",'Set UP'!C13)","v":519},{"$f":"IF(OR('Set UP'!$C13=0,'Set UP'!$D13=0,'Set UP'!$E13=0,'Set UP'!F13=0),\"  --\",'Set UP'!D13&\" \"&'Set UP'!E13)","v":"University of Aberdeen B"},{"$f":"IF(OR('Set UP'!$C13=0,'Set UP'!$D13=0,'Set UP'!$E13=0,'Set UP'!F13=0),\" --\",'Set UP'!F13)","v":"NC"},{"$f":"IF('Set UP'!$K13<=0,\"\",F$3*OFFSET('Wet Incident'!BY15,0,2*'Set UP'!$K13))","v":""},{"$f":"IF('Set UP'!$K13<=0,\"\",G$3*OFFSET('Dry Incident'!BX15,0,2*'Set UP'!$K13))","v":""},{"$f":"IF('Set UP'!$K13<=0,\"\",H$3*OFFSET(RopeThrow!U13,0,'Set UP'!$K13))","v":""},{"$f":"IF('Set UP'!$K13<=0,\"\",IF(OFFSET('Swim&Tow'!U13,0,2*'Set UP'!$K13)=\"\",\"\",I$3*OFFSET('Swim&Tow'!U13,0,2*'Set UP'!$K13)))","v":""},{"$f":"IF('Set UP'!$K13<=0,\"\",IF(OFFSET(Medley!S13,0,2*'Set UP'!$K13)=\"\",\"\",J$3*OFFSET(Medley!S13,0,2*'Set UP'!$K13)))","v":""},{"$f":"IF('Set UP'!$K13<=0,\"\",IF(OFFSET('Manikin Carry'!S13,0,2*'Set UP'!$K13)=\"\",\"\",K$3*OFFSET('Manikin Carry'!S13,0,2*'Set UP'!$K13)))","v":""},{"$f":"IF('Set UP'!$K13<=0,\"\",IF(OFFSET(Obstacle!S13,0,2*'Set UP'!$K13)=\"\",\"\",L$3*OFFSET(Obstacle!S13,0,2*'Set UP'!$K13)))","v":""},"",{"$f":"IF('Set UP'!K13=1,$M13,\"\")","v":""},null,{"$f":"IF('Set UP'!$K13=2,$M13,\"\")","v":""},null,""]
[null,8,{"$f":"IF(OR('Set UP'!$C14=0,'Set UP'!$D14=0,'Set UP'!$E14=0,'Set UP'!F14=0),\"  --\",'Set UP'!C14)","v":532},{"$f":"IF(OR('Set UP'!$C14=0,'Set UP'!$D14=0,'Set UP'!$E14=0,'Set UP'!F14=0),\"  --\",'Set UP'!D14&\" \"&'Set UP'!E14)","v":"University of London Union E"},{"$f":"IF(OR('Set UP'!$C14=0,'Set UP'!$D14=0,'Set UP'!$E14=0,'Set UP'!F14=0),\" --\",'Set UP'!F14)","v":"S"},{"$f":"IF('Set UP'!$K14<=0,\"\",F$3*OFFSET('Wet Incident'!BY16,0,2*'Set UP'!$K14))","v":16},{"$f":"IF('Set UP'!$K14<=0,\"\",G$3*OFFSET('Dry Incident'!BX16,0,2*'Set UP'!$K14))","v":24},{"$f":"IF('Set UP'!$K14<=0,\"\",H$3*OFFSET(RopeThrow!U14,0,'Set UP'!$K14))","v":13.5},{"$f":"IF('Set UP'!$K14<=0,\"\",IF(OFFSET('Swim&Tow'!U14,0,2*'Set UP'!$K14)=\"\",\"\",I$3*OFFSET('Swim&Tow'!U14,0,2*'Set UP'!$K14)))","v":12},{"$f":"IF('Set UP'!$K14<=0,\"\",IF(OFFSET(Medley!S14,0,2*'Set UP'!$K14)=\"\",\"\",J$3*OFFSET(Medley!S14,0,2*'Set UP'!$K14)))","v":10},{"$f":"IF('Set UP'!$K14<=0,\"\",IF(OFFSET('Manikin Carry'!S14,0,2*'Set UP'!$K14)=\"\",\"\",K$3*OFFSET('Manikin Carry'!S14,0,2*'Set UP'!$K14)))","v":""},{"$f":"IF('Set UP'!$K14<=0,\"\",IF(OFFSET(Obstacle!S14,0,2*'Set UP'!$K14)=\"\",\"\",L$3*OFFSET(Obstacle!S14,0,2*'Set UP'!$K14)))","v":""},75.5,{"$f":"IF('Set UP'!K14=1,$M14,\"\")","v":""},null,{"$f":"IF('Set UP'!$K14=2,$M14,\"\")","v":75.5},13,""]
[null,9,{"$f":"IF(OR('Set UP'!$C15=0,'Set UP'!$D15=0,'Set UP'!$E15=0,'Set UP'!F15=0),\"  --\",'Set UP'!C15)","v":530},{"$f":"IF(OR('Set UP'!$C15=0,'Set UP'!$D15=0,'Set UP'!$E15=0,'Set UP'!F15=0),\"  --\",'Set UP'!D15&\" \"&'Set UP'!E15)","v":"University of London Union C"},{"$f":"IF(OR('Set UP'!$C15=0,'Set UP'!$D15=0,'Set UP'!$E15=0,'Set UP'!F15=0),\" --\",'Set UP'!F15)","v":"S"},{"$f":"IF('Set UP'!$K15<=0,\"\",F$3*OFFSET('Wet Incident'!BY17,0,2*'Set UP'!$K15))","v":2},{"$f":"IF('Set UP'!$K15<=0,\"\",G$3*OFFSET('Dry Incident'!BX17,0,2*'Set UP'!$K15))","v":20},{"$f":"IF('Set UP'!$K15<=0,\"\",H$3*OFFSET(RopeThrow!U15,0,'Set UP'!$K15))","v":10.5},{"$f":"IF('Set UP'!$K15<=0,\"\",IF(OFFSET('Swim&Tow'!U15,0,2*'Set UP'!$K15)=\"\",\"\",I$3*OFFSET('Swim&Tow'!U15,0,2*'Set UP'!$K15)))","v":9},{"$f":"IF('Set UP'!$K15<=0,\"\",IF(OFFSET(Medley!S15,0,2*'Set UP'!$K15)=\"\",\"\",J$3*OFFSET(Medley!S15,0,2*'Set UP'!$K15)))","v":8},{"$f":"IF('Set UP'!$K15<=0,\"\",IF(OFFSET('Manikin Carry'!S15,0,2*'Set UP'!$K15)=\"\",\"\",K$3*OFFSET('Manikin Carry'!S15,0,2*'Set UP'!$K15)))","v":""},{"$f":"IF('Set UP'!$K15<=0,\"\",IF(OFFSET(Obstacle!S15,0,2*'Set UP'!$K15)=\"\",\"\",L$3*OFFSET(Obstacle!S15,0,2*'Set UP'!$K15)))","v":""},49.5,{"$f":"IF('Set UP'!K15=1,$M15,\"\")","v":""},null,{"$f":"IF('Set UP'!$K15=2,$M15,\"\")","v":49.5},7,""]
[null,10,{"$f":"IF(OR('Set UP'!$C16=0,'Set UP'!$D16=0,'Set UP'!$E16=0,'Set UP'!F16=0),\"  --\",'Set UP'!C16)","v":506},{"$f":"IF(OR('Set UP'!$C16=0,'Set UP'!$D16=0,'Set UP'!$E16=0,'Set UP'!F16=0),\"  --\",'Set UP'!D16&\" \"&'Set UP'!E16)","v":"University of Plymouth B"},{"$f":"IF(OR('Set UP'!$C16=0,'Set UP'!$D16=0,'Set UP'!$E16=0,'Set UP'!F16=0),\" --\",'Set UP'!F16)","v":"S"},{"$f":"IF('Set UP'!$K16<=0,\"\",F$3*OFFSET('Wet Incident'!BY18,0,2*'Set UP'!$K16))","v":20},{"$f":"IF('Set UP'!$K16<=0,\"\",G$3*OFFSET('Dry Incident'!BX18,0,2*'Set UP'!$K16))","v":22},{"$f":"IF('Set UP'!$K16<=0,\"\",H$3*OFFSET(RopeThrow!U16,0,'Set UP'!$K16))","v":10.5},{"$f":"IF('Set UP'!$K16<=0,\"\",IF(OFFSET('Swim&Tow'!U16,0,2*'Set UP'!$K16)=\"\",\"\",I$3*OFFSET('Swim&Tow'!U16,0,2*'Set UP'!$K16)))","v":13},{"$f":"IF('Set UP'!$K16<=0,\"\",IF(OFFSET(Medley!S16,0,2*'Set UP'!$K16)=\"\",\"\",J$3*OFFSET(Medley!S16,0,2*'Set UP'!$K16)))","v":5},{"$f":"IF('Set UP'!$K16<=0,\"\",IF(OFFSET('Manikin Carry'!S16,0,2*'Set UP'!$K16)=\"\",\"\",K$3*OFFSET('Manikin Carry'!S16,0,2*'Set UP'!$K16)))","v":""},{"$f":"IF('Set UP'!$K16<=0,\"\",IF(OFFSET(Obstacle!S16,0,2*'Set UP'!$K16)=\"\",\"\",L$3*OFFSET(Obstacle!S16,0,2*'Set UP'!$K16)))","v":""},70.5,{"$f":"IF('Set UP'!K16=1,$M16,\"\")","v":""},null,{"$f":"IF('Set UP'!$K16=2,$M16,\"\")","v":70.5},12,""]
[null,11,{"$f":"IF(OR('Set UP'!$C17=0,'Set UP'!$D17=0,'Set UP'!$E17=0,'Set UP'!F17=0),\"  --\",'Set UP'!C17)","v":518},{"$f":"IF(OR('Set UP'!$C17=0,'Set UP'!$D17=0,'Set UP'!$E17=0,'Set UP'!F17=0),\"  --\",'Set UP'!D17&\" \"&'Set UP'!E17)","v":"University of Aberdeen A"},{"$f":"IF(OR('Set UP'!$C17=0,'Set UP'!$D17=0,'Set UP'!$E17=0,'Set UP'!F17=0),\" --\",'Set UP'!F17)","v":"S"},{"$f":"IF('Set UP'!$K17<=0,\"\",F$3*OFFSET('Wet Incident'!BY19,0,2*'Set UP'!$K17))","v":14},{"$f":"IF('Set UP'!$K17<=0,\"\",G$3*OFFSET('Dry Incident'!BX19,0,2*'Set UP'!$K17))","v":12},{"$f":"IF('Set UP'!$K17<=0,\"\",H$3*OFFSET(RopeThrow!U17,0,'Set UP'!$K17))","v":10},{"$f":"IF('Set UP'!$K17<=0,\"\",IF(OFFSET('Swim&Tow'!U17,0,2*'Set UP'!$K17)=\"\",\"\",I$3*OFFSET('Swim&Tow'!U17,0,2*'Set UP'!$K17)))","v":10},{"$f":"IF('Set UP'!$K17<=0,\"\",IF(OFFSET(Medley!S17,0,2*'Set UP'!$K17)=\"\",\"\",J$3*OFFSET(Medley!S17,0,2*'Set UP'!$K17)))","v":9},{"$f":"IF('Set UP'!$K17<=0,\"\",IF(OFFSET('Manikin Carry'!S17,0,2*'Set UP'!$K17)=\"\",\"\",K$3*OFFSET('Manikin Carry'!S17,0,2*'Set UP'!$K17)))","v":""},{"$f":"IF('Set UP'!$K17<=0,\"\",IF(OFFSET(Obstacle!S17,0,2*'Set UP'!$K17)=\"\",\"\",L$3*OFFSET(Obstacle!S17,0,2*'Set UP'!$K17)))","v":""},55,{"$f":"IF('Set UP'!K17=1,$M17,\"\")","v":55},9,{"$f":"IF('Set UP'!$K17=2,$M17,\"\")","v":""},null,""]
[null,12,{"$f":"IF(OR('Set UP'!$C18=0,'Set UP'!$D18=0,'Set UP'!$E18=0,'Set UP'!F18=0),\"  --\",'Set UP'!C18)","v":538},{"$f":"IF(OR('Set UP'!$C18=0,'Set UP'!$D18=0,'Set UP'!$E18=0,'Set UP'!F18=0),\"  --\",'Set UP'!D18&\" \"&'Set UP'!E18)","v":"University of Southampton C"},{"$f":"IF(OR('Set UP'!$C18=0,'Set UP'!$D18=0,'Set UP'!$E18=0,'Set UP'!F18=0),\" --\",'Set UP'!F18)","v":"S"},{"$f":"IF('Set UP'!$K18<=0,\"\",F$3*OFFSET('Wet Incident'!BY20,0,2*'Set UP'!$K18))","v":18},{"$f":"IF('Set UP'!$K18<=0,\"\",G$3*OFFSET('Dry Incident'!BX20,0,2*'Set UP'!$K18))","v":12},{"$f":"IF('Set UP'!$K18<=0,\"\",H$3*OFFSET(RopeThrow!U18,0,'Set UP'!$K18))","v":5.5},{"$f":"IF('Set UP'!$K18<=0,\"\",IF(OFFSET('Swim&Tow'!U18,0,2*'Set UP'!$K18)=\"\",\"\",I$3*OFFSET('Swim&Tow'!U18,0,2*'Set UP'!$K18)))","v":7},{"$f":"IF('Set UP'!$K18<=0,\"\",IF(OFFSET(Medley!S18,0,2*'Set UP'!$K18)=\"\",\"\",J$3*OFFSET(Medley!S18,0,2*'Set UP'!$K18)))","v":7},{"$f":"IF('Set UP'!$K18<=0,\"\",IF(OFFSET('Manikin Carry'!S18,0,2*'Set UP'!$K18)=\"\",\"\",K$3*OFFSET('Manikin Carry'!S18,0,2*'Set UP'!$K18)))","v":""},{"$f":"IF('Set UP'!$K18<=0,\"\",IF(OFFSET(Obstacle!S18,0,2*'Set UP'!$K18)=\"\",\"\",L$3*OFFSET(Obstacle!S18,0,2*'Set UP'!$K18)))","v":""},49.5,{"$f":"IF('Set UP'!K18=1,$M18,\"\")","v":""},null,{"$f":"IF('Set UP'!$K18=2,$M18,\"\")","v":49.5},8,""]
[null,13,{"$f":"IF(OR('Set UP'!$C19=0,'Set UP'!$D19=0,'Set UP'!$E19=0,'Set UP'!F19=0),\"  --\",'Set UP'!C19)","v":515},{"$f":"IF(OR('Set UP'!$C19=0,'Set UP'!$D19=0,'Set UP'!$E19=0,'Set UP'!F19=0),\"  --\",'Set UP'!D19&\" \"&'Set UP'!E19)","v":"Loughborough University C"},{"$f":"IF(OR('Set UP'!$C19=0,'Set UP'!$D19=0,'Set UP'!$E19=0,'Set UP'!F19=0),\" --\",'Set UP'!F19)","v":"S"},{"$f":"IF('Set UP'!$K19<=0,\"\",F$3*OFFSET('Wet Incident'!BY21,0,2*'Set UP'!$K19))","v":14},{"$f":"IF('Set UP'!$K19<=0,\"\",G$3*OFFSET('Dry Incident'!BX21,0,2*'Set UP'!$K19))","v":18},{"$f":"IF('Set UP'!$K19<=0,\"\",H$3*OFFSET(RopeThrow!U19,0,'Set UP'!$K19))","v":10.5},{"$f":"IF('Set UP'!$K19<=0,\"\",IF(OFFSET('Swim&Tow'!U19,0,2*'Set UP'!$K19)=\"\",\"\",I$3*OFFSET('Swim&Tow'!U19,0,2*'Set UP'!$K19)))","v":13},{"$f":"IF('Set UP'!$K19<=0,\"\",IF(OFFSET(Medley!S19,0,2*'Set UP'!$K19)=\"\",\"\",J$3*OFFSET(Medley!S19,0,2*'Set UP'!$K19)))","v":4},{"$f":"IF('Set UP'!$K19<=0,\"\",IF(OFFSET('Manikin Carry'!S19,0,2*'Set UP'!$K19)=\"\",\"\",K$3*OFFSET('Manikin Carry'!S19,0,2*'Set UP'!$K19)))","v":""},{"$f":"IF('Set UP'!$K19<=0,\"\",IF(OFFSET(Obstacle!S19,0,2*'Set UP'!$K19)=\"\",\"\",L$3*OFFSET(Obstacle!S19,0,2*'Set UP'!$K19)))","v":""},59.5,{"$f":"IF('Set UP'!K19=1,$M19,\"\")","v":""},null,{"$f":"IF('Set UP'!$K19=2,$M19,\"\")","v":59.5},10,""]
[null,14,{"$f":"IF(OR('Set UP'!$C20=0,'Set UP'!$D20=0,'Set UP'!$E20=0,'Set UP'!F20=0),\"  --\",'Set UP'!C20)","v":520},{"$f":"IF(OR('Set UP'!$C20=0,'Set UP'!$D20=0,'Set UP'!$E20=0,'Set UP'!F20=0),\"  --\",'Set UP'!D20&\" \"&'Set UP'!E20)","v":"Loughborough University D"},{"$f":"IF(OR('Set UP'!$C20=0,'Set UP'!$D20=0,'Set UP'!$E20=0,'Set UP'!F20=0),\" --\",'Set UP'!F20)","v":"NS"},{"$f":"IF('Set UP'!$K20<=0,\"\",F$3*OFFSET('Wet Incident'!BY22,0,2*'Set UP'!$K20))","v":""},{"$f":"IF('Set UP'!$K20<=0,\"\",G$3*OFFSET('Dry Incident'!BX22,0,2*'Set UP'!$K20))","v":""},{"$f":"IF('Set UP'!$K20<=0,\"\",H$3*OFFSET(RopeThrow!U20,0,'Set UP'!$K20))","v":""},{"$f":"IF('Set UP'!$K20<=0,\"\",IF(OFFSET('Swim&Tow'!U20,0,2*'Set UP'!$K20)=\"\",\"\",I$3*OFFSET('Swim&Tow'!U20,0,2*'Set UP'!$K20)))","v":""},{"$f":"IF('Set UP'!$K20<=0,\"\",IF(OFFSET(Medley!S20,0,2*'Set UP'!$K20)=\"\",\"\",J$3*OFFSET(Medley!S20,0,2*'Set UP'!$K20)))","v":""},{"$f":"IF('Set UP'!$K20<=0,\"\",IF(OFFSET('Manikin Carry'!S20,0,2*'Set UP'!$K20)=\"\",\"\",K$3*OFFSET('Manikin Carry'!S20,0,2*'Set UP'!$K20)))","v":""},{"$f":"IF('Set UP'!$K20<=0,\"\",IF(OFFSET(Obstacle!S20,0,2*'Set UP'!$K20)=\"\",\"\",L$3*OFFSET(Obstacle!S20,0,2*'Set UP'!$K20)))","v":""},"",{"$f":"IF('Set UP'!K20=1,$M20,\"\")","v":""},null,{"$f":"IF('Set UP'!$K20=2,$M20,\"\")","v":""},null,""]
[null,15,{"$f":"IF(OR('Set UP'!$C21=0,'Set UP'!$D21=0,'Set UP'!$E21=0,'Set UP'!F21=0),\"  --\",'Set UP'!C21)","v":512},{"$f":"IF(OR('Set UP'!$C21=0,'Set UP'!$D21=0,'Set UP'!$E21=0,'Set UP'!F21=0),\"  --\",'Set UP'!D21&\" \"&'Set UP'!E21)","v":"University of Warwick C"},{"$f":"IF(OR('Set UP'!$C21=0,'Set UP'!$D21=0,'Set UP'!$E21=0,'Set UP'!F21=0),\" --\",'Set UP'!F21)","v":"NC"},{"$f":"IF('Set UP'!$K21<=0,\"\",F$3*OFFSET('Wet Incident'!BY23,0,2*'Set UP'!$K21))","v":""},{"$f":"IF('Set UP'!$K21<=0,\"\",G$3*OFFSET('Dry Incident'!BX23,0,2*'Set UP'!$K21))","v":""},{"$f":"IF('Set UP'!$K21<=0,\"\",H$3*OFFSET(RopeThrow!U21,0,'Set UP'!$K21))","v":""},{"$f":"IF('Set UP'!$K21<=0,\"\",IF(OFFSET('Swim&Tow'!U21,0,2*'Set UP'!$K21)=\"\",\"\",I$3*OFFSET('Swim&Tow'!U21,0,2*'Set UP'!$K21)))","v":""},{"$f":"IF('Set UP'!$K21<=0,\"\",IF(OFFSET(Medley!S21,0,2*'Set UP'!$K21)=\"\",\"\",J$3*OFFSET(Medley!S21,0,2*'Set UP'!$K21)))","v":""},{"$f":"IF('Set UP'!$K21<=0,\"\",IF(OFFSET('Manikin Carry'!S21,0,2*'Set UP'!$K21)=\"\",\"\",K$3*OFFSET('Manikin Carry'!S21,0,2*'Set UP'!$K21)))","v":""},{"$f":"IF('Set UP'!$K21<=0,\"\",IF(OFFSET(Obstacle!S21,0,2*'Set UP'!$K21)=\"\",\"\",L$3*OFFSET(Obstacle!S21,0,2*'Set UP'!$K21)))","v":""},"",{"$f":"IF('Set UP'!K21=1,$M21,\"\")","v":""},null,{"$f":"IF('Set UP'!$K21=2,$M21,\"\")","v":""},null,""]
[null,16,{"$f":"IF(OR('Set UP'!$C22=0,'Set UP'!$D22=0,'Set UP'!$E22=0,'Set UP'!F22=0),\"  --\",'Set UP'!C22)","v":531},{"$f":"IF(OR('Set UP'!$C22=0,'Set UP'!$D22=0,'Set UP'!$E22=0,'Set UP'!F22=0),\"  --\",'Set UP'!D22&\" \"&'Set UP'!E22)","v":"University of London Union D"},{"$f":"IF(OR('Set UP'!$C22=0,'Set UP'!$D22=0,'Set UP'!$E22=0,'Set UP'!F22=0),\" --\",'Set UP'!F22)","v":"NC"},{"$f":"IF('Set UP'!$K22<=0,\"\",F$3*OFFSET('Wet Incident'!BY24,0,2*'Set UP'!$K22))","v":""},{"$f":"IF('Set UP'!$K22<=0,\"\",G$3*OFFSET('Dry Incident'!BX24,0,2*'Set UP'!$K22))","v":""},{"$f":"IF('Set UP'!$K22<=0,\"\",H$3*OFFSET(RopeThrow!U22,0,'Set UP'!$K22))","v":""},{"$f":"IF('Set UP'!$K22<=0,\"\",IF(OFFSET('Swim&Tow'!U22,0,2*'Set UP'!$K22)=\"\",\"\",I$3*OFFSET('Swim&Tow'!U22,0,2*'Set UP'!$K22)))","v":""},{"$f":"IF('Set UP'!$K22<=0,\"\",IF(OFFSET(Medley!S22,0,2*'Set UP'!$K22)=\"\",\"\",J$3*OFFSET(Medley!S22,0,2*'Set UP'!$K22)))","v":""},{"$f":"IF('Set UP'!$K22<=0,\"\",IF(OFFSET('Manikin Carry'!S22,0,2*'Set UP'!$K22)=\"\",\"\",K$3*OFFSET('Manikin Carry'!S22,0,2*'Set UP'!$K22)))","v":""},{"$f":"IF('Set UP'!$K22<=0,\"\",IF(OFFSET(Obstacle!S22,0,2*'Set UP'!$K22)=\"\",\"\",L$3*OFFSET(Obstacle!S22,0,2*'Set UP'!$K22)))","v":""},"",{"$f":"IF('Set UP'!K22=1,$M22,\"\")","v":""},null,{"$f":"IF('Set UP'!$K22=2,$M22,\"\")","v":""},null,""]
[null,17,{"$f":"IF(OR('Set UP'!$C23=0,'Set UP'!$D23=0,'Set UP'!$E23=0,'Set UP'!F23=0),\"  --\",'Set UP'!C23)","v":471},{"$f":"IF(OR('Set UP'!$C23=0,'Set UP'!$D23=0,'Set UP'!$E23=0,'Set UP'!F23=0),\"  --\",'Set UP'!D23&\" \"&'Set UP'!E23)","v":"University of Cambridge A"},{"$f":"IF(OR('Set UP'!$C23=0,'Set UP'!$D23=0,'Set UP'!$E23=0,'Set UP'!F23=0),\" --\",'Set UP'!F23)","v":"S"},{"$f":"IF('Set UP'!$K23<=0,\"\",F$3*OFFSET('Wet Incident'!BY25,0,2*'Set UP'!$K23))","v":4},{"$f":"IF('Set UP'!$K23<=0,\"\",G$3*OFFSET('Dry Incident'!BX25,0,2*'Set UP'!$K23))","v":16},{"$f":"IF('Set UP'!$K23<=0,\"\",H$3*OFFSET(RopeThrow!U23,0,'Set UP'!$K23))","v":6.5},{"$f":"IF('Set UP'!$K23<=0,\"\",IF(OFFSET('Swim&Tow'!U23,0,2*'Set UP'!$K23)=\"\",\"\",I$3*OFFSET('Swim&Tow'!U23,0,2*'Set UP'!$K23)))","v":6},{"$f":"IF('Set UP'!$K23<=0,\"\",IF(OFFSET(Medley!S23,0,2*'Set UP'!$K23)=\"\",\"\",J$3*OFFSET(Medley!S23,0,2*'Set UP'!$K23)))","v":10},{"$f":"IF('Set UP'!$K23<=0,\"\",IF(OFFSET('Manikin Carry'!S23,0,2*'Set UP'!$K23)=\"\",\"\",K$3*OFFSET('Manikin Carry'!S23,0,2*'Set UP'!$K23)))","v":""},{"$f":"IF('Set UP'!$K23<=0,\"\",IF(OFFSET(Obstacle!S23,0,2*'Set UP'!$K23)=\"\",\"\",L$3*OFFSET(Obstacle!S23,0,2*'Set UP'!$K23)))","v":""},42.5,{"$f":"IF('Set UP'!K23=1,$M23,\"\")","v":42.5},8,{"$f":"IF('Set UP'!$K23=2,$M23,\"\")","v":""},null,""]
[null,18,{"$f":"IF(OR('Set UP'!$C24=0,'Set UP'!$D24=0,'Set UP'!$E24=0,'Set UP'!F24=0),\"  --\",'Set UP'!C24)","v":522},{"$f":"IF(OR('Set UP'!$C24=0,'Set UP'!$D24=0,'Set UP'!$E24=0,'Set UP'!F24=0),\"  --\",'Set UP'!D24&\" \"&'Set UP'!E24)","v":"University of Birmingham B"},{"$f":"IF(OR('Set UP'!$C24=0,'Set UP'!$D24=0,'Set UP'!$E24=0,'Set UP'!F24=0),\" --\",'Set UP'!F24)","v":"S"},{"$f":"IF('Set UP'!$K24<=0,\"\",F$3*OFFSET('Wet Incident'!BY26,0,2*'Set UP'!$K24))","v":8},{"$f":"IF('Set UP'!$K24<=0,\"\",G$3*OFFSET('Dry Incident'!BX26,0,2*'Set UP'!$K24))","v":6},{"$f":"IF('Set UP'!$K24<=0,\"\",H$3*OFFSET(RopeThrow!U24,0,'Set UP'!$K24))","v":5.5},{"$f":"IF('Set UP'!$K24<=0,\"\",IF(OFFSET('Swim&Tow'!U24,0,2*'Set UP'!$K24)=\"\",\"\",I$3*OFFSET('Swim&Tow'!U24,0,2*'Set UP'!$K24)))","v":5},{"$f":"IF('Set UP'!$K24<=0,\"\",IF(OFFSET(Medley!S24,0,2*'Set UP'!$K24)=\"\",\"\",J$3*OFFSET(Medley!S24,0,2*'Set UP'!$K24)))","v":3},{"$f":"IF('Set UP'!$K24<=0,\"\",IF(OFFSET('Manikin Carry'!S24,0,2*'Set UP'!$K24)=\"\",\"\",K$3*OFFSET('Manikin Carry'!S24,0,2*'Set UP'!$K24)))","v":""},{"$f":"IF('Set UP'!$K24<=0,\"\",IF(OFFSET(Obstacle!S24,0,2*'Set UP'!$K24)=\"\",\"\",L$3*OFFSET(Obstacle!S24,0,2*'Set UP'!$K24)))","v":""},27.5,{"$f":"IF('Set UP'!K24=1,$M24,\"\")","v":""},null,{"$f":"IF('Set UP'!$K24=2,$M24,\"\")","v":27.5},1,""]
[null,19,{"$f":"IF(OR('Set UP'!$C25=0,'Set UP'!$D25=0,'Set UP'!$E25=0,'Set UP'!F25=0),\"  --\",'Set UP'!C25)","v":498},{"$f":"IF(OR('Set UP'!$C25=0,'Set UP'!$D25=0,'Set UP'!$E25=0,'Set UP'!F25=0),\"  --\",'Set UP'!D25&\" \"&'Set UP'!E25)","v":"University of St Andrews A"},{"$f":"IF(OR('Set UP'!$C25=0,'Set UP'!$D25=0,'Set UP'!$E25=0,'Set UP'!F25=0),\" --\",'Set UP'!F25)","v":"S"},{"$f":"IF('Set UP'!$K25<=0,\"\",F$3*OFFSET('Wet Incident'!BY27,0,2*'Set UP'!$K25))","v":16},{"$f":"IF('Set UP'!$K25<=0,\"\",G$3*OFFSET('Dry Incident'!BX27,0,2*'Set UP'!$K25))","v":4},{"$f":"IF('Set UP'!$K25<=0,\"\",H$3*OFFSET(RopeThrow!U25,0,'Set UP'!$K25))","v":5},{"$f":"IF('Set UP'!$K25<=0,\"\",IF(OFFSET('Swim&Tow'!U25,0,2*'Set UP'!$K25)=\"\",\"\",I$3*OFFSET('Swim&Tow'!U25,0,2*'Set UP'!$K25)))","v":9},{"$f":"IF('Set UP'!$K25<=0,\"\",IF(OFFSET(Medley!S25,0,2*'Set UP'!$K25)=\"\",\"\",J$3*OFFSET(Medley!S25,0,2*'Set UP'!$K25)))","v":8},{"$f":"IF('Set UP'!$K25<=0,\"\",IF(OFFSET('Manikin Carry'!S25,0,2*'Set UP'!$K25)=\"\",\"\",K$3*OFFSET('Manikin Carry'!S25,0,2*'Set UP'!$K25)))","v":""},{"$f":"IF('Set UP'!$K25<=0,\"\",IF(OFFSET(Obstacle!S25,0,2*'Set UP'!$K25)=\"\",\"\",L$3*OFFSET(Obstacle!S25,0,2*'Set UP'!$K25)))","v":""},42,{"$f":"IF('Set UP'!K25=1,$M25,\"\")","v":42},6,{"$f":"IF('Set UP'!$K25=2,$M25,\"\")","v":""},null,""]
[null,20,{"$f":"IF(OR('Set UP'!$C26=0,'Set UP'!$D26=0,'Set UP'!$E26=0,'Set UP'!F26=0),\"  --\",'Set UP'!C26)","v":535},{"$f":"IF(OR('Set UP'!$C26=0,'Set UP'!$D26=0,'Set UP'!$E26=0,'Set UP'!F26=0),\"  --\",'Set UP'!D26&\" \"&'Set UP'!E26)","v":"University of Birmingham A"},{"$f":"IF(OR('Set UP'!$C26=0,'Set UP'!$D26=0,'Set UP'!$E26=0,'Set UP'!F26=0),\" --\",'Set UP'!F26)","v":"S"},{"$f":"IF('Set UP'!$K26<=0,\"\",F$3*OFFSET('Wet Incident'!BY28,0,2*'Set UP'!$K26))","v":2},{"$f":"IF('Set UP'!$K26<=0,\"\",G$3*OFFSET('Dry Incident'!BX28,0,2*'Set UP'!$K26))","v":18},{"$f":"IF('Set UP'!$K26<=0,\"\",H$3*OFFSET(RopeThrow!U26,0,'Set UP'!$K26))","v":8.5},{"$f":"IF('Set UP'!$K26<=0,\"\",IF(OFFSET('Swim&Tow'!U26,0,2*'Set UP'!$K26)=\"\",\"\",I$3*OFFSET('Swim&Tow'!U26,0,2*'Set UP'!$K26)))","v":8},{"$f":"IF('Set UP'!$K26<=0,\"\",IF(OFFSET(Medley!S26,0,2*'Set UP'!$K26)=\"\",\"\",J$3*OFFSET(Medley!S26,0,2*'Set UP'!$K26)))","v":6},{"$f":"IF('Set UP'!$K26<=0,\"\",IF(OFFSET('Manikin Carry'!S26,0,2*'Set UP'!$K26)=\"\",\"\",K$3*OFFSET('Manikin Carry'!S26,0,2*'Set UP'!$K26)))","v":""},{"$f":"IF('Set UP'!$K26<=0,\"\",IF(OFFSET(Obstacle!S26,0,2*'Set UP'!$K26)=\"\",\"\",L$3*OFFSET(Obstacle!S26,0,2*'Set UP'!$K26)))","v":""},42.5,{"$f":"IF('Set UP'!K26=1,$M26,\"\")","v":42.5},7,{"$f":"IF('Set UP'!$K26=2,$M26,\"\")","v":""},null,""]
[null,21,{"$f":"IF(OR('Set UP'!$C27=0,'Set UP'!$D27=0,'Set UP'!$E27=0,'Set UP'!F27=0),\"  --\",'Set UP'!C27)","v":508},{"$f":"IF(OR('Set UP'!$C27=0,'Set UP'!$D27=0,'Set UP'!$E27=0,'Set UP'!F27=0),\"  --\",'Set UP'!D27&\" \"&'Set UP'!E27)","v":"University of Nottingham A"},{"$f":"IF(OR('Set UP'!$C27=0,'Set UP'!$D27=0,'Set UP'!$E27=0,'Set UP'!F27=0),\" --\",'Set UP'!F27)","v":"S"},{"$f":"IF('Set UP'!$K27<=0,\"\",F$3*OFFSET('Wet Incident'!BY29,0,2*'Set UP'!$K27))","v":10},{"$f":"IF('Set UP'!$K27<=0,\"\",G$3*OFFSET('Dry Incident'!BX29,0,2*'Set UP'!$K27))","v":10},{"$f":"IF('Set UP'!$K27<=0,\"\",H$3*OFFSET(RopeThrow!U27,0,'Set UP'!$K27))","v":1},{"$f":"IF('Set UP'!$K27<=0,\"\",IF(OFFSET('Swim&Tow'!U27,0,2*'Set UP'!$K27)=\"\",\"\",I$3*OFFSET('Swim&Tow'!U27,0,2*'Set UP'!$K27)))","v":3},{"$f":"IF('Set UP'!$K27<=0,\"\",IF(OFFSET(Medley!S27,0,2*'Set UP'!$K27)=\"\",\"\",J$3*OFFSET(Medley!S27,0,2*'Set UP'!$K27)))","v":4},{"$f":"IF('Set UP'!$K27<=0,\"\",IF(OFFSET('Manikin Carry'!S27,0,2*'Set UP'!$K27)=\"\",\"\",K$3*OFFSET('Manikin Carry'!S27,0,2*'Set UP'!$K27)))","v":""},{"$f":"IF('Set UP'!$K27<=0,\"\",IF(OFFSET(Obstacle!S27,0,2*'Set UP'!$K27)=\"\",\"\",L$3*OFFSET(Obstacle!S27,0,2*'Set UP'!$K27)))","v":""},28,{"$f":"IF('Set UP'!K27=1,$M27,\"\")","v":28},3,{"$f":"IF('Set UP'!$K27=2,$M27,\"\")","v":""},null,""]
[null,22,{"$f":"IF(OR('Set UP'!$C28=0,'Set UP'!$D28=0,'Set UP'!$E28=0,'Set UP'!F28=0),\"  --\",'Set UP'!C28)","v":528},{"$f":"IF(OR('Set UP'!$C28=0,'Set UP'!$D28=0,'Set UP'!$E28=0,'Set UP'!F28=0),\"  --\",'Set UP'!D28&\" \"&'Set UP'!E28)","v":"University of London Union B"},{"$f":"IF(OR('Set UP'!$C28=0,'Set UP'!$D28=0,'Set UP'!$E28=0,'Set UP'!F28=0),\" --\",'Set UP'!F28)","v":"S"},{"$f":"IF('Set UP'!$K28<=0,\"\",F$3*OFFSET('Wet Incident'!BY30,0,2*'Set UP'!$K28))","v":6},{"$f":"IF('Set UP'!$K28<=0,\"\",G$3*OFFSET('Dry Incident'!BX30,0,2*'Set UP'!$K28))","v":26},{"$f":"IF('Set UP'!$K28<=0,\"\",H$3*OFFSET(RopeThrow!U28,0,'Set UP'!$K28))","v":2},{"$f":"IF('Set UP'!$K28<=0,\"\",IF(OFFSET('Swim&Tow'!U28,0,2*'Set UP'!$K28)=\"\",\"\",I$3*OFFSET('Swim&Tow'!U28,0,2*'Set UP'!$K28)))","v":3},{"$f":"IF('Set UP'!$K28<=0,\"\",IF(OFFSET(Medley!S28,0,2*'Set UP'!$K28)=\"\",\"\",J$3*OFFSET(Medley!S28,0,2*'Set UP'!$K28)))","v":2},{"$f":"IF('Set UP'!$K28<=0,\"\",IF(OFFSET('Manikin Carry'!S28,0,2*'Set UP'!$K28)=\"\",\"\",K$3*OFFSET('Manikin Carry'!S28,0,2*'Set UP'!$K28)))","v":""},{"$f":"IF('Set UP'!$K28<=0,\"\",IF(OFFSET(Obstacle!S28,0,2*'Set UP'!$K28)=\"\",\"\",L$3*OFFSET(Obstacle!S28,0,2*'Set UP'!$K28)))","v":""},39,{"$f":"IF('Set UP'!K28=1,$M28,\"\")","v":""},null,{"$f":"IF('Set UP'!$K28=2,$M28,\"\")","v":39},4,""]
[null,23,{"$f":"IF(OR('Set UP'!$C29=0,'Set UP'!$D29=0,'Set UP'!$E29=0,'Set UP'!F29=0),\"  --\",'Set UP'!C29)","v":511},{"$f":"IF(OR('Set UP'!$C29=0,'Set UP'!$D29=0,'Set UP'!$E29=0,'Set UP'!F29=0),\"  --\",'Set UP'!D29&\" \"&'Set UP'!E29)","v":"University of Warwick B"},{"$f":"IF(OR('Set UP'!$C29=0,'Set UP'!$D29=0,'Set UP'!$E29=0,'Set UP'!F29=0),\" --\",'Set UP'!F29)","v":"S"},{"$f":"IF('Set UP'!$K29<=0,\"\",F$3*OFFSET('Wet Incident'!BY31,0,2*'Set UP'!$K29))","v":4},{"$f":"IF('Set UP'!$K29<=0,\"\",G$3*OFFSET('Dry Incident'!BX31,0,2*'Set UP'!$K29))","v":10},{"$f":"IF('Set UP'!$K29<=0,\"\",H$3*OFFSET(RopeThrow!U29,0,'Set UP'!$K29))","v":3},{"$f":"IF('Set UP'!$K29<=0,\"\",IF(OFFSET('Swim&Tow'!U29,0,2*'Set UP'!$K29)=\"\",\"\",I$3*OFFSET('Swim&Tow'!U29,0,2*'Set UP'!$K29)))","v":4},{"$f":"IF('Set UP'!$K29<=0,\"\",IF(OFFSET(Medley!S29,0,2*'Set UP'!$K29)=\"\",\"\",J$3*OFFSET(Medley!S29,0,2*'Set UP'!$K29)))","v":12},{"$f":"IF('Set UP'!$K29<=0,\"\",IF(OFFSET('Manikin Carry'!S29,0,2*'Set UP'!$K29)=\"\",\"\",K$3*OFFSET('Manikin Carry'!S29,0,2*'Set UP'!$K29)))","v":""},{"$f":"IF('Set UP'!$K29<=0,\"\",IF(OFFSET(Obstacle!S29,0,2*'Set UP'!$K29)=\"\",\"\",L$3*OFFSET(Obstacle!S29,0,2*'Set UP'!$K29)))","v":""},33,{"$f":"IF('Set UP'!K29=1,$M29,\"\")","v":""},null,{"$f":"IF('Set UP'!$K29=2,$M29,\"\")","v":33},3,""]
[null,24,{"$f":"IF(OR('Set UP'!$C30=0,'Set UP'!$D30=0,'Set UP'!$E30=0,'Set UP'!F30=0),\"  --\",'Set UP'!C30)","v":509},{"$f":"IF(OR('Set UP'!$C30=0,'Set UP'!$D30=0,'Set UP'!$E30=0,'Set UP'!F30=0),\"  --\",'Set UP'!D30&\" \"&'Set UP'!E30)","v":"University of Nottingham B"},{"$f":"IF(OR('Set UP'!$C30=0,'Set UP'!$D30=0,'Set UP'!$E30=0,'Set UP'!F30=0),\" --\",'Set UP'!F30)","v":"S"},{"$f":"IF('Set UP'!$K30<=0,\"\",F$3*OFFSET('Wet Incident'!BY32,0,2*'Set UP'!$K30))","v":22},{"$f":"IF('Set UP'!$K30<=0,\"\",G$3*OFFSET('Dry Incident'!BX32,0,2*'Set UP'!$K30))","v":2},{"$f":"IF('Set UP'!$K30<=0,\"\",H$3*OFFSET(RopeThrow!U30,0,'Set UP'!$K30))","v":8},{"$f":"IF('Set UP'!$K30<=0,\"\",IF(OFFSET('Swim&Tow'!U30,0,2*'Set UP'!$K30)=\"\",\"\",I$3*OFFSET('Swim&Tow'!U30,0,2*'Set UP'!$K30)))","v":6},{"$f":"IF('Set UP'!$K30<=0,\"\",IF(OFFSET(Medley!S30,0,2*'Set UP'!$K30)=\"\",\"\",J$3*OFFSET(Medley!S30,0,2*'Set UP'!$K30)))","v":6},{"$f":"IF('Set UP'!$K30<=0,\"\",IF(OFFSET('Manikin Carry'!S30,0,2*'Set UP'!$K30)=\"\",\"\",K$3*OFFSET('Manikin Carry'!S30,0,2*'Set UP'!$K30)))","v":""},{"$f":"IF('Set UP'!$K30<=0,\"\",IF(OFFSET(Obstacle!S30,0,2*'Set UP'!$K30)=\"\",\"\",L$3*OFFSET(Obstacle!S30,0,2*'Set UP'!$K30)))","v":""},44,{"$f":"IF('Set UP'!K30=1,$M30,\"\")","v":""},null,{"$f":"IF('Set UP'!$K30=2,$M30,\"\")","v":44},5,""]
[null,25,{"$f":"IF(OR('Set UP'!$C31=0,'Set UP'!$D31=0,'Set UP'!$E31=0,'Set UP'!F31=0),\"  --\",'Set UP'!C31)","v":517},{"$f":"IF(OR('Set UP'!$C31=0,'Set UP'!$D31=0,'Set UP'!$E31=0,'Set UP'!F31=0),\"  --\",'Set UP'!D31&\" \"&'Set UP'!E31)","v":"Loughborough University B"},{"$f":"IF(OR('Set UP'!$C31=0,'Set UP'!$D31=0,'Set UP'!$E31=0,'Set UP'!F31=0),\" --\",'Set UP'!F31)","v":"S"},{"$f":"IF('Set UP'!$K31<=0,\"\",F$3*OFFSET('Wet Incident'!BY33,0,2*'Set UP'!$K31))","v":12},{"$f":"IF('Set UP'!$K31<=0,\"\",G$3*OFFSET('Dry Incident'!BX33,0,2*'Set UP'!$K31))","v":14},{"$f":"IF('Set UP'!$K31<=0,\"\",H$3*OFFSET(RopeThrow!U31,0,'Set UP'!$K31))","v":5.5},{"$f":"IF('Set UP'!$K31<=0,\"\",IF(OFFSET('Swim&Tow'!U31,0,2*'Set UP'!$K31)=\"\",\"\",I$3*OFFSET('Swim&Tow'!U31,0,2*'Set UP'!$K31)))","v":2},{"$f":"IF('Set UP'!$K31<=0,\"\",IF(OFFSET(Medley!S31,0,2*'Set UP'!$K31)=\"\",\"\",J$3*OFFSET(Medley!S31,0,2*'Set UP'!$K31)))","v":12},{"$f":"IF('Set UP'!$K31<=0,\"\",IF(OFFSET('Manikin Carry'!S31,0,2*'Set UP'!$K31)=\"\",\"\",K$3*OFFSET('Manikin Carry'!S31,0,2*'Set UP'!$K31)))","v":""},{"$f":"IF('Set UP'!$K31<=0,\"\",IF(OFFSET(Obstacle!S31,0,2*'Set UP'!$K31)=\"\",\"\",L$3*OFFSET(Obstacle!S31,0,2*'Set UP'!$K31)))","v":""},45.5,{"$f":"IF('Set UP'!K31=1,$M31,\"\")","v":""},null,{"$f":"IF('Set UP'!$K31=2,$M31,\"\")","v":45.5},6,""]
[null,26,{"$f":"IF(OR('Set UP'!$C32=0,'Set UP'!$D32=0,'Set UP'!$E32=0,'Set UP'!F32=0),\"  --\",'Set UP'!C32)","v":534},{"$f":"IF(OR('Set UP'!$C32=0,'Set UP'!$D32=0,'Set UP'!$E32=0,'Set UP'!F32=0),\"  --\",'Set UP'!D32&\" \"&'Set UP'!E32)","v":"University of Southampton B"},{"$f":"IF(OR('Set UP'!$C32=0,'Set UP'!$D32=0,'Set UP'!$E32=0,'Set UP'!F32=0),\" --\",'Set UP'!F32)","v":"S"},{"$f":"IF('Set UP'!$K32<=0,\"\",F$3*OFFSET('Wet Incident'!BY34,0,2*'Set UP'!$K32))","v":10},{"$f":"IF('Set UP'!$K32<=0,\"\",G$3*OFFSET('Dry Incident'!BX34,0,2*'Set UP'!$K32))","v":16},{"$f":"IF('Set UP'!$K32<=0,\"\",H$3*OFFSET(RopeThrow!U32,0,'Set UP'!$K32))","v":1},{"$f":"IF('Set UP'!$K32<=0,\"\",IF(OFFSET('Swim&Tow'!U32,0,2*'Set UP'!$K32)=\"\",\"\",I$3*OFFSET('Swim&Tow'!U32,0,2*'Set UP'!$K32)))","v":1},{"$f":"IF('Set UP'!$K32<=0,\"\",IF(OFFSET(Medley!S32,0,2*'Set UP'!$K32)=\"\",\"\",J$3*OFFSET(Medley!S32,0,2*'Set UP'!$K32)))","v":1},{"$f":"IF('Set UP'!$K32<=0,\"\",IF(OFFSET('Manikin Carry'!S32,0,2*'Set UP'!$K32)=\"\",\"\",K$3*OFFSET('Manikin Carry'!S32,0,2*'Set UP'!$K32)))","v":""},{"$f":"IF('Set UP'!$K32<=0,\"\",IF(OFFSET(Obstacle!S32,0,2*'Set UP'!$K32)=\"\",\"\",L$3*OFFSET(Obstacle!S32,0,2*'Set UP'!$K32)))","v":""},29,{"$f":"IF('Set UP'!K32=1,$M32,\"\")","v":""},null,{"$f":"IF('Set UP'!$K32=2,$M32,\"\")","v":29},2,""]
[null,27,{"$f":"IF(OR('Set UP'!$C33=0,'Set UP'!$D33=0,'Set UP'!$E33=0,'Set UP'!F33=0),\"  --\",'Set UP'!C33)","v":479},{"$f":"IF(OR('Set UP'!$C33=0,'Set UP'!$D33=0,'Set UP'!$E33=0,'Set UP'!F33=0),\"  --\",'Set UP'!D33&\" \"&'Set UP'!E33)","v":"Loughborough University A"},{"$f":"IF(OR('Set UP'!$C33=0,'Set UP'!$D33=0,'Set UP'!$E33=0,'Set UP'!F33=0),\" --\",'Set UP'!F33)","v":"S"},{"$f":"IF('Set UP'!$K33<=0,\"\",F$3*OFFSET('Wet Incident'!BY35,0,2*'Set UP'!$K33))","v":18},{"$f":"IF('Set UP'!$K33<=0,\"\",G$3*OFFSET('Dry Incident'!BX35,0,2*'Set UP'!$K33))","v":14},{"$f":"IF('Set UP'!$K33<=0,\"\",H$3*OFFSET(RopeThrow!U33,0,'Set UP'!$K33))","v":3},{"$f":"IF('Set UP'!$K33<=0,\"\",IF(OFFSET('Swim&Tow'!U33,0,2*'Set UP'!$K33)=\"\",\"\",I$3*OFFSET('Swim&Tow'!U33,0,2*'Set UP'!$K33)))","v":2},{"$f":"IF('Set UP'!$K33<=0,\"\",IF(OFFSET(Medley!S33,0,2*'Set UP'!$K33)=\"\",\"\",J$3*OFFSET(Medley!S33,0,2*'Set UP'!$K33)))","v":2},{"$f":"IF('Set UP'!$K33<=0,\"\",IF(OFFSET('Manikin Carry'!S33,0,2*'Set UP'!$K33)=\"\",\"\",K$3*OFFSET('Manikin Carry'!S33,0,2*'Set UP'!$K33)))","v":""},{"$f":"IF('Set UP'!$K33<=0,\"\",IF(OFFSET(Obstacle!S33,0,2*'Set UP'!$K33)=\"\",\"\",L$3*OFFSET(Obstacle!S33,0,2*'Set UP'!$K33)))","v":""},39,{"$f":"IF('Set UP'!K33=1,$M33,\"\")","v":39},5,{"$f":"IF('Set UP'!$K33=2,$M33,\"\")","v":""},null,""]
[null,28,{"$f":"IF(OR('Set UP'!$C34=0,'Set UP'!$D34=0,'Set UP'!$E34=0,'Set UP'!F34=0),\"  --\",'Set UP'!C34)","v":545},{"$f":"IF(OR('Set UP'!$C34=0,'Set UP'!$D34=0,'Set UP'!$E34=0,'Set UP'!F34=0),\"  --\",'Set UP'!D34&\" \"&'Set UP'!E34)","v":"Colwick Park A"},{"$f":"IF(OR('Set UP'!$C34=0,'Set UP'!$D34=0,'Set UP'!$E34=0,'Set UP'!F34=0),\" --\",'Set UP'!F34)","v":"NS"},{"$f":"IF('Set UP'!$K34<=0,\"\",F$3*OFFSET('Wet Incident'!BY36,0,2*'Set UP'!$K34))","v":""},{"$f":"IF('Set UP'!$K34<=0,\"\",G$3*OFFSET('Dry Incident'!BX36,0,2*'Set UP'!$K34))","v":""},{"$f":"IF('Set UP'!$K34<=0,\"\",H$3*OFFSET(RopeThrow!U34,0,'Set UP'!$K34))","v":""},{"$f":"IF('Set UP'!$K34<=0,\"\",IF(OFFSET('Swim&Tow'!U34,0,2*'Set UP'!$K34)=\"\",\"\",I$3*OFFSET('Swim&Tow'!U34,0,2*'Set UP'!$K34)))","v":""},{"$f":"IF('Set UP'!$K34<=0,\"\",IF(OFFSET(Medley!S34,0,2*'Set UP'!$K34)=\"\",\"\",J$3*OFFSET(Medley!S34,0,2*'Set UP'!$K34)))","v":""},{"$f":"IF('Set UP'!$K34<=0,\"\",IF(OFFSET('Manikin Carry'!S34,0,2*'Set UP'!$K34)=\"\",\"\",K$3*OFFSET('Manikin Carry'!S34,0,2*'Set UP'!$K34)))","v":""},{"$f":"IF('Set UP'!$K34<=0,\"\",IF(OFFSET(Obstacle!S34,0,2*'Set UP'!$K34)=\"\",\"\",L$3*OFFSET(Obstacle!S34,0,2*'Set UP'!$K34)))","v":""},"",{"$f":"IF('Set UP'!K34=1,$M34,\"\")","v":""},null,{"$f":"IF('Set UP'!$K34=2,$M34,\"\")","v":""},null,""]
[null,29,{"$f":"IF(OR('Set UP'!$C35=0,'Set UP'!$D35=0,'Set UP'!$E35=0,'Set UP'!F35=0),\"  --\",'Set UP'!C35)","v":533},{"$f":"IF(OR('Set UP'!$C35=0,'Set UP'!$D35=0,'Set UP'!$E35=0,'Set UP'!F35=0),\"  --\",'Set UP'!D35&\" \"&'Set UP'!E35)","v":"University of Southampton A"},{"$f":"IF(OR('Set UP'!$C35=0,'Set UP'!$D35=0,'Set UP'!$E35=0,'Set UP'!F35=0),\" --\",'Set UP'!F35)","v":"S"},{"$f":"IF('Set UP'!$K35<=0,\"\",F$3*OFFSET('Wet Incident'!BY37,0,2*'Set UP'!$K35))","v":8},{"$f":"IF('Set UP'!$K35<=0,\"\",G$3*OFFSET('Dry Incident'!BX37,0,2*'Set UP'!$K35))","v":6},{"$f":"IF('Set UP'!$K35<=0,\"\",H$3*OFFSET(RopeThrow!U35,0,'Set UP'!$K35))","v":2},{"$f":"IF('Set UP'!$K35<=0,\"\",IF(OFFSET('Swim&Tow'!U35,0,2*'Set UP'!$K35)=\"\",\"\",I$3*OFFSET('Swim&Tow'!U35,0,2*'Set UP'!$K35)))","v":1},{"$f":"IF('Set UP'!$K35<=0,\"\",IF(OFFSET(Medley!S35,0,2*'Set UP'!$K35)=\"\",\"\",J$3*OFFSET(Medley!S35,0,2*'Set UP'!$K35)))","v":1},{"$f":"IF('Set UP'!$K35<=0,\"\",IF(OFFSET('Manikin Carry'!S35,0,2*'Set UP'!$K35)=\"\",\"\",K$3*OFFSET('Manikin Carry'!S35,0,2*'Set UP'!$K35)))","v":""},{"$f":"IF('Set UP'!$K35<=0,\"\",IF(OFFSET(Obstacle!S35,0,2*'Set UP'!$K35)=\"\",\"\",L$3*OFFSET(Obstacle!S35,0,2*'Set UP'!$K35)))","v":""},18,{"$f":"IF('Set UP'!K35=1,$M35,\"\")","v":18},1,{"$f":"IF('Set UP'!$K35=2,$M35,\"\")","v":""},null,""]
[null,30,{"$f":"IF(OR('Set UP'!$C36=0,'Set UP'!$D36=0,'Set UP'!$E36=0,'Set UP'!F36=0),\"  --\",'Set UP'!C36)","v":523},{"$f":"IF(OR('Set UP'!$C36=0,'Set UP'!$D36=0,'Set UP'!$E36=0,'Set UP'!F36=0),\"  --\",'Set UP'!D36&\" \"&'Set UP'!E36)","v":"University of London Union A"},{"$f":"IF(OR('Set UP'!$C36=0,'Set UP'!$D36=0,'Set UP'!$E36=0,'Set UP'!F36=0),\" --\",'Set UP'!F36)","v":"S"},{"$f":"IF('Set UP'!$K36<=0,\"\",F$3*OFFSET('Wet Incident'!BY38,0,2*'Set UP'!$K36))","v":12},{"$f":"IF('Set UP'!$K36<=0,\"\",G$3*OFFSET('Dry Incident'!BX38,0,2*'Set UP'!$K36))","v":2},{"$f":"IF('Set UP'!$K36<=0,\"\",H$3*OFFSET(RopeThrow!U36,0,'Set UP'!$K36))","v":6.5},{"$f":"IF('Set UP'!$K36<=0,\"\",IF(OFFSET('Swim&Tow'!U36,0,2*'Set UP'!$K36)=\"\",\"\",I$3*OFFSET('Swim&Tow'!U36,0,2*'Set UP'!$K36)))","v":7},{"$f":"IF('Set UP'!$K36<=0,\"\",IF(OFFSET(Medley!S36,0,2*'Set UP'!$K36)=\"\",\"\",J$3*OFFSET(Medley!S36,0,2*'Set UP'!$K36)))","v":3},{"$f":"IF('Set UP'!$K36<=0,\"\",IF(OFFSET('Manikin Carry'!S36,0,2*'Set UP'!$K36)=\"\",\"\",K$3*OFFSET('Manikin Carry'!S36,0,2*'Set UP'!$K36)))","v":""},{"$f":"IF('Set UP'!$K36<=0,\"\",IF(OFFSET(Obstacle!S36,0,2*'Set UP'!$K36)=\"\",\"\",L$3*OFFSET(Obstacle!S36,0,2*'Set UP'!$K36)))","v":""},30.5,{"$f":"IF('Set UP'!K36=1,$M36,\"\")","v":30.5},4,{"$f":"IF('Set UP'!$K36=2,$M36,\"\")","v":""},null,""]
[null,31,{"$f":"IF(OR('Set UP'!$C37=0,'Set UP'!$D37=0,'Set UP'!$E37=0,'Set UP'!F37=0),\"  --\",'Set UP'!C37)","v":505},{"$f":"IF(OR('Set UP'!$C37=0,'Set UP'!$D37=0,'Set UP'!$E37=0,'Set UP'!F37=0),\"  --\",'Set UP'!D37&\" \"&'Set UP'!E37)","v":"University of Plymouth A"},{"$f":"IF(OR('Set UP'!$C37=0,'Set UP'!$D37=0,'Set UP'!$E37=0,'Set UP'!F37=0),\" --\",'Set UP'!F37)","v":"S"},{"$f":"IF('Set UP'!$K37<=0,\"\",F$3*OFFSET('Wet Incident'!BY39,0,2*'Set UP'!$K37))","v":20},{"$f":"IF('Set UP'!$K37<=0,\"\",G$3*OFFSET('Dry Incident'!BX39,0,2*'Set UP'!$K37))","v":20},{"$f":"IF('Set UP'!$K37<=0,\"\",H$3*OFFSET(RopeThrow!U37,0,'Set UP'!$K37))","v":8.5},{"$f":"IF('Set UP'!$K37<=0,\"\",IF(OFFSET('Swim&Tow'!U37,0,2*'Set UP'!$K37)=\"\",\"\",I$3*OFFSET('Swim&Tow'!U37,0,2*'Set UP'!$K37)))","v":5},{"$f":"IF('Set UP'!$K37<=0,\"\",IF(OFFSET(Medley!S37,0,2*'Set UP'!$K37)=\"\",\"\",J$3*OFFSET(Medley!S37,0,2*'Set UP'!$K37)))","v":5},{"$f":"IF('Set UP'!$K37<=0,\"\",IF(OFFSET('Manikin Carry'!S37,0,2*'Set UP'!$K37)=\"\",\"\",K$3*OFFSET('Manikin Carry'!S37,0,2*'Set UP'!$K37)))","v":""},{"$f":"IF('Set UP'!$K37<=0,\"\",IF(OFFSET(Obstacle!S37,0,2*'Set UP'!$K37)=\"\",\"\",L$3*OFFSET(Obstacle!S37,0,2*'Set UP'!$K37)))","v":""},58.5,{"$f":"IF('Set UP'!K37=1,$M37,\"\")","v":58.5},10,{"$f":"IF('Set UP'!$K37=2,$M37,\"\")","v":""},null,""]
[null,32,{"$f":"IF(OR('Set UP'!$C38=0,'Set UP'!$D38=0,'Set UP'!$E38=0,'Set UP'!F38=0),\"  --\",'Set UP'!C38)","v":510},{"$f":"IF(OR('Set UP'!$C38=0,'Set UP'!$D38=0,'Set UP'!$E38=0,'Set UP'!F38=0),\"  --\",'Set UP'!D38&\" \"&'Set UP'!E38)","v":"University of Warwick A"},{"$f":"IF(OR('Set UP'!$C38=0,'Set UP'!$D38=0,'Set UP'!$E38=0,'Set UP'!F38=0),\" --\",'Set UP'!F38)","v":"S"},{"$f":"IF('Set UP'!$K38<=0,\"\",F$3*OFFSET('Wet Incident'!BY40,0,2*'Set UP'!$K38))","v":6},{"$f":"IF('Set UP'!$K38<=0,\"\",G$3*OFFSET('Dry Incident'!BX40,0,2*'Set UP'!$K38))","v":6},{"$f":"IF('Set UP'!$K38<=0,\"\",H$3*OFFSET(RopeThrow!U38,0,'Set UP'!$K38))","v":4},{"$f":"IF('Set UP'!$K38<=0,\"\",IF(OFFSET('Swim&Tow'!U38,0,2*'Set UP'!$K38)=\"\",\"\",I$3*OFFSET('Swim&Tow'!U38,0,2*'Set UP'!$K38)))","v":4},{"$f":"IF('Set UP'!$K38<=0,\"\",IF(OFFSET(Medley!S38,0,2*'Set UP'!$K38)=\"\",\"\",J$3*OFFSET(Medley!S38,0,2*'Set UP'!$K38)))","v":7},{"$f":"IF('Set UP'!$K38<=0,\"\",IF(OFFSET('Manikin Carry'!S38,0,2*'Set UP'!$K38)=\"\",\"\",K$3*OFFSET('Manikin Carry'!S38,0,2*'Set UP'!$K38)))","v":""},{"$f":"IF('Set UP'!$K38<=0,\"\",IF(OFFSET(Obstacle!S38,0,2*'Set UP'!$K38)=\"\",\"\",L$3*OFFSET(Obstacle!S38,0,2*'Set UP'!$K38)))","v":""},27,{"$f":"IF('Set UP'!K38=1,$M38,\"\")","v":27},2,{"$f":"IF('Set UP'!$K38=2,$M38,\"\")","v":""},null,""]
[null,33,{"$f":"IF(OR('Set UP'!$C39=0,'Set UP'!$D39=0,'Set UP'!$E39=0,'Set UP'!F39=0),\"  --\",'Set UP'!C39)","v":"  --"},{"$f":"IF(OR('Set UP'!$C39=0,'Set UP'!$D39=0,'Set UP'!$E39=0,'Set UP'!F39=0),\"  --\",'Set UP'!D39&\" \"&'Set UP'!E39)","v":"  --"},{"$f":"IF(OR('Set UP'!$C39=0,'Set UP'!$D39=0,'Set UP'!$E39=0,'Set UP'!F39=0),\" --\",'Set UP'!F39)","v":" --"},{"$f":"IF('Set UP'!$K39<=0,\"\",F$3*OFFSET('Wet Incident'!BY41,0,2*'Set UP'!$K39))","v":""},{"$f":"IF('Set UP'!$K39<=0,\"\",G$3*OFFSET('Dry Incident'!BX41,0,2*'Set UP'!$K39))","v":""},{"$f":"IF('Set UP'!$K39<=0,\"\",H$3*OFFSET(RopeThrow!U39,0,'Set UP'!$K39))","v":""},{"$f":"IF('Set UP'!$K39<=0,\"\",IF(OFFSET('Swim&Tow'!U39,0,2*'Set UP'!$K39)=\"\",\"\",I$3*OFFSET('Swim&Tow'!U39,0,2*'Set UP'!$K39)))","v":""},{"$f":"IF('Set UP'!$K39<=0,\"\",IF(OFFSET(Medley!S39,0,2*'Set UP'!$K39)=\"\",\"\",J$3*OFFSET(Medley!S39,0,2*'Set UP'!$K39)))","v":""},{"$f":"IF('Set UP'!$K39<=0,\"\",IF(OFFSET('Manikin Carry'!S39,0,2*'Set UP'!$K39)=\"\",\"\",K$3*OFFSET('Manikin Carry'!S39,0,2*'Set UP'!$K39)))","v":""},{"$f":"IF('Set UP'!$K39<=0,\"\",IF(OFFSET(Obstacle!S39,0,2*'Set UP'!$K39)=\"\",\"\",L$3*OFFSET(Obstacle!S39,0,2*'Set UP'!$K39)))","v":""},"",{"$f":"IF('Set UP'!K39=1,$M39,\"\")","v":""},null,{"$f":"IF('Set UP'!$K39=2,$M39,\"\")","v":""},null,""]
[null,34,{"$f":"IF(OR('Set UP'!$C40=0,'Set UP'!$D40=0,'Set UP'!$E40=0,'Set UP'!F40=0),\"  --\",'Set UP'!C40)","v":"  --"},{"$f":"IF(OR('Set UP'!$C40=0,'Set UP'!$D40=0,'Set UP'!$E40=0,'Set UP'!F40=0),\"  --\",'Set UP'!D40&\" \"&'Set UP'!E40)","v":"  --"},{"$f":"IF(OR('Set UP'!$C40=0,'Set UP'!$D40=0,'Set UP'!$E40=0,'Set UP'!F40=0),\" --\",'Set UP'!F40)","v":" --"},{"$f":"IF('Set UP'!$K40<=0,\"\",F$3*OFFSET('Wet Incident'!BY42,0,2*'Set UP'!$K40))","v":""},{"$f":"IF('Set UP'!$K40<=0,\"\",G$3*OFFSET('Dry Incident'!BX42,0,2*'Set UP'!$K40))","v":""},{"$f":"IF('Set UP'!$K40<=0,\"\",H$3*OFFSET(RopeThrow!U40,0,'Set UP'!$K40))","v":""},{"$f":"IF('Set UP'!$K40<=0,\"\",IF(OFFSET('Swim&Tow'!U40,0,2*'Set UP'!$K40)=\"\",\"\",I$3*OFFSET('Swim&Tow'!U40,0,2*'Set UP'!$K40)))","v":""},{"$f":"IF('Set UP'!$K40<=0,\"\",IF(OFFSET(Medley!S40,0,2*'Set UP'!$K40)=\"\",\"\",J$3*OFFSET(Medley!S40,0,2*'Set UP'!$K40)))","v":""},{"$f":"IF('Set UP'!$K40<=0,\"\",IF(OFFSET('Manikin Carry'!S40,0,2*'Set UP'!$K40)=\"\",\"\",K$3*OFFSET('Manikin Carry'!S40,0,2*'Set UP'!$K40)))","v":""},{"$f":"IF('Set UP'!$K40<=0,\"\",IF(OFFSET(Obstacle!S40,0,2*'Set UP'!$K40)=\"\",\"\",L$3*OFFSET(Obstacle!S40,0,2*'Set UP'!$K40)))","v":""},"",{"$f":"IF('Set UP'!K40=1,$M40,\"\")","v":""},null,{"$f":"IF('Set UP'!$K40=2,$M40,\"\")","v":""},null,""]
[null,35,{"$f":"IF(OR('Set UP'!$C41=0,'Set UP'!$D41=0,'Set UP'!$E41=0,'Set UP'!F41=0),\"  --\",'Set UP'!C41)","v":"  --"},{"$f":"IF(OR('Set UP'!$C41=0,'Set UP'!$D41=0,'Set UP'!$E41=0,'Set UP'!F41=0),\"  --\",'Set UP'!D41&\" \"&'Set UP'!E41)","v":"  --"},{"$f":"IF(OR('Set UP'!$C41=0,'Set UP'!$D41=0,'Set UP'!$E41=0,'Set UP'!F41=0),\" --\",'Set UP'!F41)","v":" --"},{"$f":"IF('Set UP'!$K41<=0,\"\",F$3*OFFSET('Wet Incident'!BY43,0,2*'Set UP'!$K41))","v":""},{"$f":"IF('Set UP'!$K41<=0,\"\",G$3*OFFSET('Dry Incident'!BX43,0,2*'Set UP'!$K41))","v":""},{"$f":"IF('Set UP'!$K41<=0,\"\",H$3*OFFSET(RopeThrow!U41,0,'Set UP'!$K41))","v":""},{"$f":"IF('Set UP'!$K41<=0,\"\",IF(OFFSET('Swim&Tow'!U41,0,2*'Set UP'!$K41)=\"\",\"\",I$3*OFFSET('Swim&Tow'!U41,0,2*'Set UP'!$K41)))","v":""},{"$f":"IF('Set UP'!$K41<=0,\"\",IF(OFFSET(Medley!S41,0,2*'Set UP'!$K41)=\"\",\"\",J$3*OFFSET(Medley!S41,0,2*'Set UP'!$K41)))","v":""},{"$f":"IF('Set UP'!$K41<=0,\"\",IF(OFFSET('Manikin Carry'!S41,0,2*'Set UP'!$K41)=\"\",\"\",K$3*OFFSET('Manikin Carry'!S41,0,2*'Set UP'!$K41)))","v":""},{"$f":"IF('Set UP'!$K41<=0,\"\",IF(OFFSET(Obstacle!S41,0,2*'Set UP'!$K41)=\"\",\"\",L$3*OFFSET(Obstacle!S41,0,2*'Set UP'!$K41)))","v":""},"",{"$f":"IF('Set UP'!K41=1,$M41,\"\")","v":""},null,{"$f":"IF('Set UP'!$K41=2,$M41,\"\")","v":""},null,""]
[null,36,{"$f":"IF(OR('Set UP'!$C42=0,'Set UP'!$D42=0,'Set UP'!$E42=0,'Set UP'!F42=0),\"  --\",'Set UP'!C42)","v":"  --"},{"$f":"IF(OR('Set UP'!$C42=0,'Set UP'!$D42=0,'Set UP'!$E42=0,'Set UP'!F42=0),\"  --\",'Set UP'!D42&\" \"&'Set UP'!E42)","v":"  --"},{"$f":"IF(OR('Set UP'!$C42=0,'Set UP'!$D42=0,'Set UP'!$E42=0,'Set UP'!F42=0),\" --\",'Set UP'!F42)","v":" --"},{"$f":"IF('Set UP'!$K42<=0,\"\",F$3*OFFSET('Wet Incident'!BY44,0,2*'Set UP'!$K42))","v":""},{"$f":"IF('Set UP'!$K42<=0,\"\",G$3*OFFSET('Dry Incident'!BX44,0,2*'Set UP'!$K42))","v":""},{"$f":"IF('Set UP'!$K42<=0,\"\",H$3*OFFSET(RopeThrow!U42,0,'Set UP'!$K42))","v":""},{"$f":"IF('Set UP'!$K42<=0,\"\",IF(OFFSET('Swim&Tow'!U42,0,2*'Set UP'!$K42)=\"\",\"\",I$3*OFFSET('Swim&Tow'!U42,0,2*'Set UP'!$K42)))","v":""},{"$f":"IF('Set UP'!$K42<=0,\"\",IF(OFFSET(Medley!S42,0,2*'Set UP'!$K42)=\"\",\"\",J$3*OFFSET(Medley!S42,0,2*'Set UP'!$K42)))","v":""},{"$f":"IF('Set UP'!$K42<=0,\"\",IF(OFFSET('Manikin Carry'!S42,0,2*'Set UP'!$K42)=\"\",\"\",K$3*OFFSET('Manikin Carry'!S42,0,2*'Set UP'!$K42)))","v":""},{"$f":"IF('Set UP'!$K42<=0,\"\",IF(OFFSET(Obstacle!S42,0,2*'Set UP'!$K42)=\"\",\"\",L$3*OFFSET(Obstacle!S42,0,2*'Set UP'!$K42)))","v":""},"",{"$f":"IF('Set UP'!K42=1,$M42,\"\")","v":""},null,{"$f":"IF('Set UP'!$K42=2,$M42,\"\")","v":""},null,""]
[null,37,{"$f":"IF(OR('Set UP'!$C43=0,'Set UP'!$D43=0,'Set UP'!$E43=0,'Set UP'!F43=0),\"  --\",'Set UP'!C43)","v":"  --"},{"$f":"IF(OR('Set UP'!$C43=0,'Set UP'!$D43=0,'Set UP'!$E43=0,'Set UP'!F43=0),\"  --\",'Set UP'!D43&\" \"&'Set UP'!E43)","v":"  --"},{"$f":"IF(OR('Set UP'!$C43=0,'Set UP'!$D43=0,'Set UP'!$E43=0,'Set UP'!F43=0),\" --\",'Set UP'!F43)","v":" --"},{"$f":"IF('Set UP'!$K43<=0,\"\",F$3*OFFSET('Wet Incident'!BY45,0,2*'Set UP'!$K43))","v":""},{"$f":"IF('Set UP'!$K43<=0,\"\",G$3*OFFSET('Dry Incident'!BX45,0,2*'Set UP'!$K43))","v":""},{"$f":"IF('Set UP'!$K43<=0,\"\",H$3*OFFSET(RopeThrow!U43,0,'Set UP'!$K43))","v":""},{"$f":"IF('Set UP'!$K43<=0,\"\",IF(OFFSET('Swim&Tow'!U43,0,2*'Set UP'!$K43)=\"\",\"\",I$3*OFFSET('Swim&Tow'!U43,0,2*'Set UP'!$K43)))","v":""},{"$f":"IF('Set UP'!$K43<=0,\"\",IF(OFFSET(Medley!S43,0,2*'Set UP'!$K43)=\"\",\"\",J$3*OFFSET(Medley!S43,0,2*'Set UP'!$K43)))","v":""},{"$f":"IF('Set UP'!$K43<=0,\"\",IF(OFFSET('Manikin Carry'!S43,0,2*'Set UP'!$K43)=\"\",\"\",K$3*OFFSET('Manikin Carry'!S43,0,2*'Set UP'!$K43)))","v":""},{"$f":"IF('Set UP'!$K43<=0,\"\",IF(OFFSET(Obstacle!S43,0,2*'Set UP'!$K43)=\"\",\"\",L$3*OFFSET(Obstacle!S43,0,2*'Set UP'!$K43)))","v":""},"",{"$f":"IF('Set UP'!K43=1,$M43,\"\")","v":""},null,{"$f":"IF('Set UP'!$K43=2,$M43,\"\")","v":""},null,""]
[null,38,{"$f":"IF(OR('Set UP'!$C44=0,'Set UP'!$D44=0,'Set UP'!$E44=0,'Set UP'!F44=0),\"  --\",'Set UP'!C44)","v":"  --"},{"$f":"IF(OR('Set UP'!$C44=0,'Set UP'!$D44=0,'Set UP'!$E44=0,'Set UP'!F44=0),\"  --\",'Set UP'!D44&\" \"&'Set UP'!E44)","v":"  --"},{"$f":"IF(OR('Set UP'!$C44=0,'Set UP'!$D44=0,'Set UP'!$E44=0,'Set UP'!F44=0),\" --\",'Set UP'!F44)","v":" --"},{"$f":"IF('Set UP'!$K44<=0,\"\",F$3*OFFSET('Wet Incident'!BY46,0,2*'Set UP'!$K44))","v":""},{"$f":"IF('Set UP'!$K44<=0,\"\",G$3*OFFSET('Dry Incident'!BX46,0,2*'Set UP'!$K44))","v":""},{"$f":"IF('Set UP'!$K44<=0,\"\",H$3*OFFSET(RopeThrow!U44,0,'Set UP'!$K44))","v":""},{"$f":"IF('Set UP'!$K44<=0,\"\",IF(OFFSET('Swim&Tow'!U44,0,2*'Set UP'!$K44)=\"\",\"\",I$3*OFFSET('Swim&Tow'!U44,0,2*'Set UP'!$K44)))","v":""},{"$f":"IF('Set UP'!$K44<=0,\"\",IF(OFFSET(Medley!S44,0,2*'Set UP'!$K44)=\"\",\"\",J$3*OFFSET(Medley!S44,0,2*'Set UP'!$K44)))","v":""},{"$f":"IF('Set UP'!$K44<=0,\"\",IF(OFFSET('Manikin Carry'!S44,0,2*'Set UP'!$K44)=\"\",\"\",K$3*OFFSET('Manikin Carry'!S44,0,2*'Set UP'!$K44)))","v":""},{"$f":"IF('Set UP'!$K44<=0,\"\",IF(OFFSET(Obstacle!S44,0,2*'Set UP'!$K44)=\"\",\"\",L$3*OFFSET(Obstacle!S44,0,2*'Set UP'!$K44)))","v":""},"",{"$f":"IF('Set UP'!K44=1,$M44,\"\")","v":""},null,{"$f":"IF('Set UP'!$K44=2,$M44,\"\")","v":""},null,""]
[null,39,{"$f":"IF(OR('Set UP'!$C45=0,'Set UP'!$D45=0,'Set UP'!$E45=0,'Set UP'!F45=0),\"  --\",'Set UP'!C45)","v":"  --"},{"$f":"IF(OR('Set UP'!$C45=0,'Set UP'!$D45=0,'Set UP'!$E45=0,'Set UP'!F45=0),\"  --\",'Set UP'!D45&\" \"&'Set UP'!E45)","v":"  --"},{"$f":"IF(OR('Set UP'!$C45=0,'Set UP'!$D45=0,'Set UP'!$E45=0,'Set UP'!F45=0),\" --\",'Set UP'!F45)","v":" --"},{"$f":"IF('Set UP'!$K45<=0,\"\",F$3*OFFSET('Wet Incident'!BY47,0,2*'Set UP'!$K45))","v":""},{"$f":"IF('Set UP'!$K45<=0,\"\",G$3*OFFSET('Dry Incident'!BX47,0,2*'Set UP'!$K45))","v":""},{"$f":"IF('Set UP'!$K45<=0,\"\",H$3*OFFSET(RopeThrow!U45,0,'Set UP'!$K45))","v":""},{"$f":"IF('Set UP'!$K45<=0,\"\",IF(OFFSET('Swim&Tow'!U45,0,2*'Set UP'!$K45)=\"\",\"\",I$3*OFFSET('Swim&Tow'!U45,0,2*'Set UP'!$K45)))","v":""},{"$f":"IF('Set UP'!$K45<=0,\"\",IF(OFFSET(Medley!S45,0,2*'Set UP'!$K45)=\"\",\"\",J$3*OFFSET(Medley!S45,0,2*'Set UP'!$K45)))","v":""},{"$f":"IF('Set UP'!$K45<=0,\"\",IF(OFFSET('Manikin Carry'!S45,0,2*'Set UP'!$K45)=\"\",\"\",K$3*OFFSET('Manikin Carry'!S45,0,2*'Set UP'!$K45)))","v":""},{"$f":"IF('Set UP'!$K45<=0,\"\",IF(OFFSET(Obstacle!S45,0,2*'Set UP'!$K45)=\"\",\"\",L$3*OFFSET(Obstacle!S45,0,2*'Set UP'!$K45)))","v":""},"",{"$f":"IF('Set UP'!K45=1,$M45,\"\")","v":""},null,{"$f":"IF('Set UP'!$K45=2,$M45,\"\")","v":""},null,""]
[null,40,{"$f":"IF(OR('Set UP'!$C46=0,'Set UP'!$D46=0,'Set UP'!$E46=0,'Set UP'!F46=0),\"  --\",'Set UP'!C46)","v":"  --"},{"$f":"IF(OR('Set UP'!$C46=0,'Set UP'!$D46=0,'Set UP'!$E46=0,'Set UP'!F46=0),\"  --\",'Set UP'!D46&\" \"&'Set UP'!E46)","v":"  --"},{"$f":"IF(OR('Set UP'!$C46=0,'Set UP'!$D46=0,'Set UP'!$E46=0,'Set UP'!F46=0),\" --\",'Set UP'!F46)","v":" --"},{"$f":"IF('Set UP'!$K46<=0,\"\",F$3*OFFSET('Wet Incident'!BY48,0,2*'Set UP'!$K46))","v":""},{"$f":"IF('Set UP'!$K46<=0,\"\",G$3*OFFSET('Dry Incident'!BX48,0,2*'Set UP'!$K46))","v":""},{"$f":"IF('Set UP'!$K46<=0,\"\",H$3*OFFSET(RopeThrow!U46,0,'Set UP'!$K46))","v":""},{"$f":"IF('Set UP'!$K46<=0,\"\",IF(OFFSET('Swim&Tow'!U46,0,2*'Set UP'!$K46)=\"\",\"\",I$3*OFFSET('Swim&Tow'!U46,0,2*'Set UP'!$K46)))","v":""},{"$f":"IF('Set UP'!$K46<=0,\"\",IF(OFFSET(Medley!S46,0,2*'Set UP'!$K46)=\"\",\"\",J$3*OFFSET(Medley!S46,0,2*'Set UP'!$K46)))","v":""},{"$f":"IF('Set UP'!$K46<=0,\"\",IF(OFFSET('Manikin Carry'!S46,0,2*'Set UP'!$K46)=\"\",\"\",K$3*OFFSET('Manikin Carry'!S46,0,2*'Set UP'!$K46)))","v":""},{"$f":"IF('Set UP'!$K46<=0,\"\",IF(OFFSET(Obstacle!S46,0,2*'Set UP'!$K46)=\"\",\"\",L$3*OFFSET(Obstacle!S46,0,2*'Set UP'!$K46)))","v":""},"",{"$f":"IF('Set UP'!K46=1,$M46,\"\")","v":""},null,{"$f":"IF('Set UP'!$K46=2,$M46,\"\")","v":""},null,""]
[null,null,null,null,null,null,{"$f":"IF('Dry Incident'!$BZ49=\"\",\"\",'Dry Incident'!$BZ49*$G$3)","v":""},null,null,null,null,{"$f":"IF(Obstacle!$U47=\"\",\"\",Obstacle!$U47*$L$3)","v":""},null,{"$f":"IF('Set UP'!K47=1,$M47,\"\")","v":""},null,{"$f":"IF('Set UP'!$K47=1,$M47,\"\")","v":""}]
[null,"Copyright Simon Harrison 2008, Oliver Coleman 2009"]
[null,null,null,"ENSURE ALL THE ROPETHROW SHEET HAS HAD THE POSITIONS UPDATED BEFORE USING THE RESULTS ON THIS SHEET"]